{"text_format":"1","workbook":"xlsx","n_sheets":15,"sheets":["Instructions","Humorous Monologues","HumorousMR","Dramatic","DramaticMR","Classical","ClassicalMR","Contemporary","ContemporaryMR","Pantomime","PantomimeMR","MusicalTheatre","MusicalTheatreMR","One-Acts","Sweepstakes"],"not_rendered":{"charts":0,"images":0,"macros":1,"external_links":0,"defined_names":0,"comments":0,"pivot_tables":0},"unopened":[],"bounds":{"document_bytes":16777216,"sheet_cells":100000,"rows_first":2000,"rows_last":500,"rows_between":2000,"halvings":0,"cell_chars":16384,"cell_head_chars":4096},"cells_cut":0,"cells_raw":0,"read":"whole","date_system":"1900"}

{"sheet":"Instructions","index":0,"n_rows":26,"n_cols":1,"rows_kept":26,"cut":false,"hidden":false,"merged":[]}
["Directions for Using the UHSAA SCORING SPREADSHEET"]
["for Region and State Theatre Meets:"]
[]
["If you have any questions, please email Giselle Gremmert at giselle.gremmert@canyonsdistrict.org"]
["If there is an emergency the day of your meet, feel free to call or text at 785-580-7379"]
[]
["DID YOU ENABLE MACROS WHEN YOU DOWNLOADED THIS SPREADSHEET? IF NOT, CLOSE THE FILE, REOPEN IT, AND SELECT \"ENABLE MACROS\" WHEN IT PROMPTS YOU. YOUR COMPUTER WILL NOT GET A VIRUS. I PROMISE. "]
[]
["·       Each school should be assigned a letter code (ie. A, B, DD, etc…).  You can type in which school belongs to which code on the Sweepstakes page of the score sheet."]
["·       You can type in student names and piece titles next to their assigned number on each of the event pages."]
["·       If a school does not bring a full slate of pieces, just don’t enter titles or scores for the extra pieces.  DO NOT delete that row from the score sheet…it will mess up the formulas."]
["·       As scores come in to the tabulation room, enter their respective rank (1,2,3, or 4) and score (0-75).  The spreadsheet should do all of the math for you from there."]
["·       Once you have all of your scores in and you need to determine which pieces will go to the final medals round, click on the medals round tab at the bottom of the spreadsheet.  There is one for each event.  IF YOU ENABLED MACROS WHEN YOU OPENED THE SHEET, all you have to do is click on the \"sort first by rank, then by score\" button, and the top 5-8 pieces on the table will be eligible for Medals' Round. Once the scores are entered, you can click on the \"Total MR Rank\" drop-down arrow (column K) and click on \"Sort Smallest to Largest\" and the 1st, 2nd and 3rd should go to the top. If there is a tie based on rank alone, score should be used as a tie-breaker. "]
["·       The top two sweepstakes scores will automatically be highlighted on the Sweepstakes tab, so that’s how you will know who your 1st and 2nd Place will be."]
["·       Please note the drop-down menus for time violations.  If a piece goes over or under time, you can just select the number of rounds that occurred in and the spreadsheet will do all the math for you.  It will also strike out any piece that has a time violation in more than 1 round.  This means it is ineligible to move on to State or go to Medals Round."]
["·       PLEASE NOTE: If a school has 4 entries in an event, on the State spreadsheet, the lowest score will automatically be dropped.  You won’t have to do anything.  This feature is not in the Region scoresheet, so make sure you’re using the correct one."]
["·       PLEASE NOTE: There is a separate spreadsheet for 3A-6A schools vs. 1A-2A schools because the total number of points required to qualify for a medal/advance to state is different. If you are using the correct sheet for your classification, each piece's row will automatically be highlighted yellow if they reach the point total needed to receive a medal/advance to State. "]
[]
[]
[]
[]
[]
[]
[]
[]
["Tintic"]

{"sheet":"Humorous Monologues","index":1,"n_rows":152,"n_cols":33,"rows_kept":152,"cut":false,"hidden":false,"merged":[[0,0,0,8]]}
["Humorous Monologues",null,null,null,null,null,null,null,null,null,"Rank 1-4",null,null,null,null,null,null,null,null,null,null,null,null,"S","E","G","F",null,"1violation","2violations","3violations"]
[null,null,null,null,null,null,null,null,null,null,"Round 1:",null,"Round 2:",null,"Round 3:",null,"-2 for each",null,null,null,null,null,null,null,null,null,null,"Drops lowest from column q"]
[null,null,null,null,null,null,null,"Student Name",null,"Title of Piece","R1 rank","R1 score","R2 rank","R2 score","R3 rank","R3 score","Time Violations",null,"TOTAL SCORE",null,"TOTAL RANK",null,null,"TOTAL SCHOOL SWEEPS POINTS",null,null,null,"Drop Lowest"]
["A-101",null,null,null,null,null,null,"(410) Sarah B.",null,"\"Trapped in..\"",2,25,1,23,1,23,null,{"$f":"IF(Q4=\"1violation\",-7*1,IF(Q4=\"2violations\",-7*2,IF(Q4=\"3violations\",-7*3,IF(Q4=\"\",\"\"))))","v":""},{"$f":"SUM(L4,N4,P4,R4)","v":71},null,{"$f":"SUM(K4,M4,O4)","v":4},null,null,null,{"$f":"SUM(S4,S6,S5,S7,-AB4)","v":199},null,null,{"$f":"MIN(S4:S7)","v":50}]
["A-102",null,null,null,null,null,null,"(411) Katrina",null,"\"Ate Them!\"",2,17,4,16,3,17,null,{"$f":"IF(Q5=\"1violation\",-7*1,IF(Q5=\"2violations\",-7*2,IF(Q5=\"3violations\",-7*3,IF(Q5=\"\",\"\"))))","v":""},{"$f":"SUM(L5,N5,P5,R5)","v":50},null,{"$f":"SUM(K5,M5,O5)","v":9}]
["A-103",null,null,null,null,null,null,"(412) Maryam",null,"\"Call Me Dumper\"",4,21,3,18,3,22,null,{"$f":"IF(Q6=\"1violation\",-7*1,IF(Q6=\"2violations\",-7*2,IF(Q6=\"3violations\",-7*3,IF(Q6=\"\",\"\"))))","v":""},{"$f":"SUM(L6,N6,P6,R6)","v":61},null,{"$f":"SUM(K6,M6,O6)","v":10}]
["A-104",null,null,null,null,null,null,"(413) Alex C.F.",null,"\"The Monologue Show From Hell\"",4,24,4,20,2,23,null,"",{"$f":"SUM(L7,N7,P7,R7)","v":67},null,{"$f":"SUM(K7,M7,O7)","v":10}]
[]
["B-101",null,null,null,null,null,null,"(400) Mikayla Reeder",null,"\"Girls Camp\"",null,null,null,null,null,null,null,"",{"$f":"SUM(L9,N9,P9,R9)","v":0},null,{"$f":"SUM(K9,M9,O9)","v":0},null,null,null,{"$f":"SUM(S9,S11,S10,S12,-AB9)","v":140},null,null,{"$f":"MIN(S9:S12)","v":0}]
["B-102",null,null,null,null,null,null,"(401) Elise Sarols",null,"\"Guide Zombies\"",3,25,1,23,1,24,null,"",{"$f":"SUM(L10,N10,P10,R10)","v":72},null,{"$f":"SUM(K10,M10,O10)","v":5}]
["B-103",null,null,null,null,null,null,"(402) Ella Hughs",null,"\"Rindercella\"",2,25,2,22,4,21,null,"",{"$f":"SUM(L11,N11,P11,R11)","v":68},null,{"$f":"SUM(K11,M11,O11)","v":8}]
["B-104",null,null,null,null,null,null,null,null,null,null,null,null,null,null,null,null,"",{"$f":"SUM(L12,N12,P12,R12)","v":0},null,{"$f":"SUM(K12,M12,O12)","v":0}]
[]
["C-101",null,null,null,null,null,null,"(407) Katie Wilson",null,"\"Thre Grabbing Man\"",1,20,1,25,1,24,null,"",{"$f":"SUM(L14,N14,P14,R14)","v":69},null,{"$f":"SUM(K14,M14,O14)","v":3},null,null,null,{"$f":"SUM(S14,S16,S15,S17,-AB14)","v":164},null,null,{"$f":"MIN(S14:S17)","v":0}]
["C-102",null,null,null,null,null,null,"(408) Kaylee Penrod",null,"\"Divorce Papers\"",4,23,3,21,4,14,null,"",{"$f":"SUM(L15,N15,P15,R15)","v":58},null,{"$f":"SUM(K15,M15,O15)","v":11}]
["C-103",null,null,null,null,null,null,"(409) Alayna Saunders",null,"\"Stupid Cookie\"",3,24,4,18,4,16,"3violations",-21,{"$f":"SUM(L16,N16,P16,R16)","v":37},null,{"$f":"SUM(K16,M16,O16)","v":11}]
["C-104",null,null,null,null,null,null,null,null,null,null,null,null,null,null,null,null,"",{"$f":"SUM(L17,N17,P17,R17)","v":0},null,{"$f":"SUM(K17,M17,O17)","v":0}]
[]
["D-101",null,null,null,null,null,null,"(414) Kamryn Sorensen",null,"\"Yar!\"",4,21,4,15,3,18,null,"",{"$f":"SUM(L19,N19,P19,R19)","v":54},null,{"$f":"SUM(K19,M19,O19)","v":11},null,null,null,{"$f":"SUM(S19,S21,S20,S22,-AB19)","v":54},null,null,{"$f":"MIN(S19:S22)","v":0}]
["D-102",null,null,null,null,null,null,null,null,null,null,null,null,null,null,null,null,"",{"$f":"SUM(L20,N20,P20,R20)","v":0},null,{"$f":"SUM(K20,M20,O20)","v":0}]
["D-103",null,null,null,null,null,null,null,null,null,null,null,null,null,null,null,null,"",{"$f":"SUM(L21,N21,P21,R21)","v":0},null,{"$f":"SUM(K21,M21,O21)","v":0}]
["D-104",null,null,null,null,null,null,null,null,null,null,null,null,null,null,null,null,"",{"$f":"SUM(L22,N22,P22,R22)","v":0},null,{"$f":"SUM(K22,M22,O22)","v":0}]
[]
["E-101",null,null,null,null,null,null,"(403) Josh Larmore",null,"\"Street Smarts\"",1,25,2,19,2,21,null,"",{"$f":"SUM(L24,N24,P24,R24)","v":65},null,{"$f":"SUM(K24,M24,O24)","v":5},null,null,null,{"$f":"SUM(S24,S26,S25,S27,-AB24)","v":179},null,null,{"$f":"MIN(S24:S27)","v":0}]
["E-102",null,null,null,null,null,null,"(404) Alex Osterhout",null,"\"Press Secretary\"",1,25,3,20,2,20,null,"",{"$f":"SUM(L25,N25,P25,R25)","v":65},null,{"$f":"SUM(K25,M25,O25)","v":6}]
["E-103",null,null,null,null,null,null,"(405) Steven Whtie",null,"\"Street Smarts\"",null,null,null,null,null,null,null,"",{"$f":"SUM(L26,N26,P26,R26)","v":0},null,{"$f":"SUM(K26,M26,O26)","v":0}]
["E-104",null,null,null,null,null,null,"(406) Ruger Reeves",null,"\"New Bull\"",3,15,2,21,4,13,null,"",{"$f":"SUM(L27,N27,P27,R27)","v":49},null,{"$f":"SUM(K27,M27,O27)","v":9}]
[]
["F-101",null,null,null,null,null,null,"(415) Alyssa Allred",null,"\"Spirit of Christmas\"",4,21,4,19,4,16,null,"",{"$f":"SUM(L29,N29,P29,R29)","v":56},null,{"$f":"SUM(K29,M29,O29)","v":12},null,null,null,{"$f":"SUM(S29,S31,S30,S32,-AB29)","v":56},null,null,{"$f":"MIN(S29:S32)","v":0}]
["F-102",null,null,null,null,null,null,null,null,null,null,null,null,null,null,null,null,"",{"$f":"SUM(L30,N30,P30,R30)","v":0},null,{"$f":"SUM(K30,M30,O30)","v":0}]
["F-103",null,null,null,null,null,null,null,null,null,null,null,null,null,null,null,null,"",{"$f":"SUM(L31,N31,P31,R31)","v":0},null,{"$f":"SUM(K31,M31,O31)","v":0}]
["F-104",null,null,null,null,null,null,null,null,null,null,null,null,null,null,null,null,"",{"$f":"SUM(L32,N32,P32,R32)","v":0},null,{"$f":"SUM(K32,M32,O32)","v":0}]
[null,null,null,null,null,null,null,null,null,null,null,null,null,null,null,null,null,null,null,null,null,null,null,null,null,null,null,null,null,null,null,null,"\\"]
["G-101",null,null,null,null,null,null,null,null,null,null,null,null,null,null,null,null,"",{"$f":"SUM(L34,N34,P34,R34)","v":0},null,{"$f":"SUM(K34,M34,O34)","v":0},null,null,null,{"$f":"SUM(S34,S36,S35,S37,-AB34)","v":0},null,null,{"$f":"MIN(S34:S37)","v":0},null,null,null,null,210]
["G-102",null,null,null,null,null,null,null,null,null,null,null,null,null,null,null,null,"",{"$f":"SUM(L35,N35,P35,R35)","v":0},null,{"$f":"SUM(K35,M35,O35)","v":0}]
["G-103",null,null,null,null,null,null,null,null,null,null,null,null,null,null,null,null,"",{"$f":"SUM(L36,N36,P36,R36)","v":0},null,{"$f":"SUM(K36,M36,O36)","v":0}]
["G-104",null,null,null,null,null,null,null,null,null,null,null,null,null,null,null,null,"",{"$f":"SUM(L37,N37,P37,R37)","v":0},null,{"$f":"SUM(K37,M37,O37)","v":0}]
[]
["H-101",null,null,null,null,null,null,null,null,null,null,null,null,null,null,null,null,"",{"$f":"SUM(L39,N39,P39,R39)","v":0},null,{"$f":"SUM(K39,M39,O39)","v":0},null,null,null,{"$f":"SUM(S39,S41,S40,S42,-AB39)","v":0},null,null,{"$f":"MIN(S39:S42)","v":0}]
["H-102",null,null,null,null,null,null,null,null,null,null,null,null,null,null,null,null,"",{"$f":"SUM(L40,N40,P40,R40)","v":0},null,{"$f":"SUM(K40,M40,O40)","v":0}]
["H-103",null,null,null,null,null,null,null,null,null,null,null,null,null,null,null,null,"",{"$f":"SUM(L41,N41,P41,R41)","v":0},null,{"$f":"SUM(K41,M41,O41)","v":0}]
["H-104",null,null,null,null,null,null,null,null,null,null,null,null,null,null,null,null,"",{"$f":"SUM(L42,N42,P42,R42)","v":0},null,{"$f":"SUM(K42,M42,O42)","v":0}]
[]
["J-101",null,null,null,null,null,null,null,null,null,null,null,null,null,null,null,null,"",{"$f":"SUM(L44,N44,P44,R44)","v":0},null,{"$f":"SUM(K44,M44,O44)","v":0},null,null,null,{"$f":"SUM(S44,S46,S45,S47,-AB44)","v":0},null,null,{"$f":"MIN(S44:S47)","v":0}]
["J-102",null,null,null,null,null,null,null,null,null,null,null,null,null,null,null,null,"",{"$f":"SUM(L45,N45,P45,R45)","v":0},null,{"$f":"SUM(K45,M45,O45)","v":0}]
["J-103",null,null,null,null,null,null,null,null,null,null,null,null,null,null,null,null,"",{"$f":"SUM(L46,N46,P46,R46)","v":0},null,{"$f":"SUM(K46,M46,O46)","v":0}]
["J-104",null,null,null,null,null,null,null,null,null,null,null,null,null,null,null,null,"",{"$f":"SUM(L47,N47,P47,R47)","v":0},null,{"$f":"SUM(K47,M47,O47)","v":0}]
[]
["K-101",null,null,null,null,null,null,null,null,null,null,null,null,null,null,null,null,"",{"$f":"SUM(L49,N49,P49,R49)","v":0},null,{"$f":"SUM(K49,M49,O49)","v":0},null,null,null,{"$f":"SUM(S49,S51,S50,S52,-AB49)","v":0},null,null,{"$f":"MIN(S49:S52)","v":0}]
["K-102",null,null,null,null,null,null,null,null,null,null,null,null,null,null,null,null,"",{"$f":"SUM(L50,N50,P50,R50)","v":0},null,{"$f":"SUM(K50,M50,O50)","v":0}]
["K-103",null,null,null,null,null,null,null,null,null,null,null,null,null,null,null,null,"",{"$f":"SUM(L51,N51,P51,R51)","v":0},null,{"$f":"SUM(K51,M51,O51)","v":0}]
["K-104",null,null,null,null,null,null,null,null,null,null,null,null,null,null,null,null,"",{"$f":"SUM(L52,N52,P52,R52)","v":0},null,{"$f":"SUM(K52,M52,O52)","v":0}]
[]
["L-101",null,null,null,null,null,null,null,null,null,null,null,null,null,null,null,null,"",{"$f":"SUM(L54,N54,P54,R54)","v":0},null,{"$f":"SUM(K54,M54,O54)","v":0},null,null,null,{"$f":"SUM(S54,S56,S55,S57,-AB54)","v":0},null,null,{"$f":"MIN(S54:S57)","v":0}]
["L-102",null,null,null,null,null,null,null,null,null,null,null,null,null,null,null,null,"",{"$f":"SUM(L55,N55,P55,R55)","v":0},null,{"$f":"SUM(K55,M55,O55)","v":0}]
["L-103",null,null,null,null,null,null,null,null,null,null,null,null,null,null,null,null,"",{"$f":"SUM(L56,N56,P56,R56)","v":0},null,{"$f":"SUM(K56,M56,O56)","v":0}]
["L-104",null,null,null,null,null,null,null,null,null,null,null,null,null,null,null,null,"",{"$f":"SUM(L57,N57,P57,R57)","v":0},null,{"$f":"SUM(K57,M57,O57)","v":0}]
[]
["M-101",null,null,null,null,null,null,null,null,null,null,null,null,null,null,null,null,"",{"$f":"SUM(L59,N59,P59,R59)","v":0},null,{"$f":"SUM(K59,M59,O59)","v":0},null,null,null,{"$f":"SUM(S59,S61,S60,S62,-AB59)","v":0},null,null,{"$f":"MIN(S59:S62)","v":0}]
["M-102",null,null,null,null,null,null,null,null,null,null,null,null,null,null,null,null,"",{"$f":"SUM(L60,N60,P60,R60)","v":0},null,{"$f":"SUM(K60,M60,O60)","v":0}]
["M-103",null,null,null,null,null,null,null,null,null,null,null,null,null,null,null,null,"",{"$f":"SUM(L61,N61,P61,R61)","v":0},null,{"$f":"SUM(K61,M61,O61)","v":0}]
["M-104",null,null,null,null,null,null,null,null,null,null,null,null,null,null,null,null,"",{"$f":"SUM(L62,N62,P62,R62)","v":0},null,{"$f":"SUM(K62,M62,O62)","v":0}]
[]
["N-101",null,null,null,null,null,null,null,null,null,null,null,null,null,null,null,null,"",{"$f":"SUM(L64,N64,P64,R64)","v":0},null,{"$f":"SUM(K64,M64,O64)","v":0},null,null,null,{"$f":"SUM(S64,S66,S65,S67,-AB64)","v":0},null,null,{"$f":"MIN(S64:S67)","v":0}]
["N-102",null,null,null,null,null,null,null,null,null,null,null,null,null,null,null,null,"",{"$f":"SUM(L65,N65,P65,R65)","v":0},null,{"$f":"SUM(K65,M65,O65)","v":0}]
["N-103",null,null,null,null,null,null,null,null,null,null,null,null,null,null,null,null,"",{"$f":"SUM(L66,N66,P66,R66)","v":0},null,{"$f":"SUM(K66,M66,O66)","v":0}]
["N-104",null,null,null,null,null,null,null,null,null,null,null,null,null,null,null,null,"",{"$f":"SUM(L67,N67,P67,R67)","v":0},null,{"$f":"SUM(K67,M67,O67)","v":0}]
[]
["P-101",null,null,null,null,null,null,null,null,null,null,null,null,null,null,null,null,{"$f":"IF(Q69=\"1violation\",-7*1,IF(Q69=\"2violations\",-7*2,IF(Q69=\"3violations\",-7*3,IF(Q69=\"\",\"\"))))","v":""},{"$f":"SUM(L69,N69,P69,R69)","v":0},null,{"$f":"SUM(K69,M69,O69)","v":0},null,null,null,{"$f":"SUM(S69,S71,S70,S72,-AB69)","v":0},null,null,{"$f":"MIN(S69:S72)","v":0}]
["P-102",null,null,null,null,null,null,null,null,null,null,null,null,null,null,null,null,"",{"$f":"SUM(L70,N70,P70,R70)","v":0},null,{"$f":"SUM(K70,M70,O70)","v":0}]
["P-103",null,null,null,null,null,null,null,null,null,null,null,null,null,null,null,null,"",{"$f":"SUM(L71,N71,P71,R71)","v":0},null,{"$f":"SUM(K71,M71,O71)","v":0}]
["P-104",null,null,null,null,null,null,null,null,null,null,null,null,null,null,null,null,"",{"$f":"SUM(L72,N72,P72,R72)","v":0},null,{"$f":"SUM(K72,M72,O72)","v":0}]
[]
["Q-101",null,null,null,null,null,null,null,null,null,null,null,null,null,null,null,null,"",{"$f":"SUM(L74,N74,P74,R74)","v":0},null,{"$f":"SUM(K74,M74,O74)","v":0},null,null,null,{"$f":"SUM(S74,S76,S75,S77,-AB74)","v":0},null,null,{"$f":"MIN(S74:S77)","v":0}]
["Q-102",null,null,null,null,null,null,null,null,null,null,null,null,null,null,null,null,"",{"$f":"SUM(L75,N75,P75,R75)","v":0},null,{"$f":"SUM(K75,M75,O75)","v":0}]
["Q-103",null,null,null,null,null,null,null,null,null,null,null,null,null,null,null,null,"",{"$f":"SUM(L76,N76,P76,R76)","v":0},null,{"$f":"SUM(K76,M76,O76)","v":0}]
["Q-104",null,null,null,null,null,null,null,null,null,null,null,null,null,null,null,null,"",{"$f":"SUM(L77,N77,P77,R77)","v":0},null,{"$f":"SUM(K77,M77,O77)","v":0}]
[]
["R-101",null,null,null,null,null,null,null,null,null,null,null,null,null,null,null,null,"",{"$f":"SUM(L79,N79,P79,R79)","v":0},null,{"$f":"SUM(K79,M79,O79)","v":0},null,null,null,{"$f":"SUM(S79,S81,S80,S82,-AB79)","v":0},null,null,{"$f":"MIN(S79:S82)","v":0}]
["R-102",null,null,null,null,null,null,null,null,null,null,null,null,null,null,null,null,"",{"$f":"SUM(L80,N80,P80,R80)","v":0},null,{"$f":"SUM(K80,M80,O80)","v":0}]
["R-103",null,null,null,null,null,null,null,null,null,null,null,null,null,null,null,null,"",{"$f":"SUM(L81,N81,P81,R81)","v":0},null,{"$f":"SUM(K81,M81,O81)","v":0}]
["R-104",null,null,null,null,null,null,null,null,null,null,null,null,null,null,null,null,"",{"$f":"SUM(L82,N82,P82,R82)","v":0},null,{"$f":"SUM(K82,M82,O82)","v":0}]
[]
["S-101",null,null,null,null,null,null,null,null,null,null,null,null,null,null,null,null,"",{"$f":"SUM(L84,N84,P84,R84)","v":0},null,{"$f":"SUM(K84,M84,O84)","v":0},null,null,null,{"$f":"SUM(S84,S86,S85,S87,-AB84)","v":0},null,null,{"$f":"MIN(S84:S87)","v":0}]
["S-102",null,null,null,null,null,null,null,null,null,null,null,null,null,null,null,null,"",{"$f":"SUM(L85,N85,P85,R85)","v":0},null,{"$f":"SUM(K85,M85,O85)","v":0}]
["S-103",null,null,null,null,null,null,null,null,null,null,null,null,null,null,null,null,"",{"$f":"SUM(L86,N86,P86,R86)","v":0},null,{"$f":"SUM(K86,M86,O86)","v":0}]
["S-104",null,null,null,null,null,null,null,null,null,null,null,null,null,null,null,null,"",{"$f":"SUM(L87,N87,P87,R87)","v":0},null,{"$f":"SUM(K87,M87,O87)","v":0}]
[]
["T-101",null,null,null,null,null,null,null,null,null,null,null,null,null,null,null,null,"",{"$f":"SUM(L89,N89,P89,R89)","v":0},null,{"$f":"SUM(K89,M89,O89)","v":0},null,null,null,{"$f":"SUM(S89,S91,S90,S92,-AB89)","v":0},null,null,{"$f":"MIN(S89:S92)","v":0}]
["T-102",null,null,null,null,null,null,null,null,null,null,null,null,null,null,null,null,"",{"$f":"SUM(L90,N90,P90,R90)","v":0},null,{"$f":"SUM(K90,M90,O90)","v":0}]
["T-103",null,null,null,null,null,null,null,null,null,null,null,null,null,null,null,null,"",{"$f":"SUM(L91,N91,P91,R91)","v":0},null,{"$f":"SUM(K91,M91,O91)","v":0}]
["T-104",null,null,null,null,null,null,null,null,null,null,null,null,null,null,null,null,"",{"$f":"SUM(L92,N92,P92,R92)","v":0},null,{"$f":"SUM(K92,M92,O92)","v":0}]
[]
["U-101",null,null,null,null,null,null,null,null,null,null,null,null,null,null,null,null,"",{"$f":"SUM(L94,N94,P94,R94)","v":0},null,{"$f":"SUM(K94,M94,O94)","v":0},null,null,null,{"$f":"SUM(S94,S96,S95,S97,-AB94)","v":0},null,null,{"$f":"MIN(S94:S97)","v":0}]
["U-102",null,null,null,null,null,null,null,null,null,null,null,null,null,null,null,null,"",{"$f":"SUM(L95,N95,P95,R95)","v":0},null,{"$f":"SUM(K95,M95,O95)","v":0}]
["U-103",null,null,null,null,null,null,null,null,null,null,null,null,null,null,null,null,"",{"$f":"SUM(L96,N96,P96,R96)","v":0},null,{"$f":"SUM(K96,M96,O96)","v":0}]
["U-104",null,null,null,null,null,null,null,null,null,null,null,null,null,null,null,null,"",{"$f":"SUM(L97,N97,P97,R97)","v":0},null,{"$f":"SUM(K97,M97,O97)","v":0}]
[]
["V-101",null,null,null,null,null,null,null,null,null,null,null,null,null,null,null,null,"",{"$f":"SUM(L99,N99,P99,R99)","v":0},null,{"$f":"SUM(K99,M99,O99)","v":0},null,null,null,{"$f":"SUM(S99,S101,S100,S102,-AB99)","v":0},null,null,{"$f":"MIN(S99:S102)","v":0}]
["V-102",null,null,null,null,null,null,null,null,null,null,null,null,null,null,null,null,"",{"$f":"SUM(L100,N100,P100,R100)","v":0},null,{"$f":"SUM(K100,M100,O100)","v":0}]
["V-103",null,null,null,null,null,null,null,null,null,null,null,null,null,null,null,null,"",{"$f":"SUM(L101,N101,P101,R101)","v":0},null,{"$f":"SUM(K101,M101,O101)","v":0}]
["V-104",null,null,null,null,null,null,null,null,null,null,null,null,null,null,null,null,"",{"$f":"SUM(L102,N102,P102,R102)","v":0},null,{"$f":"SUM(K102,M102,O102)","v":0}]
[]
["W-101",null,null,null,null,null,null,null,null,null,null,null,null,null,null,null,null,"",{"$f":"SUM(L104,N104,P104,R104)","v":0},null,{"$f":"SUM(K104,M104,O104)","v":0},null,null,null,{"$f":"SUM(S104,S106,S105,S107,-AB104)","v":0},null,null,{"$f":"MIN(S104:S107)","v":0}]
["W-102",null,null,null,null,null,null,null,null,null,null,null,null,null,null,null,null,"",{"$f":"SUM(L105,N105,P105,R105)","v":0},null,{"$f":"SUM(K105,M105,O105)","v":0}]
["W-103",null,null,null,null,null,null,null,null,null,null,null,null,null,null,null,null,"",{"$f":"SUM(L106,N106,P106,R106)","v":0},null,{"$f":"SUM(K106,M106,O106)","v":0}]
["W-104",null,null,null,null,null,null,null,null,null,null,null,null,null,null,null,null,"",{"$f":"SUM(L107,N107,P107,R107)","v":0},null,{"$f":"SUM(K107,M107,O107)","v":0}]
[]
["X-101",null,null,null,null,null,null,null,null,null,null,null,null,null,null,null,null,"",{"$f":"SUM(L109,N109,P109,R109)","v":0},null,{"$f":"SUM(K109,M109,O109)","v":0},null,null,null,{"$f":"SUM(S109,S111,S110,S112,-AB109)","v":0},null,null,{"$f":"MIN(S109:S112)","v":0}]
["X-102",null,null,null,null,null,null,null,null,null,null,null,null,null,null,null,null,"",{"$f":"SUM(L110,N110,P110,R110)","v":0},null,{"$f":"SUM(K110,M110,O110)","v":0}]
["X-103",null,null,null,null,null,null,null,null,null,null,null,null,null,null,null,null,"",{"$f":"SUM(L111,N111,P111,R111)","v":0},null,{"$f":"SUM(K111,M111,O111)","v":0}]
["X-104",null,null,null,null,null,null,null,null,null,null,null,null,null,null,null,null,"",{"$f":"SUM(L112,N112,P112,R112)","v":0},null,{"$f":"SUM(K112,M112,O112)","v":0}]
[]
["Y-101",null,null,null,null,null,null,null,null,null,null,null,null,null,null,null,null,"",{"$f":"SUM(L114,N114,P114,R114)","v":0},null,{"$f":"SUM(K114,M114,O114)","v":0},null,null,null,{"$f":"SUM(S114,S116,S115,S117,-AB114)","v":0},null,null,{"$f":"MIN(S114:S117)","v":0}]
["Y-102",null,null,null,null,null,null,null,null,null,null,null,null,null,null,null,null,"",{"$f":"SUM(L115,N115,P115,R115)","v":0},null,{"$f":"SUM(K115,M115,O115)","v":0}]
["Y-103",null,null,null,null,null,null,null,null,null,null,null,null,null,null,null,null,"",{"$f":"SUM(L116,N116,P116,R116)","v":0},null,{"$f":"SUM(K116,M116,O116)","v":0}]
["Y-104",null,null,null,null,null,null,null,null,null,null,null,null,null,null,null,null,"",{"$f":"SUM(L117,N117,P117,R117)","v":0},null,{"$f":"SUM(K117,M117,O117)","v":0}]
[]
["Z-101",null,null,null,null,null,null,null,null,null,null,null,null,null,null,null,null,"",{"$f":"SUM(L119,N119,P119,R119)","v":0},null,{"$f":"SUM(K119,M119,O119)","v":0},null,null,null,{"$f":"SUM(S119,S121,S120,S122,-AB119)","v":0},null,null,{"$f":"MIN(S119:S122)","v":0}]
["Z-102",null,null,null,null,null,null,null,null,null,null,null,null,null,null,null,null,"",{"$f":"SUM(L120,N120,P120,R120)","v":0},null,{"$f":"SUM(K120,M120,O120)","v":0}]
["Z-103",null,null,null,null,null,null,null,null,null,null,null,null,null,null,null,null,"",{"$f":"SUM(L121,N121,P121,R121)","v":0},null,{"$f":"SUM(K121,M121,O121)","v":0}]
["Z-104",null,null,null,null,null,null,null,null,null,null,null,null,null,null,null,null,"",{"$f":"SUM(L122,N122,P122,R122)","v":0},null,{"$f":"SUM(K122,M122,O122)","v":0}]
[]
["AA-101",null,null,null,null,null,null,null,null,null,null,null,null,null,null,null,null,"",{"$f":"SUM(L124,N124,P124,R124)","v":0},null,{"$f":"SUM(K124,M124,O124)","v":0},null,null,null,{"$f":"SUM(S124,S126,S125,S127,-AB124)","v":0},null,null,{"$f":"MIN(S124:S127)","v":0}]
["AA-102",null,null,null,null,null,null,null,null,null,null,null,null,null,null,null,null,"",{"$f":"SUM(L125,N125,P125,R125)","v":0},null,{"$f":"SUM(K125,M125,O125)","v":0}]
["AA-103",null,null,null,null,null,null,null,null,null,null,null,null,null,null,null,null,"",{"$f":"SUM(L126,N126,P126,R126)","v":0},null,{"$f":"SUM(K126,M126,O126)","v":0}]
["AA-104",null,null,null,null,null,null,null,null,null,null,null,null,null,null,null,null,"",{"$f":"SUM(L127,N127,P127,R127)","v":0},null,{"$f":"SUM(K127,M127,O127)","v":0}]
[]
["BB-101",null,null,null,null,null,null,null,null,null,null,null,null,null,null,null,null,"",{"$f":"SUM(L129,N129,P129,R129)","v":0},null,{"$f":"SUM(K129,M129,O129)","v":0},null,null,null,{"$f":"SUM(S129,S131,S130,S132,-AB129)","v":0},null,null,{"$f":"MIN(S129:S132)","v":0}]
["BB-102",null,null,null,null,null,null,null,null,null,null,null,null,null,null,null,null,"",{"$f":"SUM(L130,N130,P130,R130)","v":0},null,{"$f":"SUM(K130,M130,O130)","v":0}]
["BB-103",null,null,null,null,null,null,null,null,null,null,null,null,null,null,null,null,"",{"$f":"SUM(L131,N131,P131,R131)","v":0},null,{"$f":"SUM(K131,M131,O131)","v":0}]
["BB-104",null,null,null,null,null,null,null,null,null,null,null,null,null,null,null,null,"",{"$f":"SUM(L132,N132,P132,R132)","v":0},null,{"$f":"SUM(K132,M132,O132)","v":0}]
[]
["CC-101",null,null,null,null,null,null,null,null,null,null,null,null,null,null,null,null,{"$f":"IF(Q134=\"1violation\",-7*1,IF(Q134=\"2violations\",-7*2,IF(Q134=\"3violations\",-7*3,IF(Q134=\"\",\"\"))))","v":""},{"$f":"SUM(L134,N134,P134,R134)","v":0},null,{"$f":"SUM(K134,M134,O134)","v":0},null,null,null,{"$f":"SUM(S134,S136,S135,S137,-AB134)","v":0},null,null,{"$f":"MIN(S134:S137)","v":0}]
["CC-102",null,null,null,null,null,null,null,null,null,null,null,null,null,null,null,null,"",{"$f":"SUM(L135,N135,P135,R135)","v":0},null,{"$f":"SUM(K135,M135,O135)","v":0}]
["CC-103",null,null,null,null,null,null,null,null,null,null,null,null,null,null,null,null,"",{"$f":"SUM(L136,N136,P136,R136)","v":0},null,{"$f":"SUM(K136,M136,O136)","v":0}]
["CC-104",null,null,null,null,null,null,null,null,null,null,null,null,null,null,null,null,"",{"$f":"SUM(L137,N137,P137,R137)","v":0},null,{"$f":"SUM(K137,M137,O137)","v":0}]
[]
["DD-101",null,null,null,null,null,null,null,null,null,null,null,null,null,null,null,null,"",{"$f":"SUM(L139,N139,P139,R139)","v":0},null,{"$f":"SUM(K139,M139,O139)","v":0},null,null,null,{"$f":"SUM(S139,S141,S140,S142,-AB139)","v":0},null,null,{"$f":"MIN(S139:S142)","v":0}]
["DD-102",null,null,null,null,null,null,null,null,null,null,null,null,null,null,null,null,"",{"$f":"SUM(L140,N140,P140,R140)","v":0},null,{"$f":"SUM(K140,M140,O140)","v":0}]
["DD-103",null,null,null,null,null,null,null,null,null,null,null,null,null,null,null,null,"",{"$f":"SUM(L141,N141,P141,R141)","v":0},null,{"$f":"SUM(K141,M141,O141)","v":0}]
["DD-104",null,null,null,null,null,null,null,null,null,null,null,null,null,null,null,null,"",{"$f":"SUM(L142,N142,P142,R142)","v":0},null,{"$f":"SUM(K142,M142,O142)","v":0}]
[]
["EE-101",null,null,null,null,null,null,null,null,null,null,null,null,null,null,null,null,"",{"$f":"SUM(L144,N144,P144,R144)","v":0},null,{"$f":"SUM(K144,M144,O144)","v":0},null,null,null,{"$f":"SUM(S144,S146,S145,S147,-AB144)","v":0},null,null,{"$f":"MIN(S144:S147)","v":0}]
["EE-102",null,null,null,null,null,null,null,null,null,null,null,null,null,null,null,null,"",{"$f":"SUM(L145,N145,P145,R145)","v":0},null,{"$f":"SUM(K145,M145,O145)","v":0}]
["EE-103",null,null,null,null,null,null,null,null,null,null,null,null,null,null,null,null,"",{"$f":"SUM(L146,N146,P146,R146)","v":0},null,{"$f":"SUM(K146,M146,O146)","v":0}]
["EE-104",null,null,null,null,null,null,null,null,null,null,null,null,null,null,null,null,"",{"$f":"SUM(L147,N147,P147,R147)","v":0},null,{"$f":"SUM(K147,M147,O147)","v":0}]
[]
["FF-101",null,null,null,null,null,null,null,null,null,null,null,null,null,null,null,null,"",{"$f":"SUM(L149,N149,P149,R149)","v":0},null,{"$f":"SUM(K149,M149,O149)","v":0},null,null,null,{"$f":"SUM(S149,S151,S150,S152,-AB149)","v":0},null,null,{"$f":"MIN(S149:S152)","v":0}]
["FF-102",null,null,null,null,null,null,null,null,null,null,null,null,null,null,null,null,"",{"$f":"SUM(L150,N150,P150,R150)","v":0},null,{"$f":"SUM(K150,M150,O150)","v":0}]
["FF-103",null,null,null,null,null,null,null,null,null,null,null,null,null,null,null,null,"",{"$f":"SUM(L151,N151,P151,R151)","v":0},null,{"$f":"SUM(K151,M151,O151)","v":0}]
["FF-104",null,null,null,null,null,null,null,null,null,null,null,null,null,null,null,null,"",{"$f":"SUM(L152,N152,P152,R152)","v":0},null,{"$f":"SUM(K152,M152,O152)","v":0}]

{"sheet":"HumorousMR","index":2,"n_rows":122,"n_cols":14,"rows_kept":122,"cut":false,"hidden":false,"merged":[]}
["Humorous",null,null,null,null,"Finals Medals Round Scores"]
["ID","Column1","Rank","Score","LeaveBlank","MR 1 Rank","MR 1 Score","MR2 Rank","MR 2 Score","MR3 Rank","MR 3 Score","Total MR Rank","Total MR Score","Column2"]
[{"$f":"'Humorous Monologues'!A14","v":"C-101"},{"$f":"VLOOKUP(Table7[[#This Row],[ID]],'Humorous Monologues'!A:H,8,FALSE)","v":"(407) Katie Wilson"},{"$f":"'Humorous Monologues'!U14","v":3},{"$f":"'Humorous Monologues'!S14","v":69},{"$f":"IF((Table7[[#This Row],[Rank]]+Table7[[#This Row],[Score]])>0,1,0)","v":1},1,25,1,24,2,25,{"$f":"SUM(F3,H3,J3)","v":4},{"$f":"SUM(G3,I3,K3)","v":74},"1st"]
[{"$f":"'Humorous Monologues'!A4","v":"A-101"},{"$f":"VLOOKUP(Table7[[#This Row],[ID]],'Humorous Monologues'!A:H,8,FALSE)","v":"(410) Sarah B."},{"$f":"'Humorous Monologues'!U4","v":4},{"$f":"'Humorous Monologues'!S4","v":71},{"$f":"IF((Table7[[#This Row],[Rank]]+Table7[[#This Row],[Score]])>0,1,0)","v":1},3,24,2,24,3,25,8,73,"2nd"]
[{"$f":"'Humorous Monologues'!A10","v":"B-102"},{"$f":"VLOOKUP(Table7[[#This Row],[ID]],'Humorous Monologues'!A:H,8,FALSE)","v":"(401) Elise Sarols"},{"$f":"'Humorous Monologues'!U10","v":5},{"$f":"'Humorous Monologues'!S10","v":72},{"$f":"IF((Table7[[#This Row],[Rank]]+Table7[[#This Row],[Score]])>0,1,0)","v":1},3,23,4,24,1,25,8,72,"3rd"]
[{"$f":"'Humorous Monologues'!A24","v":"E-101"},{"$f":"VLOOKUP(Table7[[#This Row],[ID]],'Humorous Monologues'!A:H,8,FALSE)","v":"(403) Josh Larmore"},{"$f":"'Humorous Monologues'!U24","v":5},{"$f":"'Humorous Monologues'!S24","v":65},{"$f":"IF((Table7[[#This Row],[Rank]]+Table7[[#This Row],[Score]])>0,1,0)","v":1},5,19,5,22,4,24,14,65]
[{"$f":"'Humorous Monologues'!A25","v":"E-102"},{"$f":"VLOOKUP(Table7[[#This Row],[ID]],'Humorous Monologues'!A:H,8,FALSE)","v":"(404) Alex Osterhout"},{"$f":"'Humorous Monologues'!U25","v":6},{"$f":"'Humorous Monologues'!S25","v":65},{"$f":"IF((Table7[[#This Row],[Rank]]+Table7[[#This Row],[Score]])>0,1,0)","v":1},2,24,4,22,5,23,11,69]
[{"$f":"'Humorous Monologues'!A11","v":"B-103"},{"$f":"VLOOKUP(Table7[[#This Row],[ID]],'Humorous Monologues'!A:H,8,FALSE)","v":"(402) Ella Hughs"},{"$f":"'Humorous Monologues'!U11","v":8},{"$f":"'Humorous Monologues'!S11","v":68},{"$f":"IF((Table7[[#This Row],[Rank]]+Table7[[#This Row],[Score]])>0,1,0)","v":1},null,null,null,null,null,null,0,0]
[{"$f":"'Humorous Monologues'!A5","v":"A-102"},{"$f":"VLOOKUP(Table7[[#This Row],[ID]],'Humorous Monologues'!A:H,8,FALSE)","v":"(411) Katrina"},{"$f":"'Humorous Monologues'!U5","v":9},{"$f":"'Humorous Monologues'!S5","v":50},{"$f":"IF((Table7[[#This Row],[Rank]]+Table7[[#This Row],[Score]])>0,1,0)","v":1},null,null,null,null,null,null,0,0]
[{"$f":"'Humorous Monologues'!A27","v":"E-104"},{"$f":"VLOOKUP(Table7[[#This Row],[ID]],'Humorous Monologues'!A:H,8,FALSE)","v":"(406) Ruger Reeves"},{"$f":"'Humorous Monologues'!U27","v":9},{"$f":"'Humorous Monologues'!S27","v":49},{"$f":"IF((Table7[[#This Row],[Rank]]+Table7[[#This Row],[Score]])>0,1,0)","v":1},null,null,null,null,null,null,0,0]
[{"$f":"'Humorous Monologues'!A7","v":"A-104"},{"$f":"VLOOKUP(Table7[[#This Row],[ID]],'Humorous Monologues'!A:H,8,FALSE)","v":"(413) Alex C.F."},{"$f":"'Humorous Monologues'!U7","v":10},{"$f":"'Humorous Monologues'!S7","v":67},{"$f":"IF((Table7[[#This Row],[Rank]]+Table7[[#This Row],[Score]])>0,1,0)","v":1},null,null,null,null,null,null,0,0]
[{"$f":"'Humorous Monologues'!A6","v":"A-103"},{"$f":"VLOOKUP(Table7[[#This Row],[ID]],'Humorous Monologues'!A:H,8,FALSE)","v":"(412) Maryam"},{"$f":"'Humorous Monologues'!U6","v":10},{"$f":"'Humorous Monologues'!S6","v":61},{"$f":"IF((Table7[[#This Row],[Rank]]+Table7[[#This Row],[Score]])>0,1,0)","v":1},null,null,null,null,null,null,0,0]
[{"$f":"'Humorous Monologues'!A15","v":"C-102"},{"$f":"VLOOKUP(Table7[[#This Row],[ID]],'Humorous Monologues'!A:H,8,FALSE)","v":"(408) Kaylee Penrod"},{"$f":"'Humorous Monologues'!U15","v":11},{"$f":"'Humorous Monologues'!S15","v":58},{"$f":"IF((Table7[[#This Row],[Rank]]+Table7[[#This Row],[Score]])>0,1,0)","v":1},null,null,null,null,null,null,0,0]
[{"$f":"'Humorous Monologues'!A19","v":"D-101"},{"$f":"VLOOKUP(Table7[[#This Row],[ID]],'Humorous Monologues'!A:H,8,FALSE)","v":"(414) Kamryn Sorensen"},{"$f":"'Humorous Monologues'!U19","v":11},{"$f":"'Humorous Monologues'!S19","v":54},{"$f":"IF((Table7[[#This Row],[Rank]]+Table7[[#This Row],[Score]])>0,1,0)","v":1},null,null,null,null,null,null,0,0]
[{"$f":"'Humorous Monologues'!A16","v":"C-103"},{"$f":"VLOOKUP(Table7[[#This Row],[ID]],'Humorous Monologues'!A:H,8,FALSE)","v":"(409) Alayna Saunders"},{"$f":"'Humorous Monologues'!U16","v":11},{"$f":"'Humorous Monologues'!S16","v":37},{"$f":"IF((Table7[[#This Row],[Rank]]+Table7[[#This Row],[Score]])>0,1,0)","v":1},null,null,null,null,null,null,0,0]
[{"$f":"'Humorous Monologues'!A29","v":"F-101"},{"$f":"VLOOKUP(Table7[[#This Row],[ID]],'Humorous Monologues'!A:H,8,FALSE)","v":"(415) Alyssa Allred"},{"$f":"'Humorous Monologues'!U29","v":12},{"$f":"'Humorous Monologues'!S29","v":56},{"$f":"IF((Table7[[#This Row],[Rank]]+Table7[[#This Row],[Score]])>0,1,0)","v":1},null,null,null,null,null,null,0,0]
[{"$f":"'Humorous Monologues'!A26","v":"E-103"},{"$f":"VLOOKUP(Table7[[#This Row],[ID]],'Humorous Monologues'!A:H,8,FALSE)","v":"(405) Steven Whtie"},{"$f":"'Humorous Monologues'!U26","v":0},{"$f":"'Humorous Monologues'!S26","v":0},{"$f":"IF((Table7[[#This Row],[Rank]]+Table7[[#This Row],[Score]])>0,1,0)","v":0},null,null,null,null,null,null,0,0]
[{"$f":"'Humorous Monologues'!A9","v":"B-101"},{"$f":"VLOOKUP(Table7[[#This Row],[ID]],'Humorous Monologues'!A:H,8,FALSE)","v":"(400) Mikayla Reeder"},{"$f":"'Humorous Monologues'!U9","v":0},{"$f":"'Humorous Monologues'!S9","v":0},{"$f":"IF((Table7[[#This Row],[Rank]]+Table7[[#This Row],[Score]])>0,1,0)","v":0},null,null,null,null,null,null,0,0]
[{"$f":"'Humorous Monologues'!A12","v":"B-104"},{"$f":"VLOOKUP(Table7[[#This Row],[ID]],'Humorous Monologues'!A:H,8,FALSE)","v":0},{"$f":"'Humorous Monologues'!U12","v":0},{"$f":"'Humorous Monologues'!S12","v":0},{"$f":"IF((Table7[[#This Row],[Rank]]+Table7[[#This Row],[Score]])>0,1,0)","v":0},null,null,null,null,null,null,0,0]
[{"$f":"'Humorous Monologues'!A124","v":"AA-101"},{"$f":"VLOOKUP(Table7[[#This Row],[ID]],'Humorous Monologues'!A:H,8,FALSE)","v":0},{"$f":"'Humorous Monologues'!U124","v":0},{"$f":"'Humorous Monologues'!S124","v":0},{"$f":"IF((Table7[[#This Row],[Rank]]+Table7[[#This Row],[Score]])>0,1,0)","v":0},null,null,null,null,null,null,0,0]
[{"$f":"'Humorous Monologues'!A125","v":"AA-102"},{"$f":"VLOOKUP(Table7[[#This Row],[ID]],'Humorous Monologues'!A:H,8,FALSE)","v":0},{"$f":"'Humorous Monologues'!U125","v":0},{"$f":"'Humorous Monologues'!S125","v":0},{"$f":"IF((Table7[[#This Row],[Rank]]+Table7[[#This Row],[Score]])>0,1,0)","v":0},null,null,null,null,null,null,0,0]
[{"$f":"'Humorous Monologues'!A126","v":"AA-103"},{"$f":"VLOOKUP(Table7[[#This Row],[ID]],'Humorous Monologues'!A:H,8,FALSE)","v":0},{"$f":"'Humorous Monologues'!U126","v":0},{"$f":"'Humorous Monologues'!S126","v":0},{"$f":"IF((Table7[[#This Row],[Rank]]+Table7[[#This Row],[Score]])>0,1,0)","v":0},null,null,null,null,null,null,0,0]
[{"$f":"'Humorous Monologues'!A127","v":"AA-104"},{"$f":"VLOOKUP(Table7[[#This Row],[ID]],'Humorous Monologues'!A:H,8,FALSE)","v":0},{"$f":"'Humorous Monologues'!U127","v":0},{"$f":"'Humorous Monologues'!S127","v":0},{"$f":"IF((Table7[[#This Row],[Rank]]+Table7[[#This Row],[Score]])>0,1,0)","v":0},null,null,null,null,null,null,0,0]
[{"$f":"'Humorous Monologues'!A129","v":"BB-101"},{"$f":"VLOOKUP(Table7[[#This Row],[ID]],'Humorous Monologues'!A:H,8,FALSE)","v":0},{"$f":"'Humorous Monologues'!U129","v":0},{"$f":"'Humorous Monologues'!S129","v":0},{"$f":"IF((Table7[[#This Row],[Rank]]+Table7[[#This Row],[Score]])>0,1,0)","v":0},null,null,null,null,null,null,0,0]
[{"$f":"'Humorous Monologues'!A130","v":"BB-102"},{"$f":"VLOOKUP(Table7[[#This Row],[ID]],'Humorous Monologues'!A:H,8,FALSE)","v":0},{"$f":"'Humorous Monologues'!U130","v":0},{"$f":"'Humorous Monologues'!S130","v":0},{"$f":"IF((Table7[[#This Row],[Rank]]+Table7[[#This Row],[Score]])>0,1,0)","v":0},null,null,null,null,null,null,0,0]
[{"$f":"'Humorous Monologues'!A131","v":"BB-103"},{"$f":"VLOOKUP(Table7[[#This Row],[ID]],'Humorous Monologues'!A:H,8,FALSE)","v":0},{"$f":"'Humorous Monologues'!U131","v":0},{"$f":"'Humorous Monologues'!S131","v":0},{"$f":"IF((Table7[[#This Row],[Rank]]+Table7[[#This Row],[Score]])>0,1,0)","v":0},null,null,null,null,null,null,0,0]
[{"$f":"'Humorous Monologues'!A132","v":"BB-104"},{"$f":"VLOOKUP(Table7[[#This Row],[ID]],'Humorous Monologues'!A:H,8,FALSE)","v":0},{"$f":"'Humorous Monologues'!U132","v":0},{"$f":"'Humorous Monologues'!S132","v":0},{"$f":"IF((Table7[[#This Row],[Rank]]+Table7[[#This Row],[Score]])>0,1,0)","v":0},null,null,null,null,null,null,0,0]
[{"$f":"'Humorous Monologues'!A17","v":"C-104"},{"$f":"VLOOKUP(Table7[[#This Row],[ID]],'Humorous Monologues'!A:H,8,FALSE)","v":0},{"$f":"'Humorous Monologues'!U17","v":0},{"$f":"'Humorous Monologues'!S17","v":0},{"$f":"IF((Table7[[#This Row],[Rank]]+Table7[[#This Row],[Score]])>0,1,0)","v":0},null,null,null,null,null,null,0,0]
[{"$f":"'Humorous Monologues'!A134","v":"CC-101"},{"$f":"VLOOKUP(Table7[[#This Row],[ID]],'Humorous Monologues'!A:H,8,FALSE)","v":0},{"$f":"'Humorous Monologues'!U134","v":0},{"$f":"'Humorous Monologues'!S134","v":0},{"$f":"IF((Table7[[#This Row],[Rank]]+Table7[[#This Row],[Score]])>0,1,0)","v":0},null,null,null,null,null,null,0,0]
[{"$f":"'Humorous Monologues'!A135","v":"CC-102"},{"$f":"VLOOKUP(Table7[[#This Row],[ID]],'Humorous Monologues'!A:H,8,FALSE)","v":0},{"$f":"'Humorous Monologues'!U135","v":0},{"$f":"'Humorous Monologues'!S135","v":0},{"$f":"IF((Table7[[#This Row],[Rank]]+Table7[[#This Row],[Score]])>0,1,0)","v":0},null,null,null,null,null,null,0,0]
[{"$f":"'Humorous Monologues'!A136","v":"CC-103"},{"$f":"VLOOKUP(Table7[[#This Row],[ID]],'Humorous Monologues'!A:H,8,FALSE)","v":0},{"$f":"'Humorous Monologues'!U136","v":0},{"$f":"'Humorous Monologues'!S136","v":0},{"$f":"IF((Table7[[#This Row],[Rank]]+Table7[[#This Row],[Score]])>0,1,0)","v":0},null,null,null,null,null,null,0,0]
[{"$f":"'Humorous Monologues'!A137","v":"CC-104"},{"$f":"VLOOKUP(Table7[[#This Row],[ID]],'Humorous Monologues'!A:H,8,FALSE)","v":0},{"$f":"'Humorous Monologues'!U137","v":0},{"$f":"'Humorous Monologues'!S137","v":0},{"$f":"IF((Table7[[#This Row],[Rank]]+Table7[[#This Row],[Score]])>0,1,0)","v":0},null,null,null,null,null,null,0,0]
[{"$f":"'Humorous Monologues'!A20","v":"D-102"},{"$f":"VLOOKUP(Table7[[#This Row],[ID]],'Humorous Monologues'!A:H,8,FALSE)","v":0},{"$f":"'Humorous Monologues'!U20","v":0},{"$f":"'Humorous Monologues'!S20","v":0},{"$f":"IF((Table7[[#This Row],[Rank]]+Table7[[#This Row],[Score]])>0,1,0)","v":0},null,null,null,null,null,null,0,0]
[{"$f":"'Humorous Monologues'!A21","v":"D-103"},{"$f":"VLOOKUP(Table7[[#This Row],[ID]],'Humorous Monologues'!A:H,8,FALSE)","v":0},{"$f":"'Humorous Monologues'!U21","v":0},{"$f":"'Humorous Monologues'!S21","v":0},{"$f":"IF((Table7[[#This Row],[Rank]]+Table7[[#This Row],[Score]])>0,1,0)","v":0},null,null,null,null,null,null,0,0]
[{"$f":"'Humorous Monologues'!A22","v":"D-104"},{"$f":"VLOOKUP(Table7[[#This Row],[ID]],'Humorous Monologues'!A:H,8,FALSE)","v":0},{"$f":"'Humorous Monologues'!U22","v":0},{"$f":"'Humorous Monologues'!S22","v":0},{"$f":"IF((Table7[[#This Row],[Rank]]+Table7[[#This Row],[Score]])>0,1,0)","v":0},null,null,null,null,null,null,{"$f":"SUM(F35,H35,J35)","v":0},{"$f":"SUM(G35,I35,K35)","v":0}]
[{"$f":"'Humorous Monologues'!A139","v":"DD-101"},{"$f":"VLOOKUP(Table7[[#This Row],[ID]],'Humorous Monologues'!A:H,8,FALSE)","v":0},{"$f":"'Humorous Monologues'!U139","v":0},{"$f":"'Humorous Monologues'!S139","v":0},{"$f":"IF((Table7[[#This Row],[Rank]]+Table7[[#This Row],[Score]])>0,1,0)","v":0},null,null,null,null,null,null,0,0]
[{"$f":"'Humorous Monologues'!A140","v":"DD-102"},{"$f":"VLOOKUP(Table7[[#This Row],[ID]],'Humorous Monologues'!A:H,8,FALSE)","v":0},{"$f":"'Humorous Monologues'!U140","v":0},{"$f":"'Humorous Monologues'!S140","v":0},{"$f":"IF((Table7[[#This Row],[Rank]]+Table7[[#This Row],[Score]])>0,1,0)","v":0},null,null,null,null,null,null,0,0]
[{"$f":"'Humorous Monologues'!A141","v":"DD-103"},{"$f":"VLOOKUP(Table7[[#This Row],[ID]],'Humorous Monologues'!A:H,8,FALSE)","v":0},{"$f":"'Humorous Monologues'!U141","v":0},{"$f":"'Humorous Monologues'!S141","v":0},{"$f":"IF((Table7[[#This Row],[Rank]]+Table7[[#This Row],[Score]])>0,1,0)","v":0},null,null,null,null,null,null,0,0]
[{"$f":"'Humorous Monologues'!A142","v":"DD-104"},{"$f":"VLOOKUP(Table7[[#This Row],[ID]],'Humorous Monologues'!A:H,8,FALSE)","v":0},{"$f":"'Humorous Monologues'!U142","v":0},{"$f":"'Humorous Monologues'!S142","v":0},{"$f":"IF((Table7[[#This Row],[Rank]]+Table7[[#This Row],[Score]])>0,1,0)","v":0},null,null,null,null,null,null,0,0]
[{"$f":"'Humorous Monologues'!A144","v":"EE-101"},{"$f":"VLOOKUP(Table7[[#This Row],[ID]],'Humorous Monologues'!A:H,8,FALSE)","v":0},{"$f":"'Humorous Monologues'!U144","v":0},{"$f":"'Humorous Monologues'!S144","v":0},{"$f":"IF((Table7[[#This Row],[Rank]]+Table7[[#This Row],[Score]])>0,1,0)","v":0},null,null,null,null,null,null,0,0]
[{"$f":"'Humorous Monologues'!A145","v":"EE-102"},{"$f":"VLOOKUP(Table7[[#This Row],[ID]],'Humorous Monologues'!A:H,8,FALSE)","v":0},{"$f":"'Humorous Monologues'!U145","v":0},{"$f":"'Humorous Monologues'!S145","v":0},{"$f":"IF((Table7[[#This Row],[Rank]]+Table7[[#This Row],[Score]])>0,1,0)","v":0},null,null,null,null,null,null,0,0]
[{"$f":"'Humorous Monologues'!A146","v":"EE-103"},{"$f":"VLOOKUP(Table7[[#This Row],[ID]],'Humorous Monologues'!A:H,8,FALSE)","v":0},{"$f":"'Humorous Monologues'!U146","v":0},{"$f":"'Humorous Monologues'!S146","v":0},{"$f":"IF((Table7[[#This Row],[Rank]]+Table7[[#This Row],[Score]])>0,1,0)","v":0},null,null,null,null,null,null,0,0]
[{"$f":"'Humorous Monologues'!A147","v":"EE-104"},{"$f":"VLOOKUP(Table7[[#This Row],[ID]],'Humorous Monologues'!A:H,8,FALSE)","v":0},{"$f":"'Humorous Monologues'!U147","v":0},{"$f":"'Humorous Monologues'!S147","v":0},{"$f":"IF((Table7[[#This Row],[Rank]]+Table7[[#This Row],[Score]])>0,1,0)","v":0},null,null,null,null,null,null,0,0]
[{"$f":"'Humorous Monologues'!A30","v":"F-102"},{"$f":"VLOOKUP(Table7[[#This Row],[ID]],'Humorous Monologues'!A:H,8,FALSE)","v":0},{"$f":"'Humorous Monologues'!U30","v":0},{"$f":"'Humorous Monologues'!S30","v":0},{"$f":"IF((Table7[[#This Row],[Rank]]+Table7[[#This Row],[Score]])>0,1,0)","v":0},null,null,null,null,null,null,0,0]
[{"$f":"'Humorous Monologues'!A31","v":"F-103"},{"$f":"VLOOKUP(Table7[[#This Row],[ID]],'Humorous Monologues'!A:H,8,FALSE)","v":0},{"$f":"'Humorous Monologues'!U31","v":0},{"$f":"'Humorous Monologues'!S31","v":0},{"$f":"IF((Table7[[#This Row],[Rank]]+Table7[[#This Row],[Score]])>0,1,0)","v":0},null,null,null,null,null,null,0,0]
[{"$f":"'Humorous Monologues'!A32","v":"F-104"},{"$f":"VLOOKUP(Table7[[#This Row],[ID]],'Humorous Monologues'!A:H,8,FALSE)","v":0},{"$f":"'Humorous Monologues'!U32","v":0},{"$f":"'Humorous Monologues'!S32","v":0},{"$f":"IF((Table7[[#This Row],[Rank]]+Table7[[#This Row],[Score]])>0,1,0)","v":0},null,null,null,null,null,null,0,0]
[{"$f":"'Humorous Monologues'!A149","v":"FF-101"},{"$f":"VLOOKUP(Table7[[#This Row],[ID]],'Humorous Monologues'!A:H,8,FALSE)","v":0},{"$f":"'Humorous Monologues'!U149","v":0},{"$f":"'Humorous Monologues'!S149","v":0},{"$f":"IF((Table7[[#This Row],[Rank]]+Table7[[#This Row],[Score]])>0,1,0)","v":0},null,null,null,null,null,null,0,0]
[{"$f":"'Humorous Monologues'!A150","v":"FF-102"},{"$f":"VLOOKUP(Table7[[#This Row],[ID]],'Humorous Monologues'!A:H,8,FALSE)","v":0},{"$f":"'Humorous Monologues'!U150","v":0},{"$f":"'Humorous Monologues'!S150","v":0},{"$f":"IF((Table7[[#This Row],[Rank]]+Table7[[#This Row],[Score]])>0,1,0)","v":0},null,null,null,null,null,null,0,0]
[{"$f":"'Humorous Monologues'!A151","v":"FF-103"},{"$f":"VLOOKUP(Table7[[#This Row],[ID]],'Humorous Monologues'!A:H,8,FALSE)","v":0},{"$f":"'Humorous Monologues'!U151","v":0},{"$f":"'Humorous Monologues'!S151","v":0},{"$f":"IF((Table7[[#This Row],[Rank]]+Table7[[#This Row],[Score]])>0,1,0)","v":0},null,null,null,null,null,null,0,0]
[{"$f":"'Humorous Monologues'!A152","v":"FF-104"},{"$f":"VLOOKUP(Table7[[#This Row],[ID]],'Humorous Monologues'!A:H,8,FALSE)","v":0},{"$f":"'Humorous Monologues'!U152","v":0},{"$f":"'Humorous Monologues'!S152","v":0},{"$f":"IF((Table7[[#This Row],[Rank]]+Table7[[#This Row],[Score]])>0,1,0)","v":0},null,null,null,null,null,null,0,0]
[{"$f":"'Humorous Monologues'!A34","v":"G-101"},{"$f":"VLOOKUP(Table7[[#This Row],[ID]],'Humorous Monologues'!A:H,8,FALSE)","v":0},{"$f":"'Humorous Monologues'!U34","v":0},{"$f":"'Humorous Monologues'!S34","v":0},{"$f":"IF((Table7[[#This Row],[Rank]]+Table7[[#This Row],[Score]])>0,1,0)","v":0},null,null,null,null,null,null,0,0]
[{"$f":"'Humorous Monologues'!A35","v":"G-102"},{"$f":"VLOOKUP(Table7[[#This Row],[ID]],'Humorous Monologues'!A:H,8,FALSE)","v":0},{"$f":"'Humorous Monologues'!U35","v":0},{"$f":"'Humorous Monologues'!S35","v":0},{"$f":"IF((Table7[[#This Row],[Rank]]+Table7[[#This Row],[Score]])>0,1,0)","v":0},null,null,null,null,null,null,0,0]
[{"$f":"'Humorous Monologues'!A36","v":"G-103"},{"$f":"VLOOKUP(Table7[[#This Row],[ID]],'Humorous Monologues'!A:H,8,FALSE)","v":0},{"$f":"'Humorous Monologues'!U36","v":0},{"$f":"'Humorous Monologues'!S36","v":0},{"$f":"IF((Table7[[#This Row],[Rank]]+Table7[[#This Row],[Score]])>0,1,0)","v":0},null,null,null,null,null,null,0,0]
[{"$f":"'Humorous Monologues'!A37","v":"G-104"},{"$f":"VLOOKUP(Table7[[#This Row],[ID]],'Humorous Monologues'!A:H,8,FALSE)","v":0},{"$f":"'Humorous Monologues'!U37","v":0},{"$f":"'Humorous Monologues'!S37","v":0},{"$f":"IF((Table7[[#This Row],[Rank]]+Table7[[#This Row],[Score]])>0,1,0)","v":0},null,null,null,null,null,null,0,0]
[{"$f":"'Humorous Monologues'!A39","v":"H-101"},{"$f":"VLOOKUP(Table7[[#This Row],[ID]],'Humorous Monologues'!A:H,8,FALSE)","v":0},{"$f":"'Humorous Monologues'!U39","v":0},{"$f":"'Humorous Monologues'!S39","v":0},{"$f":"IF((Table7[[#This Row],[Rank]]+Table7[[#This Row],[Score]])>0,1,0)","v":0},null,null,null,null,null,null,0,0]
[{"$f":"'Humorous Monologues'!A40","v":"H-102"},{"$f":"VLOOKUP(Table7[[#This Row],[ID]],'Humorous Monologues'!A:H,8,FALSE)","v":0},{"$f":"'Humorous Monologues'!U40","v":0},{"$f":"'Humorous Monologues'!S40","v":0},{"$f":"IF((Table7[[#This Row],[Rank]]+Table7[[#This Row],[Score]])>0,1,0)","v":0},null,null,null,null,null,null,0,0]
[{"$f":"'Humorous Monologues'!A41","v":"H-103"},{"$f":"VLOOKUP(Table7[[#This Row],[ID]],'Humorous Monologues'!A:H,8,FALSE)","v":0},{"$f":"'Humorous Monologues'!U41","v":0},{"$f":"'Humorous Monologues'!S41","v":0},{"$f":"IF((Table7[[#This Row],[Rank]]+Table7[[#This Row],[Score]])>0,1,0)","v":0},null,null,null,null,null,null,0,0]
[{"$f":"'Humorous Monologues'!A42","v":"H-104"},{"$f":"VLOOKUP(Table7[[#This Row],[ID]],'Humorous Monologues'!A:H,8,FALSE)","v":0},{"$f":"'Humorous Monologues'!U42","v":0},{"$f":"'Humorous Monologues'!S42","v":0},{"$f":"IF((Table7[[#This Row],[Rank]]+Table7[[#This Row],[Score]])>0,1,0)","v":0},null,null,null,null,null,null,0,0]
[{"$f":"'Humorous Monologues'!A44","v":"J-101"},{"$f":"VLOOKUP(Table7[[#This Row],[ID]],'Humorous Monologues'!A:H,8,FALSE)","v":0},{"$f":"'Humorous Monologues'!U44","v":0},{"$f":"'Humorous Monologues'!S44","v":0},{"$f":"IF((Table7[[#This Row],[Rank]]+Table7[[#This Row],[Score]])>0,1,0)","v":0},null,null,null,null,null,null,0,0]
[{"$f":"'Humorous Monologues'!A45","v":"J-102"},{"$f":"VLOOKUP(Table7[[#This Row],[ID]],'Humorous Monologues'!A:H,8,FALSE)","v":0},{"$f":"'Humorous Monologues'!U45","v":0},{"$f":"'Humorous Monologues'!S45","v":0},{"$f":"IF((Table7[[#This Row],[Rank]]+Table7[[#This Row],[Score]])>0,1,0)","v":0},null,null,null,null,null,null,0,0]
[{"$f":"'Humorous Monologues'!A46","v":"J-103"},{"$f":"VLOOKUP(Table7[[#This Row],[ID]],'Humorous Monologues'!A:H,8,FALSE)","v":0},{"$f":"'Humorous Monologues'!U46","v":0},{"$f":"'Humorous Monologues'!S46","v":0},{"$f":"IF((Table7[[#This Row],[Rank]]+Table7[[#This Row],[Score]])>0,1,0)","v":0},null,null,null,null,null,null,0,0]
[{"$f":"'Humorous Monologues'!A47","v":"J-104"},{"$f":"VLOOKUP(Table7[[#This Row],[ID]],'Humorous Monologues'!A:H,8,FALSE)","v":0},{"$f":"'Humorous Monologues'!U47","v":0},{"$f":"'Humorous Monologues'!S47","v":0},{"$f":"IF((Table7[[#This Row],[Rank]]+Table7[[#This Row],[Score]])>0,1,0)","v":0},null,null,null,null,null,null,0,0]
[{"$f":"'Humorous Monologues'!A49","v":"K-101"},{"$f":"VLOOKUP(Table7[[#This Row],[ID]],'Humorous Monologues'!A:H,8,FALSE)","v":0},{"$f":"'Humorous Monologues'!U49","v":0},{"$f":"'Humorous Monologues'!S49","v":0},{"$f":"IF((Table7[[#This Row],[Rank]]+Table7[[#This Row],[Score]])>0,1,0)","v":0},null,null,null,null,null,null,0,0]
[{"$f":"'Humorous Monologues'!A50","v":"K-102"},{"$f":"VLOOKUP(Table7[[#This Row],[ID]],'Humorous Monologues'!A:H,8,FALSE)","v":0},{"$f":"'Humorous Monologues'!U50","v":0},{"$f":"'Humorous Monologues'!S50","v":0},{"$f":"IF((Table7[[#This Row],[Rank]]+Table7[[#This Row],[Score]])>0,1,0)","v":0},null,null,null,null,null,null,0,0]
[{"$f":"'Humorous Monologues'!A51","v":"K-103"},{"$f":"VLOOKUP(Table7[[#This Row],[ID]],'Humorous Monologues'!A:H,8,FALSE)","v":0},{"$f":"'Humorous Monologues'!U51","v":0},{"$f":"'Humorous Monologues'!S51","v":0},{"$f":"IF((Table7[[#This Row],[Rank]]+Table7[[#This Row],[Score]])>0,1,0)","v":0},null,null,null,null,null,null,0,0]
[{"$f":"'Humorous Monologues'!A52","v":"K-104"},{"$f":"VLOOKUP(Table7[[#This Row],[ID]],'Humorous Monologues'!A:H,8,FALSE)","v":0},{"$f":"'Humorous Monologues'!U52","v":0},{"$f":"'Humorous Monologues'!S52","v":0},{"$f":"IF((Table7[[#This Row],[Rank]]+Table7[[#This Row],[Score]])>0,1,0)","v":0},null,null,null,null,null,null,0,0]
[{"$f":"'Humorous Monologues'!A54","v":"L-101"},{"$f":"VLOOKUP(Table7[[#This Row],[ID]],'Humorous Monologues'!A:H,8,FALSE)","v":0},{"$f":"'Humorous Monologues'!U54","v":0},{"$f":"'Humorous Monologues'!S54","v":0},{"$f":"IF((Table7[[#This Row],[Rank]]+Table7[[#This Row],[Score]])>0,1,0)","v":0},null,null,null,null,null,null,{"$f":"SUM(F67,H67,J67)","v":0},{"$f":"SUM(G67,I67,K67)","v":0}]
[{"$f":"'Humorous Monologues'!A55","v":"L-102"},{"$f":"VLOOKUP(Table7[[#This Row],[ID]],'Humorous Monologues'!A:H,8,FALSE)","v":0},{"$f":"'Humorous Monologues'!U55","v":0},{"$f":"'Humorous Monologues'!S55","v":0},{"$f":"IF((Table7[[#This Row],[Rank]]+Table7[[#This Row],[Score]])>0,1,0)","v":0},null,null,null,null,null,null,0,0]
[{"$f":"'Humorous Monologues'!A56","v":"L-103"},{"$f":"VLOOKUP(Table7[[#This Row],[ID]],'Humorous Monologues'!A:H,8,FALSE)","v":0},{"$f":"'Humorous Monologues'!U56","v":0},{"$f":"'Humorous Monologues'!S56","v":0},{"$f":"IF((Table7[[#This Row],[Rank]]+Table7[[#This Row],[Score]])>0,1,0)","v":0},null,null,null,null,null,null,0,0]
[{"$f":"'Humorous Monologues'!A57","v":"L-104"},{"$f":"VLOOKUP(Table7[[#This Row],[ID]],'Humorous Monologues'!A:H,8,FALSE)","v":0},{"$f":"'Humorous Monologues'!U57","v":0},{"$f":"'Humorous Monologues'!S57","v":0},{"$f":"IF((Table7[[#This Row],[Rank]]+Table7[[#This Row],[Score]])>0,1,0)","v":0},null,null,null,null,null,null,0,0]
[{"$f":"'Humorous Monologues'!A59","v":"M-101"},{"$f":"VLOOKUP(Table7[[#This Row],[ID]],'Humorous Monologues'!A:H,8,FALSE)","v":0},{"$f":"'Humorous Monologues'!U59","v":0},{"$f":"'Humorous Monologues'!S59","v":0},{"$f":"IF((Table7[[#This Row],[Rank]]+Table7[[#This Row],[Score]])>0,1,0)","v":0},null,null,null,null,null,null,0,0]
[{"$f":"'Humorous Monologues'!A60","v":"M-102"},{"$f":"VLOOKUP(Table7[[#This Row],[ID]],'Humorous Monologues'!A:H,8,FALSE)","v":0},{"$f":"'Humorous Monologues'!U60","v":0},{"$f":"'Humorous Monologues'!S60","v":0},{"$f":"IF((Table7[[#This Row],[Rank]]+Table7[[#This Row],[Score]])>0,1,0)","v":0},null,null,null,null,null,null,0,0]
[{"$f":"'Humorous Monologues'!A61","v":"M-103"},{"$f":"VLOOKUP(Table7[[#This Row],[ID]],'Humorous Monologues'!A:H,8,FALSE)","v":0},{"$f":"'Humorous Monologues'!U61","v":0},{"$f":"'Humorous Monologues'!S61","v":0},{"$f":"IF((Table7[[#This Row],[Rank]]+Table7[[#This Row],[Score]])>0,1,0)","v":0},null,null,null,null,null,null,0,0]
[{"$f":"'Humorous Monologues'!A62","v":"M-104"},{"$f":"VLOOKUP(Table7[[#This Row],[ID]],'Humorous Monologues'!A:H,8,FALSE)","v":0},{"$f":"'Humorous Monologues'!U62","v":0},{"$f":"'Humorous Monologues'!S62","v":0},{"$f":"IF((Table7[[#This Row],[Rank]]+Table7[[#This Row],[Score]])>0,1,0)","v":0},null,null,null,null,null,null,0,0]
[{"$f":"'Humorous Monologues'!A64","v":"N-101"},{"$f":"VLOOKUP(Table7[[#This Row],[ID]],'Humorous Monologues'!A:H,8,FALSE)","v":0},{"$f":"'Humorous Monologues'!U64","v":0},{"$f":"'Humorous Monologues'!S64","v":0},{"$f":"IF((Table7[[#This Row],[Rank]]+Table7[[#This Row],[Score]])>0,1,0)","v":0},null,null,null,null,null,null,0,0]
[{"$f":"'Humorous Monologues'!A65","v":"N-102"},{"$f":"VLOOKUP(Table7[[#This Row],[ID]],'Humorous Monologues'!A:H,8,FALSE)","v":0},{"$f":"'Humorous Monologues'!U65","v":0},{"$f":"'Humorous Monologues'!S65","v":0},{"$f":"IF((Table7[[#This Row],[Rank]]+Table7[[#This Row],[Score]])>0,1,0)","v":0},null,null,null,null,null,null,0,0]
[{"$f":"'Humorous Monologues'!A66","v":"N-103"},{"$f":"VLOOKUP(Table7[[#This Row],[ID]],'Humorous Monologues'!A:H,8,FALSE)","v":0},{"$f":"'Humorous Monologues'!U66","v":0},{"$f":"'Humorous Monologues'!S66","v":0},{"$f":"IF((Table7[[#This Row],[Rank]]+Table7[[#This Row],[Score]])>0,1,0)","v":0},null,null,null,null,null,null,0,0]
[{"$f":"'Humorous Monologues'!A67","v":"N-104"},{"$f":"VLOOKUP(Table7[[#This Row],[ID]],'Humorous Monologues'!A:H,8,FALSE)","v":0},{"$f":"'Humorous Monologues'!U67","v":0},{"$f":"'Humorous Monologues'!S67","v":0},{"$f":"IF((Table7[[#This Row],[Rank]]+Table7[[#This Row],[Score]])>0,1,0)","v":0},null,null,null,null,null,null,0,0]
[{"$f":"'Humorous Monologues'!A69","v":"P-101"},{"$f":"VLOOKUP(Table7[[#This Row],[ID]],'Humorous Monologues'!A:H,8,FALSE)","v":0},{"$f":"'Humorous Monologues'!U69","v":0},{"$f":"'Humorous Monologues'!S69","v":0},{"$f":"IF((Table7[[#This Row],[Rank]]+Table7[[#This Row],[Score]])>0,1,0)","v":0},null,null,null,null,null,null,0,0]
[{"$f":"'Humorous Monologues'!A70","v":"P-102"},{"$f":"VLOOKUP(Table7[[#This Row],[ID]],'Humorous Monologues'!A:H,8,FALSE)","v":0},{"$f":"'Humorous Monologues'!U70","v":0},{"$f":"'Humorous Monologues'!S70","v":0},{"$f":"IF((Table7[[#This Row],[Rank]]+Table7[[#This Row],[Score]])>0,1,0)","v":0},null,null,null,null,null,null,0,0]
[{"$f":"'Humorous Monologues'!A71","v":"P-103"},{"$f":"VLOOKUP(Table7[[#This Row],[ID]],'Humorous Monologues'!A:H,8,FALSE)","v":0},{"$f":"'Humorous Monologues'!U71","v":0},{"$f":"'Humorous Monologues'!S71","v":0},{"$f":"IF((Table7[[#This Row],[Rank]]+Table7[[#This Row],[Score]])>0,1,0)","v":0},null,null,null,null,null,null,0,0]
[{"$f":"'Humorous Monologues'!A72","v":"P-104"},{"$f":"VLOOKUP(Table7[[#This Row],[ID]],'Humorous Monologues'!A:H,8,FALSE)","v":0},{"$f":"'Humorous Monologues'!U72","v":0},{"$f":"'Humorous Monologues'!S72","v":0},{"$f":"IF((Table7[[#This Row],[Rank]]+Table7[[#This Row],[Score]])>0,1,0)","v":0},null,null,null,null,null,null,0,0]
[{"$f":"'Humorous Monologues'!A74","v":"Q-101"},{"$f":"VLOOKUP(Table7[[#This Row],[ID]],'Humorous Monologues'!A:H,8,FALSE)","v":0},{"$f":"'Humorous Monologues'!U74","v":0},{"$f":"'Humorous Monologues'!S74","v":0},{"$f":"IF((Table7[[#This Row],[Rank]]+Table7[[#This Row],[Score]])>0,1,0)","v":0},null,null,null,null,null,null,0,0]
[{"$f":"'Humorous Monologues'!A75","v":"Q-102"},{"$f":"VLOOKUP(Table7[[#This Row],[ID]],'Humorous Monologues'!A:H,8,FALSE)","v":0},{"$f":"'Humorous Monologues'!U75","v":0},{"$f":"'Humorous Monologues'!S75","v":0},{"$f":"IF((Table7[[#This Row],[Rank]]+Table7[[#This Row],[Score]])>0,1,0)","v":0},null,null,null,null,null,null,0,0]
[{"$f":"'Humorous Monologues'!A76","v":"Q-103"},{"$f":"VLOOKUP(Table7[[#This Row],[ID]],'Humorous Monologues'!A:H,8,FALSE)","v":0},{"$f":"'Humorous Monologues'!U76","v":0},{"$f":"'Humorous Monologues'!S76","v":0},{"$f":"IF((Table7[[#This Row],[Rank]]+Table7[[#This Row],[Score]])>0,1,0)","v":0},null,null,null,null,null,null,0,0]
[{"$f":"'Humorous Monologues'!A77","v":"Q-104"},{"$f":"VLOOKUP(Table7[[#This Row],[ID]],'Humorous Monologues'!A:H,8,FALSE)","v":0},{"$f":"'Humorous Monologues'!U77","v":0},{"$f":"'Humorous Monologues'!S77","v":0},{"$f":"IF((Table7[[#This Row],[Rank]]+Table7[[#This Row],[Score]])>0,1,0)","v":0},null,null,null,null,null,null,0,0]
[{"$f":"'Humorous Monologues'!A79","v":"R-101"},{"$f":"VLOOKUP(Table7[[#This Row],[ID]],'Humorous Monologues'!A:H,8,FALSE)","v":0},{"$f":"'Humorous Monologues'!U79","v":0},{"$f":"'Humorous Monologues'!S79","v":0},{"$f":"IF((Table7[[#This Row],[Rank]]+Table7[[#This Row],[Score]])>0,1,0)","v":0},null,null,null,null,null,null,0,0]
[{"$f":"'Humorous Monologues'!A80","v":"R-102"},{"$f":"VLOOKUP(Table7[[#This Row],[ID]],'Humorous Monologues'!A:H,8,FALSE)","v":0},{"$f":"'Humorous Monologues'!U80","v":0},{"$f":"'Humorous Monologues'!S80","v":0},{"$f":"IF((Table7[[#This Row],[Rank]]+Table7[[#This Row],[Score]])>0,1,0)","v":0},null,null,null,null,null,null,0,0]
[{"$f":"'Humorous Monologues'!A81","v":"R-103"},{"$f":"VLOOKUP(Table7[[#This Row],[ID]],'Humorous Monologues'!A:H,8,FALSE)","v":0},{"$f":"'Humorous Monologues'!U81","v":0},{"$f":"'Humorous Monologues'!S81","v":0},{"$f":"IF((Table7[[#This Row],[Rank]]+Table7[[#This Row],[Score]])>0,1,0)","v":0},null,null,null,null,null,null,0,0]
[{"$f":"'Humorous Monologues'!A82","v":"R-104"},{"$f":"VLOOKUP(Table7[[#This Row],[ID]],'Humorous Monologues'!A:H,8,FALSE)","v":0},{"$f":"'Humorous Monologues'!U82","v":0},{"$f":"'Humorous Monologues'!S82","v":0},{"$f":"IF((Table7[[#This Row],[Rank]]+Table7[[#This Row],[Score]])>0,1,0)","v":0},null,null,null,null,null,null,0,0]
[{"$f":"'Humorous Monologues'!A84","v":"S-101"},{"$f":"VLOOKUP(Table7[[#This Row],[ID]],'Humorous Monologues'!A:H,8,FALSE)","v":0},{"$f":"'Humorous Monologues'!U84","v":0},{"$f":"'Humorous Monologues'!S84","v":0},{"$f":"IF((Table7[[#This Row],[Rank]]+Table7[[#This Row],[Score]])>0,1,0)","v":0},null,null,null,null,null,null,0,0]
[{"$f":"'Humorous Monologues'!A85","v":"S-102"},{"$f":"VLOOKUP(Table7[[#This Row],[ID]],'Humorous Monologues'!A:H,8,FALSE)","v":0},{"$f":"'Humorous Monologues'!U85","v":0},{"$f":"'Humorous Monologues'!S85","v":0},{"$f":"IF((Table7[[#This Row],[Rank]]+Table7[[#This Row],[Score]])>0,1,0)","v":0},null,null,null,null,null,null,0,0]
[{"$f":"'Humorous Monologues'!A86","v":"S-103"},{"$f":"VLOOKUP(Table7[[#This Row],[ID]],'Humorous Monologues'!A:H,8,FALSE)","v":0},{"$f":"'Humorous Monologues'!U86","v":0},{"$f":"'Humorous Monologues'!S86","v":0},{"$f":"IF((Table7[[#This Row],[Rank]]+Table7[[#This Row],[Score]])>0,1,0)","v":0},null,null,null,null,null,null,0,0]
[{"$f":"'Humorous Monologues'!A87","v":"S-104"},{"$f":"VLOOKUP(Table7[[#This Row],[ID]],'Humorous Monologues'!A:H,8,FALSE)","v":0},{"$f":"'Humorous Monologues'!U87","v":0},{"$f":"'Humorous Monologues'!S87","v":0},{"$f":"IF((Table7[[#This Row],[Rank]]+Table7[[#This Row],[Score]])>0,1,0)","v":0},null,null,null,null,null,null,0,0]
[{"$f":"'Humorous Monologues'!A89","v":"T-101"},{"$f":"VLOOKUP(Table7[[#This Row],[ID]],'Humorous Monologues'!A:H,8,FALSE)","v":0},{"$f":"'Humorous Monologues'!U89","v":0},{"$f":"'Humorous Monologues'!S89","v":0},{"$f":"IF((Table7[[#This Row],[Rank]]+Table7[[#This Row],[Score]])>0,1,0)","v":0},null,null,null,null,null,null,0,0]
[{"$f":"'Humorous Monologues'!A90","v":"T-102"},{"$f":"VLOOKUP(Table7[[#This Row],[ID]],'Humorous Monologues'!A:H,8,FALSE)","v":0},{"$f":"'Humorous Monologues'!U90","v":0},{"$f":"'Humorous Monologues'!S90","v":0},{"$f":"IF((Table7[[#This Row],[Rank]]+Table7[[#This Row],[Score]])>0,1,0)","v":0},null,null,null,null,null,null,0,0]
[{"$f":"'Humorous Monologues'!A91","v":"T-103"},{"$f":"VLOOKUP(Table7[[#This Row],[ID]],'Humorous Monologues'!A:H,8,FALSE)","v":0},{"$f":"'Humorous Monologues'!U91","v":0},{"$f":"'Humorous Monologues'!S91","v":0},{"$f":"IF((Table7[[#This Row],[Rank]]+Table7[[#This Row],[Score]])>0,1,0)","v":0},null,null,null,null,null,null,0,0]
[{"$f":"'Humorous Monologues'!A92","v":"T-104"},{"$f":"VLOOKUP(Table7[[#This Row],[ID]],'Humorous Monologues'!A:H,8,FALSE)","v":0},{"$f":"'Humorous Monologues'!U92","v":0},{"$f":"'Humorous Monologues'!S92","v":0},{"$f":"IF((Table7[[#This Row],[Rank]]+Table7[[#This Row],[Score]])>0,1,0)","v":0},null,null,null,null,null,null,0,0]
[{"$f":"'Humorous Monologues'!A94","v":"U-101"},{"$f":"VLOOKUP(Table7[[#This Row],[ID]],'Humorous Monologues'!A:H,8,FALSE)","v":0},{"$f":"'Humorous Monologues'!U94","v":0},{"$f":"'Humorous Monologues'!S94","v":0},{"$f":"IF((Table7[[#This Row],[Rank]]+Table7[[#This Row],[Score]])>0,1,0)","v":0},null,null,null,null,null,null,{"$f":"SUM(F99,H99,J99)","v":0},{"$f":"SUM(G99,I99,K99)","v":0}]
[{"$f":"'Humorous Monologues'!A95","v":"U-102"},{"$f":"VLOOKUP(Table7[[#This Row],[ID]],'Humorous Monologues'!A:H,8,FALSE)","v":0},{"$f":"'Humorous Monologues'!U95","v":0},{"$f":"'Humorous Monologues'!S95","v":0},{"$f":"IF((Table7[[#This Row],[Rank]]+Table7[[#This Row],[Score]])>0,1,0)","v":0},null,null,null,null,null,null,0,0]
[{"$f":"'Humorous Monologues'!A96","v":"U-103"},{"$f":"VLOOKUP(Table7[[#This Row],[ID]],'Humorous Monologues'!A:H,8,FALSE)","v":0},{"$f":"'Humorous Monologues'!U96","v":0},{"$f":"'Humorous Monologues'!S96","v":0},{"$f":"IF((Table7[[#This Row],[Rank]]+Table7[[#This Row],[Score]])>0,1,0)","v":0},null,null,null,null,null,null,0,0]
[{"$f":"'Humorous Monologues'!A97","v":"U-104"},{"$f":"VLOOKUP(Table7[[#This Row],[ID]],'Humorous Monologues'!A:H,8,FALSE)","v":0},{"$f":"'Humorous Monologues'!U97","v":0},{"$f":"'Humorous Monologues'!S97","v":0},{"$f":"IF((Table7[[#This Row],[Rank]]+Table7[[#This Row],[Score]])>0,1,0)","v":0},null,null,null,null,null,null,0,0]
[{"$f":"'Humorous Monologues'!A99","v":"V-101"},{"$f":"VLOOKUP(Table7[[#This Row],[ID]],'Humorous Monologues'!A:H,8,FALSE)","v":0},{"$f":"'Humorous Monologues'!U99","v":0},{"$f":"'Humorous Monologues'!S99","v":0},{"$f":"IF((Table7[[#This Row],[Rank]]+Table7[[#This Row],[Score]])>0,1,0)","v":0},null,null,null,null,null,null,0,0]
[{"$f":"'Humorous Monologues'!A100","v":"V-102"},{"$f":"VLOOKUP(Table7[[#This Row],[ID]],'Humorous Monologues'!A:H,8,FALSE)","v":0},{"$f":"'Humorous Monologues'!U100","v":0},{"$f":"'Humorous Monologues'!S100","v":0},{"$f":"IF((Table7[[#This Row],[Rank]]+Table7[[#This Row],[Score]])>0,1,0)","v":0},null,null,null,null,null,null,0,0]
[{"$f":"'Humorous Monologues'!A101","v":"V-103"},{"$f":"VLOOKUP(Table7[[#This Row],[ID]],'Humorous Monologues'!A:H,8,FALSE)","v":0},{"$f":"'Humorous Monologues'!U101","v":0},{"$f":"'Humorous Monologues'!S101","v":0},{"$f":"IF((Table7[[#This Row],[Rank]]+Table7[[#This Row],[Score]])>0,1,0)","v":0},null,null,null,null,null,null,0,0]
[{"$f":"'Humorous Monologues'!A102","v":"V-104"},{"$f":"VLOOKUP(Table7[[#This Row],[ID]],'Humorous Monologues'!A:H,8,FALSE)","v":0},{"$f":"'Humorous Monologues'!U102","v":0},{"$f":"'Humorous Monologues'!S102","v":0},{"$f":"IF((Table7[[#This Row],[Rank]]+Table7[[#This Row],[Score]])>0,1,0)","v":0},null,null,null,null,null,null,0,0]
[{"$f":"'Humorous Monologues'!A104","v":"W-101"},{"$f":"VLOOKUP(Table7[[#This Row],[ID]],'Humorous Monologues'!A:H,8,FALSE)","v":0},{"$f":"'Humorous Monologues'!U104","v":0},{"$f":"'Humorous Monologues'!S104","v":0},{"$f":"IF((Table7[[#This Row],[Rank]]+Table7[[#This Row],[Score]])>0,1,0)","v":0},null,null,null,null,null,null,0,0]
[{"$f":"'Humorous Monologues'!A105","v":"W-102"},{"$f":"VLOOKUP(Table7[[#This Row],[ID]],'Humorous Monologues'!A:H,8,FALSE)","v":0},{"$f":"'Humorous Monologues'!U105","v":0},{"$f":"'Humorous Monologues'!S105","v":0},{"$f":"IF((Table7[[#This Row],[Rank]]+Table7[[#This Row],[Score]])>0,1,0)","v":0},null,null,null,null,null,null,0,0]
[{"$f":"'Humorous Monologues'!A106","v":"W-103"},{"$f":"VLOOKUP(Table7[[#This Row],[ID]],'Humorous Monologues'!A:H,8,FALSE)","v":0},{"$f":"'Humorous Monologues'!U106","v":0},{"$f":"'Humorous Monologues'!S106","v":0},{"$f":"IF((Table7[[#This Row],[Rank]]+Table7[[#This Row],[Score]])>0,1,0)","v":0},null,null,null,null,null,null,0,0]
[{"$f":"'Humorous Monologues'!A107","v":"W-104"},{"$f":"VLOOKUP(Table7[[#This Row],[ID]],'Humorous Monologues'!A:H,8,FALSE)","v":0},{"$f":"'Humorous Monologues'!U107","v":0},{"$f":"'Humorous Monologues'!S107","v":0},{"$f":"IF((Table7[[#This Row],[Rank]]+Table7[[#This Row],[Score]])>0,1,0)","v":0},null,null,null,null,null,null,0,0]
[{"$f":"'Humorous Monologues'!A109","v":"X-101"},{"$f":"VLOOKUP(Table7[[#This Row],[ID]],'Humorous Monologues'!A:H,8,FALSE)","v":0},{"$f":"'Humorous Monologues'!U109","v":0},{"$f":"'Humorous Monologues'!S109","v":0},{"$f":"IF((Table7[[#This Row],[Rank]]+Table7[[#This Row],[Score]])>0,1,0)","v":0},null,null,null,null,null,null,0,0]
[{"$f":"'Humorous Monologues'!A110","v":"X-102"},{"$f":"VLOOKUP(Table7[[#This Row],[ID]],'Humorous Monologues'!A:H,8,FALSE)","v":0},{"$f":"'Humorous Monologues'!U110","v":0},{"$f":"'Humorous Monologues'!S110","v":0},{"$f":"IF((Table7[[#This Row],[Rank]]+Table7[[#This Row],[Score]])>0,1,0)","v":0},null,null,null,null,null,null,0,0]
[{"$f":"'Humorous Monologues'!A111","v":"X-103"},{"$f":"VLOOKUP(Table7[[#This Row],[ID]],'Humorous Monologues'!A:H,8,FALSE)","v":0},{"$f":"'Humorous Monologues'!U111","v":0},{"$f":"'Humorous Monologues'!S111","v":0},{"$f":"IF((Table7[[#This Row],[Rank]]+Table7[[#This Row],[Score]])>0,1,0)","v":0},null,null,null,null,null,null,0,0]
[{"$f":"'Humorous Monologues'!A112","v":"X-104"},{"$f":"VLOOKUP(Table7[[#This Row],[ID]],'Humorous Monologues'!A:H,8,FALSE)","v":0},{"$f":"'Humorous Monologues'!U112","v":0},{"$f":"'Humorous Monologues'!S112","v":0},{"$f":"IF((Table7[[#This Row],[Rank]]+Table7[[#This Row],[Score]])>0,1,0)","v":0},null,null,null,null,null,null,0,0]
[{"$f":"'Humorous Monologues'!A114","v":"Y-101"},{"$f":"VLOOKUP(Table7[[#This Row],[ID]],'Humorous Monologues'!A:H,8,FALSE)","v":0},{"$f":"'Humorous Monologues'!U114","v":0},{"$f":"'Humorous Monologues'!S114","v":0},{"$f":"IF((Table7[[#This Row],[Rank]]+Table7[[#This Row],[Score]])>0,1,0)","v":0},null,null,null,null,null,null,0,0]
[{"$f":"'Humorous Monologues'!A115","v":"Y-102"},{"$f":"VLOOKUP(Table7[[#This Row],[ID]],'Humorous Monologues'!A:H,8,FALSE)","v":0},{"$f":"'Humorous Monologues'!U115","v":0},{"$f":"'Humorous Monologues'!S115","v":0},{"$f":"IF((Table7[[#This Row],[Rank]]+Table7[[#This Row],[Score]])>0,1,0)","v":0},null,null,null,null,null,null,0,0]
[{"$f":"'Humorous Monologues'!A116","v":"Y-103"},{"$f":"VLOOKUP(Table7[[#This Row],[ID]],'Humorous Monologues'!A:H,8,FALSE)","v":0},{"$f":"'Humorous Monologues'!U116","v":0},{"$f":"'Humorous Monologues'!S116","v":0},{"$f":"IF((Table7[[#This Row],[Rank]]+Table7[[#This Row],[Score]])>0,1,0)","v":0},null,null,null,null,null,null,0,0]
[{"$f":"'Humorous Monologues'!A117","v":"Y-104"},{"$f":"VLOOKUP(Table7[[#This Row],[ID]],'Humorous Monologues'!A:H,8,FALSE)","v":0},{"$f":"'Humorous Monologues'!U117","v":0},{"$f":"'Humorous Monologues'!S117","v":0},{"$f":"IF((Table7[[#This Row],[Rank]]+Table7[[#This Row],[Score]])>0,1,0)","v":0},null,null,null,null,null,null,0,0]
[{"$f":"'Humorous Monologues'!A119","v":"Z-101"},{"$f":"VLOOKUP(Table7[[#This Row],[ID]],'Humorous Monologues'!A:H,8,FALSE)","v":0},{"$f":"'Humorous Monologues'!U119","v":0},{"$f":"'Humorous Monologues'!S119","v":0},{"$f":"IF((Table7[[#This Row],[Rank]]+Table7[[#This Row],[Score]])>0,1,0)","v":0},null,null,null,null,null,null,0,0]
[{"$f":"'Humorous Monologues'!A120","v":"Z-102"},{"$f":"VLOOKUP(Table7[[#This Row],[ID]],'Humorous Monologues'!A:H,8,FALSE)","v":0},{"$f":"'Humorous Monologues'!U120","v":0},{"$f":"'Humorous Monologues'!S120","v":0},{"$f":"IF((Table7[[#This Row],[Rank]]+Table7[[#This Row],[Score]])>0,1,0)","v":0},null,null,null,null,null,null,0,0]
[{"$f":"'Humorous Monologues'!A121","v":"Z-103"},{"$f":"VLOOKUP(Table7[[#This Row],[ID]],'Humorous Monologues'!A:H,8,FALSE)","v":0},{"$f":"'Humorous Monologues'!U121","v":0},{"$f":"'Humorous Monologues'!S121","v":0},{"$f":"IF((Table7[[#This Row],[Rank]]+Table7[[#This Row],[Score]])>0,1,0)","v":0},null,null,null,null,null,null,0,0]
[{"$f":"'Humorous Monologues'!A122","v":"Z-104"},{"$f":"VLOOKUP(Table7[[#This Row],[ID]],'Humorous Monologues'!A:H,8,FALSE)","v":0},{"$f":"'Humorous Monologues'!U122","v":0},{"$f":"'Humorous Monologues'!S122","v":0},{"$f":"IF((Table7[[#This Row],[Rank]]+Table7[[#This Row],[Score]])>0,1,0)","v":0},null,null,null,null,null,null,0,0]

{"sheet":"Dramatic","index":3,"n_rows":152,"n_cols":31,"rows_kept":152,"cut":false,"hidden":false,"merged":[[0,0,0,8]]}
["Dramatic Monologues",null,null,null,null,null,null,null,null,null,"Rank 1-4",null,null,null,null,null,null,null,null,null,null,null,null,"S","E","G","F",null,"1violation","2violations","3violations"]
[null,null,null,null,null,null,null,null,null,null,"Round 1:",null,"Round 2:",null,"Round 3:",null,"-2 for each",null,null,null,null,null,null,null,null,null,null,"Drops lowest from column q"]
[null,null,null,null,null,null,null,"Student Name",null,"Title of Piece","R1 rank","R1 score","R2 rank","R2 score","R3 rank","R3 score","Time Violations",null,"TOTAL SCORE",null,"TOTAL RANK",null,null,"TOTAL SCHOOL SWEEPS POINTS",null,null,null,"Drop Lowest"]
["A-201",null,null,null,null,null,null,"(503) Cole B.",null,"\"Lord of the Rings\"",4,18,4,21,4,22,null,{"$f":"IF(Q4=\"1violation\",-7*1,IF(Q4=\"2violations\",-7*2,IF(Q4=\"3violations\",-7*3,IF(Q4=\"\",\"\"))))","v":""},{"$f":"SUM(L4,N4,P4,R4)","v":61},null,{"$f":"SUM(K4,M4,O4)","v":12},null,null,null,{"$f":"SUM(S4,S6,S5,S7,-AB4)","v":204},null,null,{"$f":"MIN(S4:S7)","v":58}]
["A-202",null,null,null,null,null,null,"(504) Mary C.",null,"\"Bluebirds\"",1,25,1,25,2,25,null,{"$f":"IF(Q5=\"1violation\",-7*1,IF(Q5=\"2violations\",-7*2,IF(Q5=\"3violations\",-7*3,IF(Q5=\"\",\"\"))))","v":""},{"$f":"SUM(L5,N5,P5,R5)","v":75},null,{"$f":"SUM(K5,M5,O5)","v":4}]
["A-203",null,null,null,null,null,null,"(505) Melissa P.",null,"\"Come, Stay, Go\"",4,14,4,20,4,24,null,"",{"$f":"SUM(L6,N6,P6,R6)","v":58},null,{"$f":"SUM(K6,M6,O6)","v":12}]
["A-204",null,null,null,null,null,null,"(506) Ameerah",null,"\"Fathers Blue Eyes\"",4,24,4,20,2,24,null,"",{"$f":"SUM(L7,N7,P7,R7)","v":68},null,{"$f":"SUM(K7,M7,O7)","v":10}]
[]
["B-201",null,null,null,null,null,null,"(500) Jaren Henrie",null,"\"Dust in Eyes\"",2,20,2,24,1,25,null,"",{"$f":"SUM(L9,N9,P9,R9)","v":69},null,{"$f":"SUM(K9,M9,O9)","v":5},null,null,null,{"$f":"SUM(S9,S11,S10,S12,-AB9)","v":212},null,null,{"$f":"MIN(S9:S12)","v":0}]
["B-202",null,null,null,null,null,null,"(501) Layna Hatch",null,"\"Demons\"",3,24,3,23,3,24,null,"",{"$f":"SUM(L10,N10,P10,R10)","v":71},null,{"$f":"SUM(K10,M10,O10)","v":9}]
["B-203",null,null,null,null,null,null,"(502) Kam Petsche",null,"\"The Button\"",1,25,2,23,4,24,null,"",{"$f":"SUM(L11,N11,P11,R11)","v":72},null,{"$f":"SUM(K11,M11,O11)","v":7}]
["B-204",null,null,null,null,null,null,null,null,null,null,null,null,null,null,null,null,"",{"$f":"SUM(L12,N12,P12,R12)","v":0},null,{"$f":"SUM(K12,M12,O12)","v":0}]
[]
["C-201",null,null,null,null,null,null,null,null,null,null,null,null,null,null,null,null,"",{"$f":"SUM(L14,N14,P14,R14)","v":0},null,{"$f":"SUM(K14,M14,O14)","v":0},null,null,null,{"$f":"SUM(S14,S16,S15,S17,-AB14)","v":0},null,null,{"$f":"MIN(S14:S17)","v":0}]
["C-202",null,null,null,null,null,null,null,null,null,null,null,null,null,null,null,null,"",{"$f":"SUM(L15,N15,P15,R15)","v":0},null,{"$f":"SUM(K15,M15,O15)","v":0}]
["C-203",null,null,null,null,null,null,null,null,null,null,null,null,null,null,null,null,"",{"$f":"SUM(L16,N16,P16,R16)","v":0},null,{"$f":"SUM(K16,M16,O16)","v":0}]
["C-204",null,null,null,null,null,null,null,null,null,null,null,null,null,null,null,null,"",{"$f":"SUM(L17,N17,P17,R17)","v":0},null,{"$f":"SUM(K17,M17,O17)","v":0}]
[]
["D-201",null,null,null,null,null,null,"(507) Mary Anderson",null,"\"enimgma\"",2,25,1,24,1,25,null,"",{"$f":"SUM(L19,N19,P19,R19)","v":74},null,{"$f":"SUM(K19,M19,O19)","v":4},null,null,null,{"$f":"SUM(S19,S21,S20,S22,-AB19)","v":134},null,null,{"$f":"MIN(S19:S22)","v":0}]
["D-202",null,null,null,null,null,null,"(508) Jacalyn Hulce",null,"\"pretty…\"",3,18,4,20,4,22,null,"",{"$f":"SUM(L20,N20,P20,R20)","v":60},null,{"$f":"SUM(K20,M20,O20)","v":11}]
["D-203",null,null,null,null,null,null,null,null,null,null,null,null,null,null,null,null,"",{"$f":"SUM(L21,N21,P21,R21)","v":0},null,{"$f":"SUM(K21,M21,O21)","v":0}]
["D-204",null,null,null,null,null,null,null,null,null,null,null,null,null,null,null,null,"",{"$f":"SUM(L22,N22,P22,R22)","v":0},null,{"$f":"SUM(K22,M22,O22)","v":0}]
[]
["E-201",null,null,null,null,null,null,null,null,null,null,null,null,null,null,null,null,"",{"$f":"SUM(L24,N24,P24,R24)","v":0},null,{"$f":"SUM(K24,M24,O24)","v":0},null,null,null,{"$f":"SUM(S24,S26,S25,S27,-AB24)","v":0},null,null,{"$f":"MIN(S24:S27)","v":0}]
["E-202",null,null,null,null,null,null,null,null,null,null,null,null,null,null,null,null,"",{"$f":"SUM(L25,N25,P25,R25)","v":0},null,{"$f":"SUM(K25,M25,O25)","v":0}]
["E-203",null,null,null,null,null,null,null,null,null,null,null,null,null,null,null,null,"",{"$f":"SUM(L26,N26,P26,R26)","v":0},null,{"$f":"SUM(K26,M26,O26)","v":0}]
["E-204",null,null,null,null,null,null,null,null,null,null,null,null,null,null,null,null,"",{"$f":"SUM(L27,N27,P27,R27)","v":0},null,{"$f":"SUM(K27,M27,O27)","v":0}]
[]
["F-201",null,null,null,null,null,null,"(509) Raif McCoy",null,"\"Mockingbird\"",4,22,3,24,3,24,null,"",{"$f":"SUM(L29,N29,P29,R29)","v":70},null,{"$f":"SUM(K29,M29,O29)","v":10},null,null,null,{"$f":"SUM(S29,S31,S30,S32,-AB29)","v":70},null,null,{"$f":"MIN(S29:S32)","v":0}]
["F-202",null,null,null,null,null,null,null,null,null,null,null,null,null,null,null,null,"",{"$f":"SUM(L30,N30,P30,R30)","v":0},null,{"$f":"SUM(K30,M30,O30)","v":0}]
["F-203",null,null,null,null,null,null,null,null,null,null,null,null,null,null,null,null,"",{"$f":"SUM(L31,N31,P31,R31)","v":0},null,{"$f":"SUM(K31,M31,O31)","v":0}]
["F-204",null,null,null,null,null,null,null,null,null,null,null,null,null,null,null,null,"",{"$f":"SUM(L32,N32,P32,R32)","v":0},null,{"$f":"SUM(K32,M32,O32)","v":0}]
[]
["G-201",null,null,null,null,null,null,null,null,null,null,null,null,null,null,null,null,"",{"$f":"SUM(L34,N34,P34,R34)","v":0},null,{"$f":"SUM(K34,M34,O34)","v":0},null,null,null,{"$f":"SUM(S34,S36,S35,S37,-AB34)","v":0},null,null,{"$f":"MIN(S34:S37)","v":0}]
["G-202",null,null,null,null,null,null,null,null,null,null,null,null,null,null,null,null,"",{"$f":"SUM(L35,N35,P35,R35)","v":0},null,{"$f":"SUM(K35,M35,O35)","v":0}]
["G-203",null,null,null,null,null,null,null,null,null,null,null,null,null,null,null,null,"",{"$f":"SUM(L36,N36,P36,R36)","v":0},null,{"$f":"SUM(K36,M36,O36)","v":0}]
["G-204",null,null,null,null,null,null,null,null,null,null,null,null,null,null,null,null,"",{"$f":"SUM(L37,N37,P37,R37)","v":0},null,{"$f":"SUM(K37,M37,O37)","v":0}]
[]
["H-201",null,null,null,null,null,null,null,null,null,null,null,null,null,null,null,null,"",{"$f":"SUM(L39,N39,P39,R39)","v":0},null,{"$f":"SUM(K39,M39,O39)","v":0},null,null,null,{"$f":"SUM(S39,S41,S40,S42,-AB39)","v":0},null,null,{"$f":"MIN(S39:S42)","v":0}]
["H-202",null,null,null,null,null,null,null,null,null,null,null,null,null,null,null,null,"",{"$f":"SUM(L40,N40,P40,R40)","v":0},null,{"$f":"SUM(K40,M40,O40)","v":0}]
["H-203",null,null,null,null,null,null,null,null,null,null,null,null,null,null,null,null,"",{"$f":"SUM(L41,N41,P41,R41)","v":0},null,{"$f":"SUM(K41,M41,O41)","v":0}]
["H-204",null,null,null,null,null,null,null,null,null,null,null,null,null,null,null,null,"",{"$f":"SUM(L42,N42,P42,R42)","v":0},null,{"$f":"SUM(K42,M42,O42)","v":0}]
[]
["J-201",null,null,null,null,null,null,null,null,null,null,null,null,null,null,null,null,"",{"$f":"SUM(L44,N44,P44,R44)","v":0},null,{"$f":"SUM(K44,M44,O44)","v":0},null,null,null,{"$f":"SUM(S44,S46,S45,S47,-AB44)","v":0},null,null,{"$f":"MIN(S44:S47)","v":0}]
["J-202",null,null,null,null,null,null,null,null,null,null,null,null,null,null,null,null,"",{"$f":"SUM(L45,N45,P45,R45)","v":0},null,{"$f":"SUM(K45,M45,O45)","v":0}]
["J-203",null,null,null,null,null,null,null,null,null,null,null,null,null,null,null,null,"",{"$f":"SUM(L46,N46,P46,R46)","v":0},null,{"$f":"SUM(K46,M46,O46)","v":0}]
["J-204",null,null,null,null,null,null,null,null,null,null,null,null,null,null,null,null,"",{"$f":"SUM(L47,N47,P47,R47)","v":0},null,{"$f":"SUM(K47,M47,O47)","v":0}]
[]
["K-201",null,null,null,null,null,null,null,null,null,null,null,null,null,null,null,null,"",{"$f":"SUM(L49,N49,P49,R49)","v":0},null,{"$f":"SUM(K49,M49,O49)","v":0},null,null,null,{"$f":"SUM(S49,S51,S50,S52,-AB49)","v":0},null,null,{"$f":"MIN(S49:S52)","v":0}]
["K-202",null,null,null,null,null,null,null,null,null,null,null,null,null,null,null,null,"",{"$f":"SUM(L50,N50,P50,R50)","v":0},null,{"$f":"SUM(K50,M50,O50)","v":0}]
["K-203",null,null,null,null,null,null,null,null,null,null,null,null,null,null,null,null,"",{"$f":"SUM(L51,N51,P51,R51)","v":0},null,{"$f":"SUM(K51,M51,O51)","v":0}]
["K-204",null,null,null,null,null,null,null,null,null,null,null,null,null,null,null,null,"",{"$f":"SUM(L52,N52,P52,R52)","v":0},null,{"$f":"SUM(K52,M52,O52)","v":0}]
[]
["L-201",null,null,null,null,null,null,null,null,null,null,null,null,null,null,null,null,"",{"$f":"SUM(L54,N54,P54,R54)","v":0},null,{"$f":"SUM(K54,M54,O54)","v":0},null,null,null,{"$f":"SUM(S54,S56,S55,S57,-AB54)","v":0},null,null,{"$f":"MIN(S54:S57)","v":0}]
["L-202",null,null,null,null,null,null,null,null,null,null,null,null,null,null,null,null,"",{"$f":"SUM(L55,N55,P55,R55)","v":0},null,{"$f":"SUM(K55,M55,O55)","v":0}]
["L-203",null,null,null,null,null,null,null,null,null,null,null,null,null,null,null,null,"",{"$f":"SUM(L56,N56,P56,R56)","v":0},null,{"$f":"SUM(K56,M56,O56)","v":0}]
["L-204",null,null,null,null,null,null,null,null,null,null,null,null,null,null,null,null,"",{"$f":"SUM(L57,N57,P57,R57)","v":0},null,{"$f":"SUM(K57,M57,O57)","v":0}]
[]
["M-201",null,null,null,null,null,null,null,null,null,null,null,null,null,null,null,null,"",{"$f":"SUM(L59,N59,P59,R59)","v":0},null,{"$f":"SUM(K59,M59,O59)","v":0},null,null,null,{"$f":"SUM(S59,S61,S60,S62,-AB59)","v":0},null,null,{"$f":"MIN(S59:S62)","v":0}]
["M-202",null,null,null,null,null,null,null,null,null,null,null,null,null,null,null,null,"",{"$f":"SUM(L60,N60,P60,R60)","v":0},null,{"$f":"SUM(K60,M60,O60)","v":0}]
["M-203",null,null,null,null,null,null,null,null,null,null,null,null,null,null,null,null,"",{"$f":"SUM(L61,N61,P61,R61)","v":0},null,{"$f":"SUM(K61,M61,O61)","v":0}]
["M-204",null,null,null,null,null,null,null,null,null,null,null,null,null,null,null,null,"",{"$f":"SUM(L62,N62,P62,R62)","v":0},null,{"$f":"SUM(K62,M62,O62)","v":0}]
[]
["N-201",null,null,null,null,null,null,null,null,null,null,null,null,null,null,null,null,"",{"$f":"SUM(L64,N64,P64,R64)","v":0},null,{"$f":"SUM(K64,M64,O64)","v":0},null,null,null,{"$f":"SUM(S64,S66,S65,S67,-AB64)","v":0},null,null,{"$f":"MIN(S64:S67)","v":0}]
["N-202",null,null,null,null,null,null,null,null,null,null,null,null,null,null,null,null,"",{"$f":"SUM(L65,N65,P65,R65)","v":0},null,{"$f":"SUM(K65,M65,O65)","v":0}]
["N-203",null,null,null,null,null,null,null,null,null,null,null,null,null,null,null,null,"",{"$f":"SUM(L66,N66,P66,R66)","v":0},null,{"$f":"SUM(K66,M66,O66)","v":0}]
["N-204",null,null,null,null,null,null,null,null,null,null,null,null,null,null,null,null,"",{"$f":"SUM(L67,N67,P67,R67)","v":0},null,{"$f":"SUM(K67,M67,O67)","v":0}]
[]
["P-201",null,null,null,null,null,null,null,null,null,null,null,null,null,null,null,null,"",{"$f":"SUM(L69,N69,P69,R69)","v":0},null,{"$f":"SUM(K69,M69,O69)","v":0},null,null,null,{"$f":"SUM(S69,S71,S70,S72,-AB69)","v":0},null,null,{"$f":"MIN(S69:S72)","v":0}]
["P-202",null,null,null,null,null,null,null,null,null,null,null,null,null,null,null,null,"",{"$f":"SUM(L70,N70,P70,R70)","v":0},null,{"$f":"SUM(K70,M70,O70)","v":0}]
["P-203",null,null,null,null,null,null,null,null,null,null,null,null,null,null,null,null,"",{"$f":"SUM(L71,N71,P71,R71)","v":0},null,{"$f":"SUM(K71,M71,O71)","v":0}]
["P-204",null,null,null,null,null,null,null,null,null,null,null,null,null,null,null,null,"",{"$f":"SUM(L72,N72,P72,R72)","v":0},null,{"$f":"SUM(K72,M72,O72)","v":0}]
[]
["Q-201",null,null,null,null,null,null,null,null,null,null,null,null,null,null,null,null,"",{"$f":"SUM(L74,N74,P74,R74)","v":0},null,{"$f":"SUM(K74,M74,O74)","v":0},null,null,null,{"$f":"SUM(S74,S76,S75,S77,-AB74)","v":0},null,null,{"$f":"MIN(S74:S77)","v":0}]
["Q-202",null,null,null,null,null,null,null,null,null,null,null,null,null,null,null,null,"",{"$f":"SUM(L75,N75,P75,R75)","v":0},null,{"$f":"SUM(K75,M75,O75)","v":0}]
["Q-203",null,null,null,null,null,null,null,null,null,null,null,null,null,null,null,null,"",{"$f":"SUM(L76,N76,P76,R76)","v":0},null,{"$f":"SUM(K76,M76,O76)","v":0}]
["Q-204",null,null,null,null,null,null,null,null,null,null,null,null,null,null,null,null,"",{"$f":"SUM(L77,N77,P77,R77)","v":0},null,{"$f":"SUM(K77,M77,O77)","v":0}]
[]
["R-201",null,null,null,null,null,null,null,null,null,null,null,null,null,null,null,null,"",{"$f":"SUM(L79,N79,P79,R79)","v":0},null,{"$f":"SUM(K79,M79,O79)","v":0},null,null,null,{"$f":"SUM(S79,S81,S80,S82,-AB79)","v":0},null,null,{"$f":"MIN(S79:S82)","v":0}]
["R-202",null,null,null,null,null,null,null,null,null,null,null,null,null,null,null,null,"",{"$f":"SUM(L80,N80,P80,R80)","v":0},null,{"$f":"SUM(K80,M80,O80)","v":0}]
["R-203",null,null,null,null,null,null,null,null,null,null,null,null,null,null,null,null,"",{"$f":"SUM(L81,N81,P81,R81)","v":0},null,{"$f":"SUM(K81,M81,O81)","v":0}]
["R-204",null,null,null,null,null,null,null,null,null,null,null,null,null,null,null,null,"",{"$f":"SUM(L82,N82,P82,R82)","v":0},null,{"$f":"SUM(K82,M82,O82)","v":0}]
[]
["S-201",null,null,null,null,null,null,null,null,null,null,null,null,null,null,null,null,"",{"$f":"SUM(L84,N84,P84,R84)","v":0},null,{"$f":"SUM(K84,M84,O84)","v":0},null,null,null,{"$f":"SUM(S84,S86,S85,S87,-AB84)","v":0},null,null,{"$f":"MIN(S84:S87)","v":0}]
["S-202",null,null,null,null,null,null,null,null,null,null,null,null,null,null,null,null,{"$f":"IF(Q85=\"1violation\",-7*1,IF(Q85=\"2violations\",-7*2,IF(Q85=\"3violations\",-7*3,IF(Q85=\"\",\"\"))))","v":""},{"$f":"SUM(L85,N85,P85,R85)","v":0},null,{"$f":"SUM(K85,M85,O85)","v":0}]
["S-203",null,null,null,null,null,null,null,null,null,null,null,null,null,null,null,null,"",{"$f":"SUM(L86,N86,P86,R86)","v":0},null,{"$f":"SUM(K86,M86,O86)","v":0}]
["S-204",null,null,null,null,null,null,null,null,null,null,null,null,null,null,null,null,"",{"$f":"SUM(L87,N87,P87,R87)","v":0},null,{"$f":"SUM(K87,M87,O87)","v":0}]
[]
["T-201",null,null,null,null,null,null,null,null,null,null,null,null,null,null,null,null,"",{"$f":"SUM(L89,N89,P89,R89)","v":0},null,{"$f":"SUM(K89,M89,O89)","v":0},null,null,null,{"$f":"SUM(S89,S91,S90,S92,-AB89)","v":0},null,null,{"$f":"MIN(S89:S92)","v":0}]
["T-202",null,null,null,null,null,null,null,null,null,null,null,null,null,null,null,null,"",{"$f":"SUM(L90,N90,P90,R90)","v":0},null,{"$f":"SUM(K90,M90,O90)","v":0}]
["T-203",null,null,null,null,null,null,null,null,null,null,null,null,null,null,null,null,"",{"$f":"SUM(L91,N91,P91,R91)","v":0},null,{"$f":"SUM(K91,M91,O91)","v":0}]
["T-204",null,null,null,null,null,null,null,null,null,null,null,null,null,null,null,null,"",{"$f":"SUM(L92,N92,P92,R92)","v":0},null,{"$f":"SUM(K92,M92,O92)","v":0}]
[]
["U-201",null,null,null,null,null,null,null,null,null,null,null,null,null,null,null,null,"",{"$f":"SUM(L94,N94,P94,R94)","v":0},null,{"$f":"SUM(K94,M94,O94)","v":0},null,null,null,{"$f":"SUM(S94,S96,S95,S97,-AB94)","v":0},null,null,{"$f":"MIN(S94:S97)","v":0}]
["U-202",null,null,null,null,null,null,null,null,null,null,null,null,null,null,null,null,"",{"$f":"SUM(L95,N95,P95,R95)","v":0},null,{"$f":"SUM(K95,M95,O95)","v":0}]
["U-203",null,null,null,null,null,null,null,null,null,null,null,null,null,null,null,null,"",{"$f":"SUM(L96,N96,P96,R96)","v":0},null,{"$f":"SUM(K96,M96,O96)","v":0}]
["U-204",null,null,null,null,null,null,null,null,null,null,null,null,null,null,null,null,"",{"$f":"SUM(L97,N97,P97,R97)","v":0},null,{"$f":"SUM(K97,M97,O97)","v":0}]
[]
["V-201",null,null,null,null,null,null,null,null,null,null,null,null,null,null,null,null,"",{"$f":"SUM(L99,N99,P99,R99)","v":0},null,{"$f":"SUM(K99,M99,O99)","v":0},null,null,null,{"$f":"SUM(S99,S101,S100,S102,-AB99)","v":0},null,null,{"$f":"MIN(S99:S102)","v":0}]
["V-202",null,null,null,null,null,null,null,null,null,null,null,null,null,null,null,null,"",{"$f":"SUM(L100,N100,P100,R100)","v":0},null,{"$f":"SUM(K100,M100,O100)","v":0}]
["V-203",null,null,null,null,null,null,null,null,null,null,null,null,null,null,null,null,"",{"$f":"SUM(L101,N101,P101,R101)","v":0},null,{"$f":"SUM(K101,M101,O101)","v":0}]
["V-204",null,null,null,null,null,null,null,null,null,null,null,null,null,null,null,null,"",{"$f":"SUM(L102,N102,P102,R102)","v":0},null,{"$f":"SUM(K102,M102,O102)","v":0}]
[]
["W-201",null,null,null,null,null,null,null,null,null,null,null,null,null,null,null,null,"",{"$f":"SUM(L104,N104,P104,R104)","v":0},null,{"$f":"SUM(K104,M104,O104)","v":0},null,null,null,{"$f":"SUM(S104,S106,S105,S107,-AB104)","v":0},null,null,{"$f":"MIN(S104:S107)","v":0}]
["W-202",null,null,null,null,null,null,null,null,null,null,null,null,null,null,null,null,"",{"$f":"SUM(L105,N105,P105,R105)","v":0},null,{"$f":"SUM(K105,M105,O105)","v":0}]
["W-203",null,null,null,null,null,null,null,null,null,null,null,null,null,null,null,null,"",{"$f":"SUM(L106,N106,P106,R106)","v":0},null,{"$f":"SUM(K106,M106,O106)","v":0}]
["W-204",null,null,null,null,null,null,null,null,null,null,null,null,null,null,null,null,"",{"$f":"SUM(L107,N107,P107,R107)","v":0},null,{"$f":"SUM(K107,M107,O107)","v":0}]
[]
["X-201",null,null,null,null,null,null,null,null,null,null,null,null,null,null,null,null,"",{"$f":"SUM(L109,N109,P109,R109)","v":0},null,{"$f":"SUM(K109,M109,O109)","v":0},null,null,null,{"$f":"SUM(S109,S111,S110,S112,-AB109)","v":0},null,null,{"$f":"MIN(S109:S112)","v":0}]
["X-202",null,null,null,null,null,null,null,null,null,null,null,null,null,null,null,null,"",{"$f":"SUM(L110,N110,P110,R110)","v":0},null,{"$f":"SUM(K110,M110,O110)","v":0}]
["X-203",null,null,null,null,null,null,null,null,null,null,null,null,null,null,null,null,"",{"$f":"SUM(L111,N111,P111,R111)","v":0},null,{"$f":"SUM(K111,M111,O111)","v":0}]
["X-204",null,null,null,null,null,null,null,null,null,null,null,null,null,null,null,null,"",{"$f":"SUM(L112,N112,P112,R112)","v":0},null,{"$f":"SUM(K112,M112,O112)","v":0}]
[]
["Y-201",null,null,null,null,null,null,null,null,null,null,null,null,null,null,null,null,"",{"$f":"SUM(L114,N114,P114,R114)","v":0},null,{"$f":"SUM(K114,M114,O114)","v":0},null,null,null,{"$f":"SUM(S114,S116,S115,S117,-AB114)","v":0},null,null,{"$f":"MIN(S114:S117)","v":0}]
["Y-202",null,null,null,null,null,null,null,null,null,null,null,null,null,null,null,null,"",{"$f":"SUM(L115,N115,P115,R115)","v":0},null,{"$f":"SUM(K115,M115,O115)","v":0}]
["Y-203",null,null,null,null,null,null,null,null,null,null,null,null,null,null,null,null,"",{"$f":"SUM(L116,N116,P116,R116)","v":0},null,{"$f":"SUM(K116,M116,O116)","v":0}]
["Y-204",null,null,null,null,null,null,null,null,null,null,null,null,null,null,null,null,"",{"$f":"SUM(L117,N117,P117,R117)","v":0},null,{"$f":"SUM(K117,M117,O117)","v":0}]
[]
["Z-201",null,null,null,null,null,null,null,null,null,null,null,null,null,null,null,null,"",{"$f":"SUM(L119,N119,P119,R119)","v":0},null,{"$f":"SUM(K119,M119,O119)","v":0},null,null,null,{"$f":"SUM(S119,S121,S120,S122,-AB119)","v":0},null,null,{"$f":"MIN(S119:S122)","v":0}]
["Z-202",null,null,null,null,null,null,null,null,null,null,null,null,null,null,null,null,"",{"$f":"SUM(L120,N120,P120,R120)","v":0},null,{"$f":"SUM(K120,M120,O120)","v":0}]
["Z-203",null,null,null,null,null,null,null,null,null,null,null,null,null,null,null,null,"",{"$f":"SUM(L121,N121,P121,R121)","v":0},null,{"$f":"SUM(K121,M121,O121)","v":0}]
["Z-204",null,null,null,null,null,null,null,null,null,null,null,null,null,null,null,null,"",{"$f":"SUM(L122,N122,P122,R122)","v":0},null,{"$f":"SUM(K122,M122,O122)","v":0}]
[]
["AA-201",null,null,null,null,null,null,null,null,null,null,null,null,null,null,null,null,"",{"$f":"SUM(L124,N124,P124,R124)","v":0},null,{"$f":"SUM(K124,M124,O124)","v":0},null,null,null,{"$f":"SUM(S124,S126,S125,S127,-AB124)","v":0},null,null,{"$f":"MIN(S124:S127)","v":0}]
["AA-202",null,null,null,null,null,null,null,null,null,null,null,null,null,null,null,null,"",{"$f":"SUM(L125,N125,P125,R125)","v":0},null,{"$f":"SUM(K125,M125,O125)","v":0}]
["AA-203",null,null,null,null,null,null,null,null,null,null,null,null,null,null,null,null,"",{"$f":"SUM(L126,N126,P126,R126)","v":0},null,{"$f":"SUM(K126,M126,O126)","v":0}]
["AA-204",null,null,null,null,null,null,null,null,null,null,null,null,null,null,null,null,"",{"$f":"SUM(L127,N127,P127,R127)","v":0},null,{"$f":"SUM(K127,M127,O127)","v":0}]
[]
["BB-201",null,null,null,null,null,null,null,null,null,null,null,null,null,null,null,null,"",{"$f":"SUM(L129,N129,P129,R129)","v":0},null,{"$f":"SUM(K129,M129,O129)","v":0},null,null,null,{"$f":"SUM(S129,S131,S130,S132,-AB129)","v":0},null,null,{"$f":"MIN(S129:S132)","v":0}]
["BB-202",null,null,null,null,null,null,null,null,null,null,null,null,null,null,null,null,"",{"$f":"SUM(L130,N130,P130,R130)","v":0},null,{"$f":"SUM(K130,M130,O130)","v":0}]
["BB-203",null,null,null,null,null,null,null,null,null,null,null,null,null,null,null,null,"",{"$f":"SUM(L131,N131,P131,R131)","v":0},null,{"$f":"SUM(K131,M131,O131)","v":0}]
["BB-204",null,null,null,null,null,null,null,null,null,null,null,null,null,null,null,null,"",{"$f":"SUM(L132,N132,P132,R132)","v":0},null,{"$f":"SUM(K132,M132,O132)","v":0}]
[]
["CC-201",null,null,null,null,null,null,null,null,null,null,null,null,null,null,null,null,"",{"$f":"SUM(L134,N134,P134,R134)","v":0},null,{"$f":"SUM(K134,M134,O134)","v":0},null,null,null,{"$f":"SUM(S134,S136,S135,S137,-AB134)","v":0},null,null,{"$f":"MIN(S134:S137)","v":0}]
["CC-202",null,null,null,null,null,null,null,null,null,null,null,null,null,null,null,null,"",{"$f":"SUM(L135,N135,P135,R135)","v":0},null,{"$f":"SUM(K135,M135,O135)","v":0}]
["CC-203",null,null,null,null,null,null,null,null,null,null,null,null,null,null,null,null,"",{"$f":"SUM(L136,N136,P136,R136)","v":0},null,{"$f":"SUM(K136,M136,O136)","v":0}]
["CC-204",null,null,null,null,null,null,null,null,null,null,null,null,null,null,null,null,"",{"$f":"SUM(L137,N137,P137,R137)","v":0},null,{"$f":"SUM(K137,M137,O137)","v":0}]
[]
["DD-201",null,null,null,null,null,null,null,null,null,null,null,null,null,null,null,null,"",{"$f":"SUM(L139,N139,P139,R139)","v":0},null,{"$f":"SUM(K139,M139,O139)","v":0},null,null,null,{"$f":"SUM(S139,S141,S140,S142,-AB139)","v":0},null,null,{"$f":"MIN(S139:S142)","v":0}]
["DD-202",null,null,null,null,null,null,null,null,null,null,null,null,null,null,null,null,"",{"$f":"SUM(L140,N140,P140,R140)","v":0},null,{"$f":"SUM(K140,M140,O140)","v":0}]
["DD-203",null,null,null,null,null,null,null,null,null,null,null,null,null,null,null,null,"",{"$f":"SUM(L141,N141,P141,R141)","v":0},null,{"$f":"SUM(K141,M141,O141)","v":0}]
["DD-204",null,null,null,null,null,null,null,null,null,null,null,null,null,null,null,null,"",{"$f":"SUM(L142,N142,P142,R142)","v":0},null,{"$f":"SUM(K142,M142,O142)","v":0}]
[]
["EE-201",null,null,null,null,null,null,null,null,null,null,null,null,null,null,null,null,"",{"$f":"SUM(L144,N144,P144,R144)","v":0},null,{"$f":"SUM(K144,M144,O144)","v":0},null,null,null,{"$f":"SUM(S144,S146,S145,S147,-AB144)","v":0},null,null,{"$f":"MIN(S144:S147)","v":0}]
["EE-202",null,null,null,null,null,null,null,null,null,null,null,null,null,null,null,null,"",{"$f":"SUM(L145,N145,P145,R145)","v":0},null,{"$f":"SUM(K145,M145,O145)","v":0}]
["EE-203",null,null,null,null,null,null,null,null,null,null,null,null,null,null,null,null,"",{"$f":"SUM(L146,N146,P146,R146)","v":0},null,{"$f":"SUM(K146,M146,O146)","v":0}]
["EE-204",null,null,null,null,null,null,null,null,null,null,null,null,null,null,null,null,"",{"$f":"SUM(L147,N147,P147,R147)","v":0},null,{"$f":"SUM(K147,M147,O147)","v":0}]
[]
["FF-201",null,null,null,null,null,null,null,null,null,null,null,null,null,null,null,null,"",{"$f":"SUM(L149,N149,P149,R149)","v":0},null,{"$f":"SUM(K149,M149,O149)","v":0},null,null,null,{"$f":"SUM(S149,S151,S150,S152,-AB149)","v":0},null,null,{"$f":"MIN(S149:S152)","v":0}]
["FF-202",null,null,null,null,null,null,null,null,null,null,null,null,null,null,null,null,"",{"$f":"SUM(L150,N150,P150,R150)","v":0},null,{"$f":"SUM(K150,M150,O150)","v":0}]
["FF-203",null,null,null,null,null,null,null,null,null,null,null,null,null,null,null,null,"",{"$f":"SUM(L151,N151,P151,R151)","v":0},null,{"$f":"SUM(K151,M151,O151)","v":0}]
["FF-204",null,null,null,null,null,null,null,null,null,null,null,null,null,null,null,null,"",{"$f":"SUM(L152,N152,P152,R152)","v":0},null,{"$f":"SUM(K152,M152,O152)","v":0}]

{"sheet":"DramaticMR","index":4,"n_rows":122,"n_cols":14,"rows_kept":122,"cut":false,"hidden":false,"merged":[]}
["Dramatic",null,null,null,null,"Finals Medals Round Scores"]
["ID","Column1","Rank","Score","LeaveBlank","MR 1 Rank","MR 1 Score","MR2 Rank","MR 2 Score","MR3 Rank","MR 3 Score","Total MR Rank","Total MR Score","Column2"]
[{"$f":"Dramatic!A5","v":"A-202"},{"$f":"VLOOKUP(Table710[[#This Row],[ID]],Dramatic!A:H,8,FALSE)","v":"(504) Mary C."},{"$f":"Dramatic!U5","v":4},{"$f":"Dramatic!S5","v":75},{"$f":"IF((Table710[[#This Row],[Rank]]+Table710[[#This Row],[Score]])>0,1,0)","v":1},1,25,1,25,1,25,{"$f":"SUM(F3,H3,J3)","v":3},{"$f":"SUM(G3,I3,K3)","v":75},"1st"]
[{"$f":"Dramatic!A19","v":"D-201"},{"$f":"VLOOKUP(Table710[[#This Row],[ID]],Dramatic!A:H,8,FALSE)","v":"(507) Mary Anderson"},{"$f":"Dramatic!U19","v":4},{"$f":"Dramatic!S19","v":74},{"$f":"IF((Table710[[#This Row],[Rank]]+Table710[[#This Row],[Score]])>0,1,0)","v":1},2,25,3,23,2,24,{"$f":"SUM(F4,H4,J4)","v":7},{"$f":"SUM(G4,I4,K4)","v":72},"2nd"]
[{"$f":"Dramatic!A9","v":"B-201"},{"$f":"VLOOKUP(Table710[[#This Row],[ID]],Dramatic!A:H,8,FALSE)","v":"(500) Jaren Henrie"},{"$f":"Dramatic!U9","v":5},{"$f":"Dramatic!S9","v":69},{"$f":"IF((Table710[[#This Row],[Rank]]+Table710[[#This Row],[Score]])>0,1,0)","v":1},4,24,4,23,5,21,{"$f":"SUM(F5,H5,J5)","v":13},{"$f":"SUM(G5,I5,K5)","v":68}]
[{"$f":"Dramatic!A11","v":"B-203"},{"$f":"VLOOKUP(Table710[[#This Row],[ID]],Dramatic!A:H,8,FALSE)","v":"(502) Kam Petsche"},{"$f":"Dramatic!U11","v":7},{"$f":"Dramatic!S11","v":72},{"$f":"IF((Table710[[#This Row],[Rank]]+Table710[[#This Row],[Score]])>0,1,0)","v":1},3,24,2,24,3,23,{"$f":"SUM(F6,H6,J6)","v":8},{"$f":"SUM(G6,I6,K6)","v":71},"3rd"]
[{"$f":"Dramatic!A10","v":"B-202"},{"$f":"VLOOKUP(Table710[[#This Row],[ID]],Dramatic!A:H,8,FALSE)","v":"(501) Layna Hatch"},{"$f":"Dramatic!U10","v":9},{"$f":"Dramatic!S10","v":71},{"$f":"IF((Table710[[#This Row],[Rank]]+Table710[[#This Row],[Score]])>0,1,0)","v":1},5,24,5,23,4,23,{"$f":"SUM(F7,H7,J7)","v":14},{"$f":"SUM(G7,I7,K7)","v":70}]
[{"$f":"Dramatic!A29","v":"F-201"},{"$f":"VLOOKUP(Table710[[#This Row],[ID]],Dramatic!A:H,8,FALSE)","v":"(509) Raif McCoy"},{"$f":"Dramatic!U29","v":10},{"$f":"Dramatic!S29","v":70},{"$f":"IF((Table710[[#This Row],[Rank]]+Table710[[#This Row],[Score]])>0,1,0)","v":1},null,null,null,null,null,null,{"$f":"SUM(F8,H8,J8)","v":0},{"$f":"SUM(G8,I8,K8)","v":0}]
[{"$f":"Dramatic!A7","v":"A-204"},{"$f":"VLOOKUP(Table710[[#This Row],[ID]],Dramatic!A:H,8,FALSE)","v":"(506) Ameerah"},{"$f":"Dramatic!U7","v":10},{"$f":"Dramatic!S7","v":68},{"$f":"IF((Table710[[#This Row],[Rank]]+Table710[[#This Row],[Score]])>0,1,0)","v":1},null,null,null,null,null,null,{"$f":"SUM(F9,H9,J9)","v":0},{"$f":"SUM(G9,I9,K9)","v":0}]
[{"$f":"Dramatic!A20","v":"D-202"},{"$f":"VLOOKUP(Table710[[#This Row],[ID]],Dramatic!A:H,8,FALSE)","v":"(508) Jacalyn Hulce"},{"$f":"Dramatic!U20","v":11},{"$f":"Dramatic!S20","v":60},{"$f":"IF((Table710[[#This Row],[Rank]]+Table710[[#This Row],[Score]])>0,1,0)","v":1},null,null,null,null,null,null,{"$f":"SUM(F10,H10,J10)","v":0},{"$f":"SUM(G10,I10,K10)","v":0}]
[{"$f":"Dramatic!A4","v":"A-201"},{"$f":"VLOOKUP(Table710[[#This Row],[ID]],Dramatic!A:H,8,FALSE)","v":"(503) Cole B."},{"$f":"Dramatic!U4","v":12},{"$f":"Dramatic!S4","v":61},{"$f":"IF((Table710[[#This Row],[Rank]]+Table710[[#This Row],[Score]])>0,1,0)","v":1},null,null,null,null,null,null,{"$f":"SUM(F11,H11,J11)","v":0},{"$f":"SUM(G11,I11,K11)","v":0}]
[{"$f":"Dramatic!A6","v":"A-203"},{"$f":"VLOOKUP(Table710[[#This Row],[ID]],Dramatic!A:H,8,FALSE)","v":"(505) Melissa P."},{"$f":"Dramatic!U6","v":12},{"$f":"Dramatic!S6","v":58},{"$f":"IF((Table710[[#This Row],[Rank]]+Table710[[#This Row],[Score]])>0,1,0)","v":1},null,null,null,null,null,null,{"$f":"SUM(F12,H12,J12)","v":0},{"$f":"SUM(G12,I12,K12)","v":0}]
[{"$f":"Dramatic!A124","v":"AA-201"},{"$f":"VLOOKUP(Table710[[#This Row],[ID]],Dramatic!A:H,8,FALSE)","v":0},{"$f":"Dramatic!U124","v":0},{"$f":"Dramatic!S124","v":0},{"$f":"IF((Table710[[#This Row],[Rank]]+Table710[[#This Row],[Score]])>0,1,0)","v":0},null,null,null,null,null,null,{"$f":"SUM(F13,H13,J13)","v":0},{"$f":"SUM(G13,I13,K13)","v":0}]
[{"$f":"Dramatic!A125","v":"AA-202"},{"$f":"VLOOKUP(Table710[[#This Row],[ID]],Dramatic!A:H,8,FALSE)","v":0},{"$f":"Dramatic!U125","v":0},{"$f":"Dramatic!S125","v":0},{"$f":"IF((Table710[[#This Row],[Rank]]+Table710[[#This Row],[Score]])>0,1,0)","v":0},null,null,null,null,null,null,{"$f":"SUM(F14,H14,J14)","v":0},{"$f":"SUM(G14,I14,K14)","v":0}]
[{"$f":"Dramatic!A126","v":"AA-203"},{"$f":"VLOOKUP(Table710[[#This Row],[ID]],Dramatic!A:H,8,FALSE)","v":0},{"$f":"Dramatic!U126","v":0},{"$f":"Dramatic!S126","v":0},{"$f":"IF((Table710[[#This Row],[Rank]]+Table710[[#This Row],[Score]])>0,1,0)","v":0},null,null,null,null,null,null,{"$f":"SUM(F15,H15,J15)","v":0},{"$f":"SUM(G15,I15,K15)","v":0}]
[{"$f":"Dramatic!A127","v":"AA-204"},{"$f":"VLOOKUP(Table710[[#This Row],[ID]],Dramatic!A:H,8,FALSE)","v":0},{"$f":"Dramatic!U127","v":0},{"$f":"Dramatic!S127","v":0},{"$f":"IF((Table710[[#This Row],[Rank]]+Table710[[#This Row],[Score]])>0,1,0)","v":0},null,null,null,null,null,null,{"$f":"SUM(F16,H16,J16)","v":0},{"$f":"SUM(G16,I16,K16)","v":0}]
[{"$f":"Dramatic!A12","v":"B-204"},{"$f":"VLOOKUP(Table710[[#This Row],[ID]],Dramatic!A:H,8,FALSE)","v":0},{"$f":"Dramatic!U12","v":0},{"$f":"Dramatic!S12","v":0},{"$f":"IF((Table710[[#This Row],[Rank]]+Table710[[#This Row],[Score]])>0,1,0)","v":0},null,null,null,null,null,null,{"$f":"SUM(F17,H17,J17)","v":0},{"$f":"SUM(G17,I17,K17)","v":0}]
[{"$f":"Dramatic!A129","v":"BB-201"},{"$f":"VLOOKUP(Table710[[#This Row],[ID]],Dramatic!A:H,8,FALSE)","v":0},{"$f":"Dramatic!U129","v":0},{"$f":"Dramatic!S129","v":0},{"$f":"IF((Table710[[#This Row],[Rank]]+Table710[[#This Row],[Score]])>0,1,0)","v":0},null,null,null,null,null,null,{"$f":"SUM(F18,H18,J18)","v":0},{"$f":"SUM(G18,I18,K18)","v":0}]
[{"$f":"Dramatic!A130","v":"BB-202"},{"$f":"VLOOKUP(Table710[[#This Row],[ID]],Dramatic!A:H,8,FALSE)","v":0},{"$f":"Dramatic!U130","v":0},{"$f":"Dramatic!S130","v":0},{"$f":"IF((Table710[[#This Row],[Rank]]+Table710[[#This Row],[Score]])>0,1,0)","v":0},null,null,null,null,null,null,{"$f":"SUM(F19,H19,J19)","v":0},{"$f":"SUM(G19,I19,K19)","v":0}]
[{"$f":"Dramatic!A131","v":"BB-203"},{"$f":"VLOOKUP(Table710[[#This Row],[ID]],Dramatic!A:H,8,FALSE)","v":0},{"$f":"Dramatic!U131","v":0},{"$f":"Dramatic!S131","v":0},{"$f":"IF((Table710[[#This Row],[Rank]]+Table710[[#This Row],[Score]])>0,1,0)","v":0},null,null,null,null,null,null,{"$f":"SUM(F20,H20,J20)","v":0},{"$f":"SUM(G20,I20,K20)","v":0}]
[{"$f":"Dramatic!A132","v":"BB-204"},{"$f":"VLOOKUP(Table710[[#This Row],[ID]],Dramatic!A:H,8,FALSE)","v":0},{"$f":"Dramatic!U132","v":0},{"$f":"Dramatic!S132","v":0},{"$f":"IF((Table710[[#This Row],[Rank]]+Table710[[#This Row],[Score]])>0,1,0)","v":0},null,null,null,null,null,null,{"$f":"SUM(F21,H21,J21)","v":0},{"$f":"SUM(G21,I21,K21)","v":0}]
[{"$f":"Dramatic!A14","v":"C-201"},{"$f":"VLOOKUP(Table710[[#This Row],[ID]],Dramatic!A:H,8,FALSE)","v":0},{"$f":"Dramatic!U14","v":0},{"$f":"Dramatic!S14","v":0},{"$f":"IF((Table710[[#This Row],[Rank]]+Table710[[#This Row],[Score]])>0,1,0)","v":0},null,null,null,null,null,null,{"$f":"SUM(F22,H22,J22)","v":0},{"$f":"SUM(G22,I22,K22)","v":0}]
[{"$f":"Dramatic!A15","v":"C-202"},{"$f":"VLOOKUP(Table710[[#This Row],[ID]],Dramatic!A:H,8,FALSE)","v":0},{"$f":"Dramatic!U15","v":0},{"$f":"Dramatic!S15","v":0},{"$f":"IF((Table710[[#This Row],[Rank]]+Table710[[#This Row],[Score]])>0,1,0)","v":0},null,null,null,null,null,null,{"$f":"SUM(F23,H23,J23)","v":0},{"$f":"SUM(G23,I23,K23)","v":0}]
[{"$f":"Dramatic!A16","v":"C-203"},{"$f":"VLOOKUP(Table710[[#This Row],[ID]],Dramatic!A:H,8,FALSE)","v":0},{"$f":"Dramatic!U16","v":0},{"$f":"Dramatic!S16","v":0},{"$f":"IF((Table710[[#This Row],[Rank]]+Table710[[#This Row],[Score]])>0,1,0)","v":0},null,null,null,null,null,null,{"$f":"SUM(F24,H24,J24)","v":0},{"$f":"SUM(G24,I24,K24)","v":0}]
[{"$f":"Dramatic!A17","v":"C-204"},{"$f":"VLOOKUP(Table710[[#This Row],[ID]],Dramatic!A:H,8,FALSE)","v":0},{"$f":"Dramatic!U17","v":0},{"$f":"Dramatic!S17","v":0},{"$f":"IF((Table710[[#This Row],[Rank]]+Table710[[#This Row],[Score]])>0,1,0)","v":0},null,null,null,null,null,null,{"$f":"SUM(F25,H25,J25)","v":0},{"$f":"SUM(G25,I25,K25)","v":0}]
[{"$f":"Dramatic!A134","v":"CC-201"},{"$f":"VLOOKUP(Table710[[#This Row],[ID]],Dramatic!A:H,8,FALSE)","v":0},{"$f":"Dramatic!U134","v":0},{"$f":"Dramatic!S134","v":0},{"$f":"IF((Table710[[#This Row],[Rank]]+Table710[[#This Row],[Score]])>0,1,0)","v":0},null,null,null,null,null,null,{"$f":"SUM(F26,H26,J26)","v":0},{"$f":"SUM(G26,I26,K26)","v":0}]
[{"$f":"Dramatic!A135","v":"CC-202"},{"$f":"VLOOKUP(Table710[[#This Row],[ID]],Dramatic!A:H,8,FALSE)","v":0},{"$f":"Dramatic!U135","v":0},{"$f":"Dramatic!S135","v":0},{"$f":"IF((Table710[[#This Row],[Rank]]+Table710[[#This Row],[Score]])>0,1,0)","v":0},null,null,null,null,null,null,{"$f":"SUM(F27,H27,J27)","v":0},{"$f":"SUM(G27,I27,K27)","v":0}]
[{"$f":"Dramatic!A136","v":"CC-203"},{"$f":"VLOOKUP(Table710[[#This Row],[ID]],Dramatic!A:H,8,FALSE)","v":0},{"$f":"Dramatic!U136","v":0},{"$f":"Dramatic!S136","v":0},{"$f":"IF((Table710[[#This Row],[Rank]]+Table710[[#This Row],[Score]])>0,1,0)","v":0},null,null,null,null,null,null,{"$f":"SUM(F28,H28,J28)","v":0},{"$f":"SUM(G28,I28,K28)","v":0}]
[{"$f":"Dramatic!A137","v":"CC-204"},{"$f":"VLOOKUP(Table710[[#This Row],[ID]],Dramatic!A:H,8,FALSE)","v":0},{"$f":"Dramatic!U137","v":0},{"$f":"Dramatic!S137","v":0},{"$f":"IF((Table710[[#This Row],[Rank]]+Table710[[#This Row],[Score]])>0,1,0)","v":0},null,null,null,null,null,null,{"$f":"SUM(F29,H29,J29)","v":0},{"$f":"SUM(G29,I29,K29)","v":0}]
[{"$f":"Dramatic!A21","v":"D-203"},{"$f":"VLOOKUP(Table710[[#This Row],[ID]],Dramatic!A:H,8,FALSE)","v":0},{"$f":"Dramatic!U21","v":0},{"$f":"Dramatic!S21","v":0},{"$f":"IF((Table710[[#This Row],[Rank]]+Table710[[#This Row],[Score]])>0,1,0)","v":0},null,null,null,null,null,null,{"$f":"SUM(F30,H30,J30)","v":0},{"$f":"SUM(G30,I30,K30)","v":0}]
[{"$f":"Dramatic!A22","v":"D-204"},{"$f":"VLOOKUP(Table710[[#This Row],[ID]],Dramatic!A:H,8,FALSE)","v":0},{"$f":"Dramatic!U22","v":0},{"$f":"Dramatic!S22","v":0},{"$f":"IF((Table710[[#This Row],[Rank]]+Table710[[#This Row],[Score]])>0,1,0)","v":0},null,null,null,null,null,null,{"$f":"SUM(F31,H31,J31)","v":0},{"$f":"SUM(G31,I31,K31)","v":0}]
[{"$f":"Dramatic!A139","v":"DD-201"},{"$f":"VLOOKUP(Table710[[#This Row],[ID]],Dramatic!A:H,8,FALSE)","v":0},{"$f":"Dramatic!U139","v":0},{"$f":"Dramatic!S139","v":0},{"$f":"IF((Table710[[#This Row],[Rank]]+Table710[[#This Row],[Score]])>0,1,0)","v":0},null,null,null,null,null,null,{"$f":"SUM(F32,H32,J32)","v":0},{"$f":"SUM(G32,I32,K32)","v":0}]
[{"$f":"Dramatic!A140","v":"DD-202"},{"$f":"VLOOKUP(Table710[[#This Row],[ID]],Dramatic!A:H,8,FALSE)","v":0},{"$f":"Dramatic!U140","v":0},{"$f":"Dramatic!S140","v":0},{"$f":"IF((Table710[[#This Row],[Rank]]+Table710[[#This Row],[Score]])>0,1,0)","v":0},null,null,null,null,null,null,{"$f":"SUM(F33,H33,J33)","v":0},{"$f":"SUM(G33,I33,K33)","v":0}]
[{"$f":"Dramatic!A141","v":"DD-203"},{"$f":"VLOOKUP(Table710[[#This Row],[ID]],Dramatic!A:H,8,FALSE)","v":0},{"$f":"Dramatic!U141","v":0},{"$f":"Dramatic!S141","v":0},{"$f":"IF((Table710[[#This Row],[Rank]]+Table710[[#This Row],[Score]])>0,1,0)","v":0},null,null,null,null,null,null,{"$f":"SUM(F34,H34,J34)","v":0},{"$f":"SUM(G34,I34,K34)","v":0}]
[{"$f":"Dramatic!A142","v":"DD-204"},{"$f":"VLOOKUP(Table710[[#This Row],[ID]],Dramatic!A:H,8,FALSE)","v":0},{"$f":"Dramatic!U142","v":0},{"$f":"Dramatic!S142","v":0},{"$f":"IF((Table710[[#This Row],[Rank]]+Table710[[#This Row],[Score]])>0,1,0)","v":0},null,null,null,null,null,null,{"$f":"SUM(F35,H35,J35)","v":0},{"$f":"SUM(G35,I35,K35)","v":0}]
[{"$f":"Dramatic!A24","v":"E-201"},{"$f":"VLOOKUP(Table710[[#This Row],[ID]],Dramatic!A:H,8,FALSE)","v":0},{"$f":"Dramatic!U24","v":0},{"$f":"Dramatic!S24","v":0},{"$f":"IF((Table710[[#This Row],[Rank]]+Table710[[#This Row],[Score]])>0,1,0)","v":0},null,null,null,null,null,null,{"$f":"SUM(F36,H36,J36)","v":0},{"$f":"SUM(G36,I36,K36)","v":0}]
[{"$f":"Dramatic!A25","v":"E-202"},{"$f":"VLOOKUP(Table710[[#This Row],[ID]],Dramatic!A:H,8,FALSE)","v":0},{"$f":"Dramatic!U25","v":0},{"$f":"Dramatic!S25","v":0},{"$f":"IF((Table710[[#This Row],[Rank]]+Table710[[#This Row],[Score]])>0,1,0)","v":0},null,null,null,null,null,null,{"$f":"SUM(F37,H37,J37)","v":0},{"$f":"SUM(G37,I37,K37)","v":0}]
[{"$f":"Dramatic!A26","v":"E-203"},{"$f":"VLOOKUP(Table710[[#This Row],[ID]],Dramatic!A:H,8,FALSE)","v":0},{"$f":"Dramatic!U26","v":0},{"$f":"Dramatic!S26","v":0},{"$f":"IF((Table710[[#This Row],[Rank]]+Table710[[#This Row],[Score]])>0,1,0)","v":0},null,null,null,null,null,null,{"$f":"SUM(F38,H38,J38)","v":0},{"$f":"SUM(G38,I38,K38)","v":0}]
[{"$f":"Dramatic!A27","v":"E-204"},{"$f":"VLOOKUP(Table710[[#This Row],[ID]],Dramatic!A:H,8,FALSE)","v":0},{"$f":"Dramatic!U27","v":0},{"$f":"Dramatic!S27","v":0},{"$f":"IF((Table710[[#This Row],[Rank]]+Table710[[#This Row],[Score]])>0,1,0)","v":0},null,null,null,null,null,null,{"$f":"SUM(F39,H39,J39)","v":0},{"$f":"SUM(G39,I39,K39)","v":0}]
[{"$f":"Dramatic!A144","v":"EE-201"},{"$f":"VLOOKUP(Table710[[#This Row],[ID]],Dramatic!A:H,8,FALSE)","v":0},{"$f":"Dramatic!U144","v":0},{"$f":"Dramatic!S144","v":0},{"$f":"IF((Table710[[#This Row],[Rank]]+Table710[[#This Row],[Score]])>0,1,0)","v":0},null,null,null,null,null,null,{"$f":"SUM(F40,H40,J40)","v":0},{"$f":"SUM(G40,I40,K40)","v":0}]
[{"$f":"Dramatic!A145","v":"EE-202"},{"$f":"VLOOKUP(Table710[[#This Row],[ID]],Dramatic!A:H,8,FALSE)","v":0},{"$f":"Dramatic!U145","v":0},{"$f":"Dramatic!S145","v":0},{"$f":"IF((Table710[[#This Row],[Rank]]+Table710[[#This Row],[Score]])>0,1,0)","v":0},null,null,null,null,null,null,{"$f":"SUM(F41,H41,J41)","v":0},{"$f":"SUM(G41,I41,K41)","v":0}]
[{"$f":"Dramatic!A146","v":"EE-203"},{"$f":"VLOOKUP(Table710[[#This Row],[ID]],Dramatic!A:H,8,FALSE)","v":0},{"$f":"Dramatic!U146","v":0},{"$f":"Dramatic!S146","v":0},{"$f":"IF((Table710[[#This Row],[Rank]]+Table710[[#This Row],[Score]])>0,1,0)","v":0},null,null,null,null,null,null,{"$f":"SUM(F42,H42,J42)","v":0},{"$f":"SUM(G42,I42,K42)","v":0}]
[{"$f":"Dramatic!A147","v":"EE-204"},{"$f":"VLOOKUP(Table710[[#This Row],[ID]],Dramatic!A:H,8,FALSE)","v":0},{"$f":"Dramatic!U147","v":0},{"$f":"Dramatic!S147","v":0},{"$f":"IF((Table710[[#This Row],[Rank]]+Table710[[#This Row],[Score]])>0,1,0)","v":0},null,null,null,null,null,null,{"$f":"SUM(F43,H43,J43)","v":0},{"$f":"SUM(G43,I43,K43)","v":0}]
[{"$f":"Dramatic!A30","v":"F-202"},{"$f":"VLOOKUP(Table710[[#This Row],[ID]],Dramatic!A:H,8,FALSE)","v":0},{"$f":"Dramatic!U30","v":0},{"$f":"Dramatic!S30","v":0},{"$f":"IF((Table710[[#This Row],[Rank]]+Table710[[#This Row],[Score]])>0,1,0)","v":0},null,null,null,null,null,null,{"$f":"SUM(F44,H44,J44)","v":0},{"$f":"SUM(G44,I44,K44)","v":0}]
[{"$f":"Dramatic!A32","v":"F-204"},{"$f":"VLOOKUP(Table710[[#This Row],[ID]],Dramatic!A:H,8,FALSE)","v":0},{"$f":"Dramatic!U32","v":0},{"$f":"Dramatic!S32","v":0},{"$f":"IF((Table710[[#This Row],[Rank]]+Table710[[#This Row],[Score]])>0,1,0)","v":0},null,null,null,null,null,null,{"$f":"SUM(F45,H45,J45)","v":0},{"$f":"SUM(G45,I45,K45)","v":0}]
[{"$f":"Dramatic!A149","v":"FF-201"},{"$f":"VLOOKUP(Table710[[#This Row],[ID]],Dramatic!A:H,8,FALSE)","v":0},{"$f":"Dramatic!U149","v":0},{"$f":"Dramatic!S149","v":0},{"$f":"IF((Table710[[#This Row],[Rank]]+Table710[[#This Row],[Score]])>0,1,0)","v":0},null,null,null,null,null,null,{"$f":"SUM(F46,H46,J46)","v":0},{"$f":"SUM(G46,I46,K46)","v":0}]
[{"$f":"Dramatic!A150","v":"FF-202"},{"$f":"VLOOKUP(Table710[[#This Row],[ID]],Dramatic!A:H,8,FALSE)","v":0},{"$f":"Dramatic!U150","v":0},{"$f":"Dramatic!S150","v":0},{"$f":"IF((Table710[[#This Row],[Rank]]+Table710[[#This Row],[Score]])>0,1,0)","v":0},null,null,null,null,null,null,{"$f":"SUM(F47,H47,J47)","v":0},{"$f":"SUM(G47,I47,K47)","v":0}]
[{"$f":"Dramatic!A151","v":"FF-203"},{"$f":"VLOOKUP(Table710[[#This Row],[ID]],Dramatic!A:H,8,FALSE)","v":0},{"$f":"Dramatic!U151","v":0},{"$f":"Dramatic!S151","v":0},{"$f":"IF((Table710[[#This Row],[Rank]]+Table710[[#This Row],[Score]])>0,1,0)","v":0},null,null,null,null,null,null,{"$f":"SUM(F48,H48,J48)","v":0},{"$f":"SUM(G48,I48,K48)","v":0}]
[{"$f":"Dramatic!A152","v":"FF-204"},{"$f":"VLOOKUP(Table710[[#This Row],[ID]],Dramatic!A:H,8,FALSE)","v":0},{"$f":"Dramatic!U152","v":0},{"$f":"Dramatic!S152","v":0},{"$f":"IF((Table710[[#This Row],[Rank]]+Table710[[#This Row],[Score]])>0,1,0)","v":0},null,null,null,null,null,null,{"$f":"SUM(F49,H49,J49)","v":0},{"$f":"SUM(G49,I49,K49)","v":0}]
[{"$f":"Dramatic!A34","v":"G-201"},{"$f":"VLOOKUP(Table710[[#This Row],[ID]],Dramatic!A:H,8,FALSE)","v":0},{"$f":"Dramatic!U34","v":0},{"$f":"Dramatic!S34","v":0},{"$f":"IF((Table710[[#This Row],[Rank]]+Table710[[#This Row],[Score]])>0,1,0)","v":0},null,null,null,null,null,null,{"$f":"SUM(F50,H50,J50)","v":0},{"$f":"SUM(G50,I50,K50)","v":0}]
[{"$f":"Dramatic!A35","v":"G-202"},{"$f":"VLOOKUP(Table710[[#This Row],[ID]],Dramatic!A:H,8,FALSE)","v":0},{"$f":"Dramatic!U35","v":0},{"$f":"Dramatic!S35","v":0},{"$f":"IF((Table710[[#This Row],[Rank]]+Table710[[#This Row],[Score]])>0,1,0)","v":0},null,null,null,null,null,null,{"$f":"SUM(F51,H51,J51)","v":0},{"$f":"SUM(G51,I51,K51)","v":0}]
[{"$f":"Dramatic!A36","v":"G-203"},{"$f":"VLOOKUP(Table710[[#This Row],[ID]],Dramatic!A:H,8,FALSE)","v":0},{"$f":"Dramatic!U36","v":0},{"$f":"Dramatic!S36","v":0},{"$f":"IF((Table710[[#This Row],[Rank]]+Table710[[#This Row],[Score]])>0,1,0)","v":0},null,null,null,null,null,null,{"$f":"SUM(F52,H52,J52)","v":0},{"$f":"SUM(G52,I52,K52)","v":0}]
[{"$f":"Dramatic!A37","v":"G-204"},{"$f":"VLOOKUP(Table710[[#This Row],[ID]],Dramatic!A:H,8,FALSE)","v":0},{"$f":"Dramatic!U37","v":0},{"$f":"Dramatic!S37","v":0},{"$f":"IF((Table710[[#This Row],[Rank]]+Table710[[#This Row],[Score]])>0,1,0)","v":0},null,null,null,null,null,null,{"$f":"SUM(F53,H53,J53)","v":0},{"$f":"SUM(G53,I53,K53)","v":0}]
[{"$f":"Dramatic!A39","v":"H-201"},{"$f":"VLOOKUP(Table710[[#This Row],[ID]],Dramatic!A:H,8,FALSE)","v":0},{"$f":"Dramatic!U39","v":0},{"$f":"Dramatic!S39","v":0},{"$f":"IF((Table710[[#This Row],[Rank]]+Table710[[#This Row],[Score]])>0,1,0)","v":0},null,null,null,null,null,null,{"$f":"SUM(F54,H54,J54)","v":0},{"$f":"SUM(G54,I54,K54)","v":0}]
[{"$f":"Dramatic!A40","v":"H-202"},{"$f":"VLOOKUP(Table710[[#This Row],[ID]],Dramatic!A:H,8,FALSE)","v":0},{"$f":"Dramatic!U40","v":0},{"$f":"Dramatic!S40","v":0},{"$f":"IF((Table710[[#This Row],[Rank]]+Table710[[#This Row],[Score]])>0,1,0)","v":0},null,null,null,null,null,null,{"$f":"SUM(F55,H55,J55)","v":0},{"$f":"SUM(G55,I55,K55)","v":0}]
[{"$f":"Dramatic!A41","v":"H-203"},{"$f":"VLOOKUP(Table710[[#This Row],[ID]],Dramatic!A:H,8,FALSE)","v":0},{"$f":"Dramatic!U41","v":0},{"$f":"Dramatic!S41","v":0},{"$f":"IF((Table710[[#This Row],[Rank]]+Table710[[#This Row],[Score]])>0,1,0)","v":0},null,null,null,null,null,null,{"$f":"SUM(F56,H56,J56)","v":0},{"$f":"SUM(G56,I56,K56)","v":0}]
[{"$f":"Dramatic!A42","v":"H-204"},{"$f":"VLOOKUP(Table710[[#This Row],[ID]],Dramatic!A:H,8,FALSE)","v":0},{"$f":"Dramatic!U42","v":0},{"$f":"Dramatic!S42","v":0},{"$f":"IF((Table710[[#This Row],[Rank]]+Table710[[#This Row],[Score]])>0,1,0)","v":0},null,null,null,null,null,null,{"$f":"SUM(F57,H57,J57)","v":0},{"$f":"SUM(G57,I57,K57)","v":0}]
[{"$f":"Dramatic!A44","v":"J-201"},{"$f":"VLOOKUP(Table710[[#This Row],[ID]],Dramatic!A:H,8,FALSE)","v":0},{"$f":"Dramatic!U44","v":0},{"$f":"Dramatic!S44","v":0},{"$f":"IF((Table710[[#This Row],[Rank]]+Table710[[#This Row],[Score]])>0,1,0)","v":0},null,null,null,null,null,null,{"$f":"SUM(F58,H58,J58)","v":0},{"$f":"SUM(G58,I58,K58)","v":0}]
[{"$f":"Dramatic!A45","v":"J-202"},{"$f":"VLOOKUP(Table710[[#This Row],[ID]],Dramatic!A:H,8,FALSE)","v":0},{"$f":"Dramatic!U45","v":0},{"$f":"Dramatic!S45","v":0},{"$f":"IF((Table710[[#This Row],[Rank]]+Table710[[#This Row],[Score]])>0,1,0)","v":0},null,null,null,null,null,null,{"$f":"SUM(F59,H59,J59)","v":0},{"$f":"SUM(G59,I59,K59)","v":0}]
[{"$f":"Dramatic!A46","v":"J-203"},{"$f":"VLOOKUP(Table710[[#This Row],[ID]],Dramatic!A:H,8,FALSE)","v":0},{"$f":"Dramatic!U46","v":0},{"$f":"Dramatic!S46","v":0},{"$f":"IF((Table710[[#This Row],[Rank]]+Table710[[#This Row],[Score]])>0,1,0)","v":0},null,null,null,null,null,null,{"$f":"SUM(F60,H60,J60)","v":0},{"$f":"SUM(G60,I60,K60)","v":0}]
[{"$f":"Dramatic!A47","v":"J-204"},{"$f":"VLOOKUP(Table710[[#This Row],[ID]],Dramatic!A:H,8,FALSE)","v":0},{"$f":"Dramatic!U47","v":0},{"$f":"Dramatic!S47","v":0},{"$f":"IF((Table710[[#This Row],[Rank]]+Table710[[#This Row],[Score]])>0,1,0)","v":0},null,null,null,null,null,null,{"$f":"SUM(F61,H61,J61)","v":0},{"$f":"SUM(G61,I61,K61)","v":0}]
[{"$f":"Dramatic!A49","v":"K-201"},{"$f":"VLOOKUP(Table710[[#This Row],[ID]],Dramatic!A:H,8,FALSE)","v":0},{"$f":"Dramatic!U49","v":0},{"$f":"Dramatic!S49","v":0},{"$f":"IF((Table710[[#This Row],[Rank]]+Table710[[#This Row],[Score]])>0,1,0)","v":0},null,null,null,null,null,null,{"$f":"SUM(F62,H62,J62)","v":0},{"$f":"SUM(G62,I62,K62)","v":0}]
[{"$f":"Dramatic!A50","v":"K-202"},{"$f":"VLOOKUP(Table710[[#This Row],[ID]],Dramatic!A:H,8,FALSE)","v":0},{"$f":"Dramatic!U50","v":0},{"$f":"Dramatic!S50","v":0},{"$f":"IF((Table710[[#This Row],[Rank]]+Table710[[#This Row],[Score]])>0,1,0)","v":0},null,null,null,null,null,null,{"$f":"SUM(F63,H63,J63)","v":0},{"$f":"SUM(G63,I63,K63)","v":0}]
[{"$f":"Dramatic!A51","v":"K-203"},{"$f":"VLOOKUP(Table710[[#This Row],[ID]],Dramatic!A:H,8,FALSE)","v":0},{"$f":"Dramatic!U51","v":0},{"$f":"Dramatic!S51","v":0},{"$f":"IF((Table710[[#This Row],[Rank]]+Table710[[#This Row],[Score]])>0,1,0)","v":0},null,null,null,null,null,null,{"$f":"SUM(F64,H64,J64)","v":0},{"$f":"SUM(G64,I64,K64)","v":0}]
[{"$f":"Dramatic!A52","v":"K-204"},{"$f":"VLOOKUP(Table710[[#This Row],[ID]],Dramatic!A:H,8,FALSE)","v":0},{"$f":"Dramatic!U52","v":0},{"$f":"Dramatic!S52","v":0},{"$f":"IF((Table710[[#This Row],[Rank]]+Table710[[#This Row],[Score]])>0,1,0)","v":0},null,null,null,null,null,null,{"$f":"SUM(F65,H65,J65)","v":0},{"$f":"SUM(G65,I65,K65)","v":0}]
[{"$f":"Dramatic!A54","v":"L-201"},{"$f":"VLOOKUP(Table710[[#This Row],[ID]],Dramatic!A:H,8,FALSE)","v":0},{"$f":"Dramatic!U54","v":0},{"$f":"Dramatic!S54","v":0},{"$f":"IF((Table710[[#This Row],[Rank]]+Table710[[#This Row],[Score]])>0,1,0)","v":0},null,null,null,null,null,null,{"$f":"SUM(F66,H66,J66)","v":0},{"$f":"SUM(G66,I66,K66)","v":0}]
[{"$f":"Dramatic!A55","v":"L-202"},{"$f":"VLOOKUP(Table710[[#This Row],[ID]],Dramatic!A:H,8,FALSE)","v":0},{"$f":"Dramatic!U55","v":0},{"$f":"Dramatic!S55","v":0},{"$f":"IF((Table710[[#This Row],[Rank]]+Table710[[#This Row],[Score]])>0,1,0)","v":0},null,null,null,null,null,null,{"$f":"SUM(F67,H67,J67)","v":0},{"$f":"SUM(G67,I67,K67)","v":0}]
[{"$f":"Dramatic!A56","v":"L-203"},{"$f":"VLOOKUP(Table710[[#This Row],[ID]],Dramatic!A:H,8,FALSE)","v":0},{"$f":"Dramatic!U56","v":0},{"$f":"Dramatic!S56","v":0},{"$f":"IF((Table710[[#This Row],[Rank]]+Table710[[#This Row],[Score]])>0,1,0)","v":0},null,null,null,null,null,null,{"$f":"SUM(F68,H68,J68)","v":0},{"$f":"SUM(G68,I68,K68)","v":0}]
[{"$f":"Dramatic!A57","v":"L-204"},{"$f":"VLOOKUP(Table710[[#This Row],[ID]],Dramatic!A:H,8,FALSE)","v":0},{"$f":"Dramatic!U57","v":0},{"$f":"Dramatic!S57","v":0},{"$f":"IF((Table710[[#This Row],[Rank]]+Table710[[#This Row],[Score]])>0,1,0)","v":0},null,null,null,null,null,null,{"$f":"SUM(F69,H69,J69)","v":0},{"$f":"SUM(G69,I69,K69)","v":0}]
[{"$f":"Dramatic!A59","v":"M-201"},{"$f":"VLOOKUP(Table710[[#This Row],[ID]],Dramatic!A:H,8,FALSE)","v":0},{"$f":"Dramatic!U59","v":0},{"$f":"Dramatic!S59","v":0},{"$f":"IF((Table710[[#This Row],[Rank]]+Table710[[#This Row],[Score]])>0,1,0)","v":0},null,null,null,null,null,null,{"$f":"SUM(F70,H70,J70)","v":0},{"$f":"SUM(G70,I70,K70)","v":0}]
[{"$f":"Dramatic!A60","v":"M-202"},{"$f":"VLOOKUP(Table710[[#This Row],[ID]],Dramatic!A:H,8,FALSE)","v":0},{"$f":"Dramatic!U60","v":0},{"$f":"Dramatic!S60","v":0},{"$f":"IF((Table710[[#This Row],[Rank]]+Table710[[#This Row],[Score]])>0,1,0)","v":0},null,null,null,null,null,null,{"$f":"SUM(F71,H71,J71)","v":0},{"$f":"SUM(G71,I71,K71)","v":0}]
[{"$f":"Dramatic!A61","v":"M-203"},{"$f":"VLOOKUP(Table710[[#This Row],[ID]],Dramatic!A:H,8,FALSE)","v":0},{"$f":"Dramatic!U61","v":0},{"$f":"Dramatic!S61","v":0},{"$f":"IF((Table710[[#This Row],[Rank]]+Table710[[#This Row],[Score]])>0,1,0)","v":0},null,null,null,null,null,null,{"$f":"SUM(F72,H72,J72)","v":0},{"$f":"SUM(G72,I72,K72)","v":0}]
[{"$f":"Dramatic!A62","v":"M-204"},{"$f":"VLOOKUP(Table710[[#This Row],[ID]],Dramatic!A:H,8,FALSE)","v":0},{"$f":"Dramatic!U62","v":0},{"$f":"Dramatic!S62","v":0},{"$f":"IF((Table710[[#This Row],[Rank]]+Table710[[#This Row],[Score]])>0,1,0)","v":0},null,null,null,null,null,null,{"$f":"SUM(F73,H73,J73)","v":0},{"$f":"SUM(G73,I73,K73)","v":0}]
[{"$f":"Dramatic!A64","v":"N-201"},{"$f":"VLOOKUP(Table710[[#This Row],[ID]],Dramatic!A:H,8,FALSE)","v":0},{"$f":"Dramatic!U64","v":0},{"$f":"Dramatic!S64","v":0},{"$f":"IF((Table710[[#This Row],[Rank]]+Table710[[#This Row],[Score]])>0,1,0)","v":0},null,null,null,null,null,null,{"$f":"SUM(F74,H74,J74)","v":0},{"$f":"SUM(G74,I74,K74)","v":0}]
[{"$f":"Dramatic!A65","v":"N-202"},{"$f":"VLOOKUP(Table710[[#This Row],[ID]],Dramatic!A:H,8,FALSE)","v":0},{"$f":"Dramatic!U65","v":0},{"$f":"Dramatic!S65","v":0},{"$f":"IF((Table710[[#This Row],[Rank]]+Table710[[#This Row],[Score]])>0,1,0)","v":0},null,null,null,null,null,null,{"$f":"SUM(F75,H75,J75)","v":0},{"$f":"SUM(G75,I75,K75)","v":0}]
[{"$f":"Dramatic!A66","v":"N-203"},{"$f":"VLOOKUP(Table710[[#This Row],[ID]],Dramatic!A:H,8,FALSE)","v":0},{"$f":"Dramatic!U66","v":0},{"$f":"Dramatic!S66","v":0},{"$f":"IF((Table710[[#This Row],[Rank]]+Table710[[#This Row],[Score]])>0,1,0)","v":0},null,null,null,null,null,null,{"$f":"SUM(F76,H76,J76)","v":0},{"$f":"SUM(G76,I76,K76)","v":0}]
[{"$f":"Dramatic!A67","v":"N-204"},{"$f":"VLOOKUP(Table710[[#This Row],[ID]],Dramatic!A:H,8,FALSE)","v":0},{"$f":"Dramatic!U67","v":0},{"$f":"Dramatic!S67","v":0},{"$f":"IF((Table710[[#This Row],[Rank]]+Table710[[#This Row],[Score]])>0,1,0)","v":0},null,null,null,null,null,null,{"$f":"SUM(F77,H77,J77)","v":0},{"$f":"SUM(G77,I77,K77)","v":0}]
[{"$f":"Dramatic!A69","v":"P-201"},{"$f":"VLOOKUP(Table710[[#This Row],[ID]],Dramatic!A:H,8,FALSE)","v":0},{"$f":"Dramatic!U69","v":0},{"$f":"Dramatic!S69","v":0},{"$f":"IF((Table710[[#This Row],[Rank]]+Table710[[#This Row],[Score]])>0,1,0)","v":0},null,null,null,null,null,null,{"$f":"SUM(F78,H78,J78)","v":0},{"$f":"SUM(G78,I78,K78)","v":0}]
[{"$f":"Dramatic!A70","v":"P-202"},{"$f":"VLOOKUP(Table710[[#This Row],[ID]],Dramatic!A:H,8,FALSE)","v":0},{"$f":"Dramatic!U70","v":0},{"$f":"Dramatic!S70","v":0},{"$f":"IF((Table710[[#This Row],[Rank]]+Table710[[#This Row],[Score]])>0,1,0)","v":0},null,null,null,null,null,null,{"$f":"SUM(F79,H79,J79)","v":0},{"$f":"SUM(G79,I79,K79)","v":0}]
[{"$f":"Dramatic!A71","v":"P-203"},{"$f":"VLOOKUP(Table710[[#This Row],[ID]],Dramatic!A:H,8,FALSE)","v":0},{"$f":"Dramatic!U71","v":0},{"$f":"Dramatic!S71","v":0},{"$f":"IF((Table710[[#This Row],[Rank]]+Table710[[#This Row],[Score]])>0,1,0)","v":0},null,null,null,null,null,null,{"$f":"SUM(F80,H80,J80)","v":0},{"$f":"SUM(G80,I80,K80)","v":0}]
[{"$f":"Dramatic!A72","v":"P-204"},{"$f":"VLOOKUP(Table710[[#This Row],[ID]],Dramatic!A:H,8,FALSE)","v":0},{"$f":"Dramatic!U72","v":0},{"$f":"Dramatic!S72","v":0},{"$f":"IF((Table710[[#This Row],[Rank]]+Table710[[#This Row],[Score]])>0,1,0)","v":0},null,null,null,null,null,null,{"$f":"SUM(F81,H81,J81)","v":0},{"$f":"SUM(G81,I81,K81)","v":0}]
[{"$f":"Dramatic!A74","v":"Q-201"},{"$f":"VLOOKUP(Table710[[#This Row],[ID]],Dramatic!A:H,8,FALSE)","v":0},{"$f":"Dramatic!U74","v":0},{"$f":"Dramatic!S74","v":0},{"$f":"IF((Table710[[#This Row],[Rank]]+Table710[[#This Row],[Score]])>0,1,0)","v":0},null,null,null,null,null,null,{"$f":"SUM(F82,H82,J82)","v":0},{"$f":"SUM(G82,I82,K82)","v":0}]
[{"$f":"Dramatic!A75","v":"Q-202"},{"$f":"VLOOKUP(Table710[[#This Row],[ID]],Dramatic!A:H,8,FALSE)","v":0},{"$f":"Dramatic!U75","v":0},{"$f":"Dramatic!S75","v":0},{"$f":"IF((Table710[[#This Row],[Rank]]+Table710[[#This Row],[Score]])>0,1,0)","v":0},null,null,null,null,null,null,{"$f":"SUM(F83,H83,J83)","v":0},{"$f":"SUM(G83,I83,K83)","v":0}]
[{"$f":"Dramatic!A76","v":"Q-203"},{"$f":"VLOOKUP(Table710[[#This Row],[ID]],Dramatic!A:H,8,FALSE)","v":0},{"$f":"Dramatic!U76","v":0},{"$f":"Dramatic!S76","v":0},{"$f":"IF((Table710[[#This Row],[Rank]]+Table710[[#This Row],[Score]])>0,1,0)","v":0},null,null,null,null,null,null,{"$f":"SUM(F84,H84,J84)","v":0},{"$f":"SUM(G84,I84,K84)","v":0}]
[{"$f":"Dramatic!A77","v":"Q-204"},{"$f":"VLOOKUP(Table710[[#This Row],[ID]],Dramatic!A:H,8,FALSE)","v":0},{"$f":"Dramatic!U77","v":0},{"$f":"Dramatic!S77","v":0},{"$f":"IF((Table710[[#This Row],[Rank]]+Table710[[#This Row],[Score]])>0,1,0)","v":0},null,null,null,null,null,null,{"$f":"SUM(F85,H85,J85)","v":0},{"$f":"SUM(G85,I85,K85)","v":0}]
[{"$f":"Dramatic!A79","v":"R-201"},{"$f":"VLOOKUP(Table710[[#This Row],[ID]],Dramatic!A:H,8,FALSE)","v":0},{"$f":"Dramatic!U79","v":0},{"$f":"Dramatic!S79","v":0},{"$f":"IF((Table710[[#This Row],[Rank]]+Table710[[#This Row],[Score]])>0,1,0)","v":0},null,null,null,null,null,null,{"$f":"SUM(F86,H86,J86)","v":0},{"$f":"SUM(G86,I86,K86)","v":0}]
[{"$f":"Dramatic!A80","v":"R-202"},{"$f":"VLOOKUP(Table710[[#This Row],[ID]],Dramatic!A:H,8,FALSE)","v":0},{"$f":"Dramatic!U80","v":0},{"$f":"Dramatic!S80","v":0},{"$f":"IF((Table710[[#This Row],[Rank]]+Table710[[#This Row],[Score]])>0,1,0)","v":0},null,null,null,null,null,null,{"$f":"SUM(F87,H87,J87)","v":0},{"$f":"SUM(G87,I87,K87)","v":0}]
[{"$f":"Dramatic!A81","v":"R-203"},{"$f":"VLOOKUP(Table710[[#This Row],[ID]],Dramatic!A:H,8,FALSE)","v":0},{"$f":"Dramatic!U81","v":0},{"$f":"Dramatic!S81","v":0},{"$f":"IF((Table710[[#This Row],[Rank]]+Table710[[#This Row],[Score]])>0,1,0)","v":0},null,null,null,null,null,null,{"$f":"SUM(F88,H88,J88)","v":0},{"$f":"SUM(G88,I88,K88)","v":0}]
[{"$f":"Dramatic!A82","v":"R-204"},{"$f":"VLOOKUP(Table710[[#This Row],[ID]],Dramatic!A:H,8,FALSE)","v":0},{"$f":"Dramatic!U82","v":0},{"$f":"Dramatic!S82","v":0},{"$f":"IF((Table710[[#This Row],[Rank]]+Table710[[#This Row],[Score]])>0,1,0)","v":0},null,null,null,null,null,null,{"$f":"SUM(F89,H89,J89)","v":0},{"$f":"SUM(G89,I89,K89)","v":0}]
[{"$f":"Dramatic!A84","v":"S-201"},{"$f":"VLOOKUP(Table710[[#This Row],[ID]],Dramatic!A:H,8,FALSE)","v":0},{"$f":"Dramatic!U84","v":0},{"$f":"Dramatic!S84","v":0},{"$f":"IF((Table710[[#This Row],[Rank]]+Table710[[#This Row],[Score]])>0,1,0)","v":0},null,null,null,null,null,null,{"$f":"SUM(F90,H90,J90)","v":0},{"$f":"SUM(G90,I90,K90)","v":0}]
[{"$f":"Dramatic!A85","v":"S-202"},{"$f":"VLOOKUP(Table710[[#This Row],[ID]],Dramatic!A:H,8,FALSE)","v":0},{"$f":"Dramatic!U85","v":0},{"$f":"Dramatic!S85","v":0},{"$f":"IF((Table710[[#This Row],[Rank]]+Table710[[#This Row],[Score]])>0,1,0)","v":0},null,null,null,null,null,null,{"$f":"SUM(F91,H91,J91)","v":0},{"$f":"SUM(G91,I91,K91)","v":0}]
[{"$f":"Dramatic!A86","v":"S-203"},{"$f":"VLOOKUP(Table710[[#This Row],[ID]],Dramatic!A:H,8,FALSE)","v":0},{"$f":"Dramatic!U86","v":0},{"$f":"Dramatic!S86","v":0},{"$f":"IF((Table710[[#This Row],[Rank]]+Table710[[#This Row],[Score]])>0,1,0)","v":0},null,null,null,null,null,null,{"$f":"SUM(F92,H92,J92)","v":0},{"$f":"SUM(G92,I92,K92)","v":0}]
[{"$f":"Dramatic!A87","v":"S-204"},{"$f":"VLOOKUP(Table710[[#This Row],[ID]],Dramatic!A:H,8,FALSE)","v":0},{"$f":"Dramatic!U87","v":0},{"$f":"Dramatic!S87","v":0},{"$f":"IF((Table710[[#This Row],[Rank]]+Table710[[#This Row],[Score]])>0,1,0)","v":0},null,null,null,null,null,null,{"$f":"SUM(F93,H93,J93)","v":0},{"$f":"SUM(G93,I93,K93)","v":0}]
[{"$f":"Dramatic!A89","v":"T-201"},{"$f":"VLOOKUP(Table710[[#This Row],[ID]],Dramatic!A:H,8,FALSE)","v":0},{"$f":"Dramatic!U89","v":0},{"$f":"Dramatic!S89","v":0},{"$f":"IF((Table710[[#This Row],[Rank]]+Table710[[#This Row],[Score]])>0,1,0)","v":0},null,null,null,null,null,null,{"$f":"SUM(F94,H94,J94)","v":0},{"$f":"SUM(G94,I94,K94)","v":0}]
[{"$f":"Dramatic!A90","v":"T-202"},{"$f":"VLOOKUP(Table710[[#This Row],[ID]],Dramatic!A:H,8,FALSE)","v":0},{"$f":"Dramatic!U90","v":0},{"$f":"Dramatic!S90","v":0},{"$f":"IF((Table710[[#This Row],[Rank]]+Table710[[#This Row],[Score]])>0,1,0)","v":0},null,null,null,null,null,null,{"$f":"SUM(F95,H95,J95)","v":0},{"$f":"SUM(G95,I95,K95)","v":0}]
[{"$f":"Dramatic!A91","v":"T-203"},{"$f":"VLOOKUP(Table710[[#This Row],[ID]],Dramatic!A:H,8,FALSE)","v":0},{"$f":"Dramatic!U91","v":0},{"$f":"Dramatic!S91","v":0},{"$f":"IF((Table710[[#This Row],[Rank]]+Table710[[#This Row],[Score]])>0,1,0)","v":0},null,null,null,null,null,null,{"$f":"SUM(F96,H96,J96)","v":0},{"$f":"SUM(G96,I96,K96)","v":0}]
[{"$f":"Dramatic!A92","v":"T-204"},{"$f":"VLOOKUP(Table710[[#This Row],[ID]],Dramatic!A:H,8,FALSE)","v":0},{"$f":"Dramatic!U92","v":0},{"$f":"Dramatic!S92","v":0},{"$f":"IF((Table710[[#This Row],[Rank]]+Table710[[#This Row],[Score]])>0,1,0)","v":0},null,null,null,null,null,null,{"$f":"SUM(F97,H97,J97)","v":0},{"$f":"SUM(G97,I97,K97)","v":0}]
[{"$f":"Dramatic!A94","v":"U-201"},{"$f":"VLOOKUP(Table710[[#This Row],[ID]],Dramatic!A:H,8,FALSE)","v":0},{"$f":"Dramatic!U94","v":0},{"$f":"Dramatic!S94","v":0},{"$f":"IF((Table710[[#This Row],[Rank]]+Table710[[#This Row],[Score]])>0,1,0)","v":0},null,null,null,null,null,null,{"$f":"SUM(F98,H98,J98)","v":0},{"$f":"SUM(G98,I98,K98)","v":0}]
[{"$f":"Dramatic!A95","v":"U-202"},{"$f":"VLOOKUP(Table710[[#This Row],[ID]],Dramatic!A:H,8,FALSE)","v":0},{"$f":"Dramatic!U95","v":0},{"$f":"Dramatic!S95","v":0},{"$f":"IF((Table710[[#This Row],[Rank]]+Table710[[#This Row],[Score]])>0,1,0)","v":0},null,null,null,null,null,null,{"$f":"SUM(F99,H99,J99)","v":0},{"$f":"SUM(G99,I99,K99)","v":0}]
[{"$f":"Dramatic!A96","v":"U-203"},{"$f":"VLOOKUP(Table710[[#This Row],[ID]],Dramatic!A:H,8,FALSE)","v":0},{"$f":"Dramatic!U96","v":0},{"$f":"Dramatic!S96","v":0},{"$f":"IF((Table710[[#This Row],[Rank]]+Table710[[#This Row],[Score]])>0,1,0)","v":0},null,null,null,null,null,null,{"$f":"SUM(F100,H100,J100)","v":0},{"$f":"SUM(G100,I100,K100)","v":0}]
[{"$f":"Dramatic!A97","v":"U-204"},{"$f":"VLOOKUP(Table710[[#This Row],[ID]],Dramatic!A:H,8,FALSE)","v":0},{"$f":"Dramatic!U97","v":0},{"$f":"Dramatic!S97","v":0},{"$f":"IF((Table710[[#This Row],[Rank]]+Table710[[#This Row],[Score]])>0,1,0)","v":0},null,null,null,null,null,null,{"$f":"SUM(F101,H101,J101)","v":0},{"$f":"SUM(G101,I101,K101)","v":0}]
[{"$f":"Dramatic!A99","v":"V-201"},{"$f":"VLOOKUP(Table710[[#This Row],[ID]],Dramatic!A:H,8,FALSE)","v":0},{"$f":"Dramatic!U99","v":0},{"$f":"Dramatic!S99","v":0},{"$f":"IF((Table710[[#This Row],[Rank]]+Table710[[#This Row],[Score]])>0,1,0)","v":0},null,null,null,null,null,null,{"$f":"SUM(F102,H102,J102)","v":0},{"$f":"SUM(G102,I102,K102)","v":0}]
[{"$f":"Dramatic!A100","v":"V-202"},{"$f":"VLOOKUP(Table710[[#This Row],[ID]],Dramatic!A:H,8,FALSE)","v":0},{"$f":"Dramatic!U100","v":0},{"$f":"Dramatic!S100","v":0},{"$f":"IF((Table710[[#This Row],[Rank]]+Table710[[#This Row],[Score]])>0,1,0)","v":0},null,null,null,null,null,null,{"$f":"SUM(F103,H103,J103)","v":0},{"$f":"SUM(G103,I103,K103)","v":0}]
[{"$f":"Dramatic!A101","v":"V-203"},{"$f":"VLOOKUP(Table710[[#This Row],[ID]],Dramatic!A:H,8,FALSE)","v":0},{"$f":"Dramatic!U101","v":0},{"$f":"Dramatic!S101","v":0},{"$f":"IF((Table710[[#This Row],[Rank]]+Table710[[#This Row],[Score]])>0,1,0)","v":0},null,null,null,null,null,null,{"$f":"SUM(F104,H104,J104)","v":0},{"$f":"SUM(G104,I104,K104)","v":0}]
[{"$f":"Dramatic!A102","v":"V-204"},{"$f":"VLOOKUP(Table710[[#This Row],[ID]],Dramatic!A:H,8,FALSE)","v":0},{"$f":"Dramatic!U102","v":0},{"$f":"Dramatic!S102","v":0},{"$f":"IF((Table710[[#This Row],[Rank]]+Table710[[#This Row],[Score]])>0,1,0)","v":0},null,null,null,null,null,null,{"$f":"SUM(F105,H105,J105)","v":0},{"$f":"SUM(G105,I105,K105)","v":0}]
[{"$f":"Dramatic!A104","v":"W-201"},{"$f":"VLOOKUP(Table710[[#This Row],[ID]],Dramatic!A:H,8,FALSE)","v":0},{"$f":"Dramatic!U104","v":0},{"$f":"Dramatic!S104","v":0},{"$f":"IF((Table710[[#This Row],[Rank]]+Table710[[#This Row],[Score]])>0,1,0)","v":0},null,null,null,null,null,null,{"$f":"SUM(F106,H106,J106)","v":0},{"$f":"SUM(G106,I106,K106)","v":0}]
[{"$f":"Dramatic!A105","v":"W-202"},{"$f":"VLOOKUP(Table710[[#This Row],[ID]],Dramatic!A:H,8,FALSE)","v":0},{"$f":"Dramatic!U105","v":0},{"$f":"Dramatic!S105","v":0},{"$f":"IF((Table710[[#This Row],[Rank]]+Table710[[#This Row],[Score]])>0,1,0)","v":0},null,null,null,null,null,null,{"$f":"SUM(F107,H107,J107)","v":0},{"$f":"SUM(G107,I107,K107)","v":0}]
[{"$f":"Dramatic!A106","v":"W-203"},{"$f":"VLOOKUP(Table710[[#This Row],[ID]],Dramatic!A:H,8,FALSE)","v":0},{"$f":"Dramatic!U106","v":0},{"$f":"Dramatic!S106","v":0},{"$f":"IF((Table710[[#This Row],[Rank]]+Table710[[#This Row],[Score]])>0,1,0)","v":0},null,null,null,null,null,null,{"$f":"SUM(F108,H108,J108)","v":0},{"$f":"SUM(G108,I108,K108)","v":0}]
[{"$f":"Dramatic!A107","v":"W-204"},{"$f":"VLOOKUP(Table710[[#This Row],[ID]],Dramatic!A:H,8,FALSE)","v":0},{"$f":"Dramatic!U107","v":0},{"$f":"Dramatic!S107","v":0},{"$f":"IF((Table710[[#This Row],[Rank]]+Table710[[#This Row],[Score]])>0,1,0)","v":0},null,null,null,null,null,null,{"$f":"SUM(F109,H109,J109)","v":0},{"$f":"SUM(G109,I109,K109)","v":0}]
[{"$f":"Dramatic!A109","v":"X-201"},{"$f":"VLOOKUP(Table710[[#This Row],[ID]],Dramatic!A:H,8,FALSE)","v":0},{"$f":"Dramatic!U109","v":0},{"$f":"Dramatic!S109","v":0},{"$f":"IF((Table710[[#This Row],[Rank]]+Table710[[#This Row],[Score]])>0,1,0)","v":0},null,null,null,null,null,null,{"$f":"SUM(F110,H110,J110)","v":0},{"$f":"SUM(G110,I110,K110)","v":0}]
[{"$f":"Dramatic!A110","v":"X-202"},{"$f":"VLOOKUP(Table710[[#This Row],[ID]],Dramatic!A:H,8,FALSE)","v":0},{"$f":"Dramatic!U110","v":0},{"$f":"Dramatic!S110","v":0},{"$f":"IF((Table710[[#This Row],[Rank]]+Table710[[#This Row],[Score]])>0,1,0)","v":0},null,null,null,null,null,null,{"$f":"SUM(F111,H111,J111)","v":0},{"$f":"SUM(G111,I111,K111)","v":0}]
[{"$f":"Dramatic!A111","v":"X-203"},{"$f":"VLOOKUP(Table710[[#This Row],[ID]],Dramatic!A:H,8,FALSE)","v":0},{"$f":"Dramatic!U111","v":0},{"$f":"Dramatic!S111","v":0},{"$f":"IF((Table710[[#This Row],[Rank]]+Table710[[#This Row],[Score]])>0,1,0)","v":0},null,null,null,null,null,null,{"$f":"SUM(F112,H112,J112)","v":0},{"$f":"SUM(G112,I112,K112)","v":0}]
[{"$f":"Dramatic!A112","v":"X-204"},{"$f":"VLOOKUP(Table710[[#This Row],[ID]],Dramatic!A:H,8,FALSE)","v":0},{"$f":"Dramatic!U112","v":0},{"$f":"Dramatic!S112","v":0},{"$f":"IF((Table710[[#This Row],[Rank]]+Table710[[#This Row],[Score]])>0,1,0)","v":0},null,null,null,null,null,null,{"$f":"SUM(F113,H113,J113)","v":0},{"$f":"SUM(G113,I113,K113)","v":0}]
[{"$f":"Dramatic!A114","v":"Y-201"},{"$f":"VLOOKUP(Table710[[#This Row],[ID]],Dramatic!A:H,8,FALSE)","v":0},{"$f":"Dramatic!U114","v":0},{"$f":"Dramatic!S114","v":0},{"$f":"IF((Table710[[#This Row],[Rank]]+Table710[[#This Row],[Score]])>0,1,0)","v":0},null,null,null,null,null,null,{"$f":"SUM(F114,H114,J114)","v":0},{"$f":"SUM(G114,I114,K114)","v":0}]
[{"$f":"Dramatic!A115","v":"Y-202"},{"$f":"VLOOKUP(Table710[[#This Row],[ID]],Dramatic!A:H,8,FALSE)","v":0},{"$f":"Dramatic!U115","v":0},{"$f":"Dramatic!S115","v":0},{"$f":"IF((Table710[[#This Row],[Rank]]+Table710[[#This Row],[Score]])>0,1,0)","v":0},null,null,null,null,null,null,{"$f":"SUM(F115,H115,J115)","v":0},{"$f":"SUM(G115,I115,K115)","v":0}]
[{"$f":"Dramatic!A116","v":"Y-203"},{"$f":"VLOOKUP(Table710[[#This Row],[ID]],Dramatic!A:H,8,FALSE)","v":0},{"$f":"Dramatic!U116","v":0},{"$f":"Dramatic!S116","v":0},{"$f":"IF((Table710[[#This Row],[Rank]]+Table710[[#This Row],[Score]])>0,1,0)","v":0},null,null,null,null,null,null,{"$f":"SUM(F116,H116,J116)","v":0},{"$f":"SUM(G116,I116,K116)","v":0}]
[{"$f":"Dramatic!A117","v":"Y-204"},{"$f":"VLOOKUP(Table710[[#This Row],[ID]],Dramatic!A:H,8,FALSE)","v":0},{"$f":"Dramatic!U117","v":0},{"$f":"Dramatic!S117","v":0},{"$f":"IF((Table710[[#This Row],[Rank]]+Table710[[#This Row],[Score]])>0,1,0)","v":0},null,null,null,null,null,null,{"$f":"SUM(F117,H117,J117)","v":0},{"$f":"SUM(G117,I117,K117)","v":0}]
[{"$f":"Dramatic!A119","v":"Z-201"},{"$f":"VLOOKUP(Table710[[#This Row],[ID]],Dramatic!A:H,8,FALSE)","v":0},{"$f":"Dramatic!U119","v":0},{"$f":"Dramatic!S119","v":0},{"$f":"IF((Table710[[#This Row],[Rank]]+Table710[[#This Row],[Score]])>0,1,0)","v":0},null,null,null,null,null,null,{"$f":"SUM(F118,H118,J118)","v":0},{"$f":"SUM(G118,I118,K118)","v":0}]
[{"$f":"Dramatic!A120","v":"Z-202"},{"$f":"VLOOKUP(Table710[[#This Row],[ID]],Dramatic!A:H,8,FALSE)","v":0},{"$f":"Dramatic!U120","v":0},{"$f":"Dramatic!S120","v":0},{"$f":"IF((Table710[[#This Row],[Rank]]+Table710[[#This Row],[Score]])>0,1,0)","v":0},null,null,null,null,null,null,{"$f":"SUM(F119,H119,J119)","v":0},{"$f":"SUM(G119,I119,K119)","v":0}]
[{"$f":"Dramatic!A121","v":"Z-203"},{"$f":"VLOOKUP(Table710[[#This Row],[ID]],Dramatic!A:H,8,FALSE)","v":0},{"$f":"Dramatic!U121","v":0},{"$f":"Dramatic!S121","v":0},{"$f":"IF((Table710[[#This Row],[Rank]]+Table710[[#This Row],[Score]])>0,1,0)","v":0},null,null,null,null,null,null,{"$f":"SUM(F120,H120,J120)","v":0},{"$f":"SUM(G120,I120,K120)","v":0}]
[{"$f":"Dramatic!A122","v":"Z-204"},{"$f":"VLOOKUP(Table710[[#This Row],[ID]],Dramatic!A:H,8,FALSE)","v":0},{"$f":"Dramatic!U122","v":0},{"$f":"Dramatic!S122","v":0},{"$f":"IF((Table710[[#This Row],[Rank]]+Table710[[#This Row],[Score]])>0,1,0)","v":0},null,null,null,null,null,null,{"$f":"SUM(F121,H121,J121)","v":0},{"$f":"SUM(G121,I121,K121)","v":0}]
[{"$f":"Dramatic!A31","v":"F-203"},{"$f":"VLOOKUP(Table710[[#This Row],[ID]],Dramatic!A:H,8,FALSE)","v":0},{"$f":"Dramatic!U31","v":0},{"$f":"Dramatic!S31","v":0},{"$f":"IF((Table710[[#This Row],[Rank]]+Table710[[#This Row],[Score]])>0,1,0)","v":0},null,null,null,null,null,null,{"$f":"SUM(F122,H122,J122)","v":0},{"$f":"SUM(G122,I122,K122)","v":0}]

{"sheet":"Classical","index":5,"n_rows":152,"n_cols":31,"rows_kept":152,"cut":false,"hidden":false,"merged":[]}
["Classical Scenes",null,null,null,null,null,null,null,null,null,"Rank 1-4",null,null,null,null,null,null,null,null,null,null,null,null,"S","E","G","F",null,"1violation","2violations","3violations"]
[null,null,null,null,null,null,null,null,null,null,"Round 1:",null,"Round 2:",null,"Round 3:",null,"-2 for each",null,null,null,null,null,null,null,null,null,null,"Drops lowest from column q"]
[null,null,null,"Student Name",null,"Student Name",null,"Student Name",null,"Title of Piece","R1 rank","R1 score","R2 rank","R2 score","R3 rank","R3 score","Time Violations",null,"TOTAL SCORE",null,"TOTAL RANK",null,null,"TOTAL SCHOOL SWEEPS POINTS",null,null,null,"Drop Lowest"]
["A-301",null,null,"(202) Anthony A.",null,"Ryan B.",null,null,null,"\"Cyrano De Bergerac\"",3,20,3,23,4,18,null,{"$f":"IF(Q4=\"1violation\",-7*1,IF(Q4=\"2violations\",-7*2,IF(Q4=\"3violations\",-7*3,IF(Q4=\"\",\"\"))))","v":""},{"$f":"SUM(L4,N4,P4,R4)","v":61},null,{"$f":"SUM(K4,M4,O4)","v":10},null,null,null,{"$f":"SUM(S4,S6,S5,S7,-AB4)","v":185},null,null,{"$f":"MIN(S4:S7)","v":52}]
["A-302",null,null,"(203) Jackson P.",null,"Noah W.",null,null,null,"\"Two Gentlemen\"",1,24,2,24,2,21,null,{"$f":"IF(Q5=\"1violation\",-7*1,IF(Q5=\"2violations\",-7*2,IF(Q5=\"3violations\",-7*3,IF(Q5=\"\",\"\"))))","v":""},{"$f":"SUM(L5,N5,P5,R5)","v":69},null,{"$f":"SUM(K5,M5,O5)","v":5}]
["A-303",null,null,"(205) Brinley",null,"Charlie",null,null,null,"\"Much Ado\"",4,16,4,19,3,20,null,"",{"$f":"SUM(L6,N6,P6,R6)","v":55},null,{"$f":"SUM(K6,M6,O6)","v":11}]
["A-304",null,null,"(206) Vincent ",null,"Jake O.",null,null,null,"\"Othello\"",4,15,4,20,4,17,null,"",{"$f":"SUM(L7,N7,P7,R7)","v":52},null,{"$f":"SUM(K7,M7,O7)","v":12}]
[]
["B-301",null,null,"(200) Tylee Barney",null,"Atli Blevins",null,"Aspen Clark",null,"\"Macbeth\"",null,null,null,null,null,null,null,"",{"$f":"SUM(L9,N9,P9,R9)","v":0},null,{"$f":"SUM(K9,M9,O9)","v":0},null,null,null,{"$f":"SUM(S9,S11,S10,S12,-AB9)","v":73},null,null,{"$f":"MIN(S9:S12)","v":0}]
["B-302",null,null,"(201) Haley Coombs",null,"Gabe Sarles",null,null,null,"\"Pair of Lunatics\"",2,24,1,24,1,25,null,"",{"$f":"SUM(L10,N10,P10,R10)","v":73},null,{"$f":"SUM(K10,M10,O10)","v":4}]
["B-303",null,null,null,null,null,null,null,null,null,null,null,null,null,null,null,null,"",{"$f":"SUM(L11,N11,P11,R11)","v":0},null,{"$f":"SUM(K11,M11,O11)","v":0}]
["B-304",null,null,null,null,null,null,null,null,null,null,null,null,null,null,null,null,"",{"$f":"SUM(L12,N12,P12,R12)","v":0},null,{"$f":"SUM(K12,M12,O12)","v":0}]
[]
["C-301",null,null,"(204) Brooklyn Clark",null,"C.J. Torgerson",null,null,null,null,null,null,null,null,null,null,null,"",{"$f":"SUM(L14,N14,P14,R14)","v":0},null,{"$f":"SUM(K14,M14,O14)","v":0},null,null,null,{"$f":"SUM(S14,S16,S15,S17,-AB14)","v":0},null,null,{"$f":"MIN(S14:S17)","v":0}]
["C-302",null,null,null,null,null,null,null,null,null,null,null,null,null,null,null,null,"",{"$f":"SUM(L15,N15,P15,R15)","v":0},null,{"$f":"SUM(K15,M15,O15)","v":0}]
["C-303",null,null,null,null,null,null,null,null,null,null,null,null,null,null,null,null,"",{"$f":"SUM(L16,N16,P16,R16)","v":0},null,{"$f":"SUM(K16,M16,O16)","v":0}]
["C-304",null,null,null,null,null,null,null,null,null,null,null,null,null,null,null,null,"",{"$f":"SUM(L17,N17,P17,R17)","v":0},null,{"$f":"SUM(K17,M17,O17)","v":0}]
[]
["D-301",null,null,null,null,null,null,null,null,null,null,null,null,null,null,null,null,"",{"$f":"SUM(L19,N19,P19,R19)","v":0},null,{"$f":"SUM(K19,M19,O19)","v":0},null,null,null,{"$f":"SUM(S19,S21,S20,S22,-AB19)","v":0},null,null,{"$f":"MIN(S19:S22)","v":0}]
["D-302",null,null,null,null,null,null,null,null,null,null,null,null,null,null,null,null,"",{"$f":"SUM(L20,N20,P20,R20)","v":0},null,{"$f":"SUM(K20,M20,O20)","v":0}]
["D-303",null,null,null,null,null,null,null,null,null,null,null,null,null,null,null,null,"",{"$f":"SUM(L21,N21,P21,R21)","v":0},null,{"$f":"SUM(K21,M21,O21)","v":0}]
["D-304",null,null,null,null,null,null,null,null,null,null,null,null,null,null,null,null,"",{"$f":"SUM(L22,N22,P22,R22)","v":0},null,{"$f":"SUM(K22,M22,O22)","v":0}]
[]
["E-301",null,null,null,null,null,null,null,null,null,null,null,null,null,null,null,null,"",{"$f":"SUM(L24,N24,P24,R24)","v":0},null,{"$f":"SUM(K24,M24,O24)","v":0},null,null,null,{"$f":"SUM(S24,S26,S25,S27,-AB24)","v":0},null,null,{"$f":"MIN(S24:S27)","v":0}]
["E-302",null,null,null,null,null,null,null,null,null,null,null,null,null,null,null,null,"",{"$f":"SUM(L25,N25,P25,R25)","v":0},null,{"$f":"SUM(K25,M25,O25)","v":0}]
["E-303",null,null,null,null,null,null,null,null,null,null,null,null,null,null,null,null,"",{"$f":"SUM(L26,N26,P26,R26)","v":0},null,{"$f":"SUM(K26,M26,O26)","v":0}]
["E-304",null,null,null,null,null,null,null,null,null,null,null,null,null,null,null,null,"",{"$f":"SUM(L27,N27,P27,R27)","v":0},null,{"$f":"SUM(K27,M27,O27)","v":0}]
[]
["F-301",null,null,null,null,null,null,null,null,null,null,null,null,null,null,null,null,"",{"$f":"SUM(L29,N29,P29,R29)","v":0},null,{"$f":"SUM(K29,M29,O29)","v":0},null,null,null,{"$f":"SUM(S29,S31,S30,S32,-AB29)","v":0},null,null,{"$f":"MIN(S29:S32)","v":0}]
["F-302",null,null,null,null,null,null,null,null,null,null,null,null,null,null,null,null,"",{"$f":"SUM(L30,N30,P30,R30)","v":0},null,{"$f":"SUM(K30,M30,O30)","v":0}]
["F-303",null,null,null,null,null,null,null,null,null,null,null,null,null,null,null,null,"",{"$f":"SUM(L31,N31,P31,R31)","v":0},null,{"$f":"SUM(K31,M31,O31)","v":0}]
["F-304",null,null,null,null,null,null,null,null,null,null,null,null,null,null,null,null,"",{"$f":"SUM(L32,N32,P32,R32)","v":0},null,{"$f":"SUM(K32,M32,O32)","v":0}]
[]
["G-301",null,null,null,null,null,null,null,null,null,null,null,null,null,null,null,null,"",{"$f":"SUM(L34,N34,P34,R34)","v":0},null,{"$f":"SUM(K34,M34,O34)","v":0},null,null,null,{"$f":"SUM(S34,S36,S35,S37,-AB34)","v":0},null,null,{"$f":"MIN(S34:S37)","v":0}]
["G-302",null,null,null,null,null,null,null,null,null,null,null,null,null,null,null,null,"",{"$f":"SUM(L35,N35,P35,R35)","v":0},null,{"$f":"SUM(K35,M35,O35)","v":0}]
["G-303",null,null,null,null,null,null,null,null,null,null,null,null,null,null,null,null,"",{"$f":"SUM(L36,N36,P36,R36)","v":0},null,{"$f":"SUM(K36,M36,O36)","v":0}]
["G-304",null,null,null,null,null,null,null,null,null,null,null,null,null,null,null,null,"",{"$f":"SUM(L37,N37,P37,R37)","v":0},null,{"$f":"SUM(K37,M37,O37)","v":0}]
[]
["H-301",null,null,null,null,null,null,null,null,null,null,null,null,null,null,null,null,"",{"$f":"SUM(L39,N39,P39,R39)","v":0},null,{"$f":"SUM(K39,M39,O39)","v":0},null,null,null,{"$f":"SUM(S39,S41,S40,S42,-AB39)","v":0},null,null,{"$f":"MIN(S39:S42)","v":0}]
["H-302",null,null,null,null,null,null,null,null,null,null,null,null,null,null,null,null,"",{"$f":"SUM(L40,N40,P40,R40)","v":0},null,{"$f":"SUM(K40,M40,O40)","v":0}]
["H-303",null,null,null,null,null,null,null,null,null,null,null,null,null,null,null,null,"",{"$f":"SUM(L41,N41,P41,R41)","v":0},null,{"$f":"SUM(K41,M41,O41)","v":0}]
["H-304",null,null,null,null,null,null,null,null,null,null,null,null,null,null,null,null,"",{"$f":"SUM(L42,N42,P42,R42)","v":0},null,{"$f":"SUM(K42,M42,O42)","v":0}]
[]
["J-301",null,null,null,null,null,null,null,null,null,null,null,null,null,null,null,null,"",{"$f":"SUM(L44,N44,P44,R44)","v":0},null,{"$f":"SUM(K44,M44,O44)","v":0},null,null,null,{"$f":"SUM(S44,S46,S45,S47,-AB44)","v":0},null,null,{"$f":"MIN(S44:S47)","v":0}]
["J-302",null,null,null,null,null,null,null,null,null,null,null,null,null,null,null,null,"",{"$f":"SUM(L45,N45,P45,R45)","v":0},null,{"$f":"SUM(K45,M45,O45)","v":0}]
["J-303",null,null,null,null,null,null,null,null,null,null,null,null,null,null,null,null,"",{"$f":"SUM(L46,N46,P46,R46)","v":0},null,{"$f":"SUM(K46,M46,O46)","v":0}]
["J-304",null,null,null,null,null,null,null,null,null,null,null,null,null,null,null,null,"",{"$f":"SUM(L47,N47,P47,R47)","v":0},null,{"$f":"SUM(K47,M47,O47)","v":0}]
[]
["K-301",null,null,null,null,null,null,null,null,null,null,null,null,null,null,null,null,"",{"$f":"SUM(L49,N49,P49,R49)","v":0},null,{"$f":"SUM(K49,M49,O49)","v":0},null,null,null,{"$f":"SUM(S49,S51,S50,S52,-AB49)","v":0},null,null,{"$f":"MIN(S49:S52)","v":0}]
["K-302",null,null,null,null,null,null,null,null,null,null,null,null,null,null,null,null,"",{"$f":"SUM(L50,N50,P50,R50)","v":0},null,{"$f":"SUM(K50,M50,O50)","v":0}]
["K-303",null,null,null,null,null,null,null,null,null,null,null,null,null,null,null,null,"",{"$f":"SUM(L51,N51,P51,R51)","v":0},null,{"$f":"SUM(K51,M51,O51)","v":0}]
["K-304",null,null,null,null,null,null,null,null,null,null,null,null,null,null,null,null,"",{"$f":"SUM(L52,N52,P52,R52)","v":0},null,{"$f":"SUM(K52,M52,O52)","v":0}]
[]
["L-301",null,null,null,null,null,null,null,null,null,null,null,null,null,null,null,null,"",{"$f":"SUM(L54,N54,P54,R54)","v":0},null,{"$f":"SUM(K54,M54,O54)","v":0},null,null,null,{"$f":"SUM(S54,S56,S55,S57,-AB54)","v":0},null,null,{"$f":"MIN(S54:S57)","v":0}]
["L-302",null,null,null,null,null,null,null,null,null,null,null,null,null,null,null,null,"",{"$f":"SUM(L55,N55,P55,R55)","v":0},null,{"$f":"SUM(K55,M55,O55)","v":0}]
["L-303",null,null,null,null,null,null,null,null,null,null,null,null,null,null,null,null,"",{"$f":"SUM(L56,N56,P56,R56)","v":0},null,{"$f":"SUM(K56,M56,O56)","v":0}]
["L-304",null,null,null,null,null,null,null,null,null,null,null,null,null,null,null,null,"",{"$f":"SUM(L57,N57,P57,R57)","v":0},null,{"$f":"SUM(K57,M57,O57)","v":0}]
[]
["M-301",null,null,null,null,null,null,null,null,null,null,null,null,null,null,null,null,"",{"$f":"SUM(L59,N59,P59,R59)","v":0},null,{"$f":"SUM(K59,M59,O59)","v":0},null,null,null,{"$f":"SUM(S59,S61,S60,S62,-AB59)","v":0},null,null,{"$f":"MIN(S59:S62)","v":0}]
["M-302",null,null,null,null,null,null,null,null,null,null,null,null,null,null,null,null,"",{"$f":"SUM(L60,N60,P60,R60)","v":0},null,{"$f":"SUM(K60,M60,O60)","v":0}]
["M-303",null,null,null,null,null,null,null,null,null,null,null,null,null,null,null,null,"",{"$f":"SUM(L61,N61,P61,R61)","v":0},null,{"$f":"SUM(K61,M61,O61)","v":0}]
["M-304",null,null,null,null,null,null,null,null,null,null,null,null,null,null,null,null,"",{"$f":"SUM(L62,N62,P62,R62)","v":0},null,{"$f":"SUM(K62,M62,O62)","v":0}]
[]
["N-301",null,null,null,null,null,null,null,null,null,null,null,null,null,null,null,null,"",{"$f":"SUM(L64,N64,P64,R64)","v":0},null,{"$f":"SUM(K64,M64,O64)","v":0},null,null,null,{"$f":"SUM(S64,S66,S65,S67,-AB64)","v":0},null,null,{"$f":"MIN(S64:S67)","v":0}]
["N-302",null,null,null,null,null,null,null,null,null,null,null,null,null,null,null,null,"",{"$f":"SUM(L65,N65,P65,R65)","v":0},null,{"$f":"SUM(K65,M65,O65)","v":0}]
["N-303",null,null,null,null,null,null,null,null,null,null,null,null,null,null,null,null,"",{"$f":"SUM(L66,N66,P66,R66)","v":0},null,{"$f":"SUM(K66,M66,O66)","v":0}]
["N-304",null,null,null,null,null,null,null,null,null,null,null,null,null,null,null,null,"",{"$f":"SUM(L67,N67,P67,R67)","v":0},null,{"$f":"SUM(K67,M67,O67)","v":0}]
[]
["P-301",null,null,null,null,null,null,null,null,null,null,null,null,null,null,null,null,{"$f":"IF(Q69=\"1violation\",-7*1,IF(Q69=\"2violations\",-7*2,IF(Q69=\"3violations\",-7*3,IF(Q69=\"\",\"\"))))","v":""},{"$f":"SUM(L69,N69,P69,R69)","v":0},null,{"$f":"SUM(K69,M69,O69)","v":0},null,null,null,{"$f":"SUM(S69,S71,S70,S72,-AB69)","v":0},null,null,{"$f":"MIN(S69:S72)","v":0}]
["P-302",null,null,null,null,null,null,null,null,null,null,null,null,null,null,null,null,"",{"$f":"SUM(L70,N70,P70,R70)","v":0},null,{"$f":"SUM(K70,M70,O70)","v":0}]
["P-303",null,null,null,null,null,null,null,null,null,null,null,null,null,null,null,null,"",{"$f":"SUM(L71,N71,P71,R71)","v":0},null,{"$f":"SUM(K71,M71,O71)","v":0}]
["P-304",null,null,null,null,null,null,null,null,null,null,null,null,null,null,null,null,"",{"$f":"SUM(L72,N72,P72,R72)","v":0},null,{"$f":"SUM(K72,M72,O72)","v":0}]
[]
["Q-301",null,null,null,null,null,null,null,null,null,null,null,null,null,null,null,null,"",{"$f":"SUM(L74,N74,P74,R74)","v":0},null,{"$f":"SUM(K74,M74,O74)","v":0},null,null,null,{"$f":"SUM(S74,S76,S75,S77,-AB74)","v":0},null,null,{"$f":"MIN(S74:S77)","v":0}]
["Q-302",null,null,null,null,null,null,null,null,null,null,null,null,null,null,null,null,"",{"$f":"SUM(L75,N75,P75,R75)","v":0},null,{"$f":"SUM(K75,M75,O75)","v":0}]
["Q-303",null,null,null,null,null,null,null,null,null,null,null,null,null,null,null,null,"",{"$f":"SUM(L76,N76,P76,R76)","v":0},null,{"$f":"SUM(K76,M76,O76)","v":0}]
["Q-304",null,null,null,null,null,null,null,null,null,null,null,null,null,null,null,null,"",{"$f":"SUM(L77,N77,P77,R77)","v":0},null,{"$f":"SUM(K77,M77,O77)","v":0}]
[]
["R-301",null,null,null,null,null,null,null,null,null,null,null,null,null,null,null,null,"",{"$f":"SUM(L79,N79,P79,R79)","v":0},null,{"$f":"SUM(K79,M79,O79)","v":0},null,null,null,{"$f":"SUM(S79,S81,S80,S82,-AB79)","v":0},null,null,{"$f":"MIN(S79:S82)","v":0}]
["R-302",null,null,null,null,null,null,null,null,null,null,null,null,null,null,null,null,"",{"$f":"SUM(L80,N80,P80,R80)","v":0},null,{"$f":"SUM(K80,M80,O80)","v":0}]
["R-303",null,null,null,null,null,null,null,null,null,null,null,null,null,null,null,null,"",{"$f":"SUM(L81,N81,P81,R81)","v":0},null,{"$f":"SUM(K81,M81,O81)","v":0}]
["R-304",null,null,null,null,null,null,null,null,null,null,null,null,null,null,null,null,"",{"$f":"SUM(L82,N82,P82,R82)","v":0},null,{"$f":"SUM(K82,M82,O82)","v":0}]
[]
["S-301",null,null,null,null,null,null,null,null,null,null,null,null,null,null,null,null,"",{"$f":"SUM(L84,N84,P84,R84)","v":0},null,{"$f":"SUM(K84,M84,O84)","v":0},null,null,null,{"$f":"SUM(S84,S86,S85,S87,-AB84)","v":0},null,null,{"$f":"MIN(S84:S87)","v":0}]
["S-302",null,null,null,null,null,null,null,null,null,null,null,null,null,null,null,null,"",{"$f":"SUM(L85,N85,P85,R85)","v":0},null,{"$f":"SUM(K85,M85,O85)","v":0}]
["S-303",null,null,null,null,null,null,null,null,null,null,null,null,null,null,null,null,"",{"$f":"SUM(L86,N86,P86,R86)","v":0},null,{"$f":"SUM(K86,M86,O86)","v":0}]
["S-304",null,null,null,null,null,null,null,null,null,null,null,null,null,null,null,null,"",{"$f":"SUM(L87,N87,P87,R87)","v":0},null,{"$f":"SUM(K87,M87,O87)","v":0}]
[]
["T-301",null,null,null,null,null,null,null,null,null,null,null,null,null,null,null,null,"",{"$f":"SUM(L89,N89,P89,R89)","v":0},null,{"$f":"SUM(K89,M89,O89)","v":0},null,null,null,{"$f":"SUM(S89,S91,S90,S92,-AB89)","v":0},null,null,{"$f":"MIN(S89:S92)","v":0}]
["T-302",null,null,null,null,null,null,null,null,null,null,null,null,null,null,null,null,"",{"$f":"SUM(L90,N90,P90,R90)","v":0},null,{"$f":"SUM(K90,M90,O90)","v":0}]
["T-303",null,null,null,null,null,null,null,null,null,null,null,null,null,null,null,null,"",{"$f":"SUM(L91,N91,P91,R91)","v":0},null,{"$f":"SUM(K91,M91,O91)","v":0}]
["T-304",null,null,null,null,null,null,null,null,null,null,null,null,null,null,null,null,"",{"$f":"SUM(L92,N92,P92,R92)","v":0},null,{"$f":"SUM(K92,M92,O92)","v":0}]
[]
["U-301",null,null,null,null,null,null,null,null,null,null,null,null,null,null,null,null,"",{"$f":"SUM(L94,N94,P94,R94)","v":0},null,{"$f":"SUM(K94,M94,O94)","v":0},null,null,null,{"$f":"SUM(S94,S96,S95,S97,-AB94)","v":0},null,null,{"$f":"MIN(S94:S97)","v":0}]
["U-302",null,null,null,null,null,null,null,null,null,null,null,null,null,null,null,null,"",{"$f":"SUM(L95,N95,P95,R95)","v":0},null,{"$f":"SUM(K95,M95,O95)","v":0}]
["U-303",null,null,null,null,null,null,null,null,null,null,null,null,null,null,null,null,"",{"$f":"SUM(L96,N96,P96,R96)","v":0},null,{"$f":"SUM(K96,M96,O96)","v":0}]
["U-304",null,null,null,null,null,null,null,null,null,null,null,null,null,null,null,null,"",{"$f":"SUM(L97,N97,P97,R97)","v":0},null,{"$f":"SUM(K97,M97,O97)","v":0}]
[]
["V-301",null,null,null,null,null,null,null,null,null,null,null,null,null,null,null,null,"",{"$f":"SUM(L99,N99,P99,R99)","v":0},null,{"$f":"SUM(K99,M99,O99)","v":0},null,null,null,{"$f":"SUM(S99,S101,S100,S102,-AB99)","v":0},null,null,{"$f":"MIN(S99:S102)","v":0}]
["V-302",null,null,null,null,null,null,null,null,null,null,null,null,null,null,null,null,"",{"$f":"SUM(L100,N100,P100,R100)","v":0},null,{"$f":"SUM(K100,M100,O100)","v":0}]
["V-303",null,null,null,null,null,null,null,null,null,null,null,null,null,null,null,null,"",{"$f":"SUM(L101,N101,P101,R101)","v":0},null,{"$f":"SUM(K101,M101,O101)","v":0}]
["V-304",null,null,null,null,null,null,null,null,null,null,null,null,null,null,null,null,"",{"$f":"SUM(L102,N102,P102,R102)","v":0},null,{"$f":"SUM(K102,M102,O102)","v":0}]
[]
["W-301",null,null,null,null,null,null,null,null,null,null,null,null,null,null,null,null,"",{"$f":"SUM(L104,N104,P104,R104)","v":0},null,{"$f":"SUM(K104,M104,O104)","v":0},null,null,null,{"$f":"SUM(S104,S106,S105,S107,-AB104)","v":0},null,null,{"$f":"MIN(S104:S107)","v":0}]
["W-302",null,null,null,null,null,null,null,null,null,null,null,null,null,null,null,null,"",{"$f":"SUM(L105,N105,P105,R105)","v":0},null,{"$f":"SUM(K105,M105,O105)","v":0}]
["W-303",null,null,null,null,null,null,null,null,null,null,null,null,null,null,null,null,"",{"$f":"SUM(L106,N106,P106,R106)","v":0},null,{"$f":"SUM(K106,M106,O106)","v":0}]
["W-304",null,null,null,null,null,null,null,null,null,null,null,null,null,null,null,null,"",{"$f":"SUM(L107,N107,P107,R107)","v":0},null,{"$f":"SUM(K107,M107,O107)","v":0}]
[]
["X-301",null,null,null,null,null,null,null,null,null,null,null,null,null,null,null,null,"",{"$f":"SUM(L109,N109,P109,R109)","v":0},null,{"$f":"SUM(K109,M109,O109)","v":0},null,null,null,{"$f":"SUM(S109,S111,S110,S112,-AB109)","v":0},null,null,{"$f":"MIN(S109:S112)","v":0}]
["X-302",null,null,null,null,null,null,null,null,null,null,null,null,null,null,null,null,"",{"$f":"SUM(L110,N110,P110,R110)","v":0},null,{"$f":"SUM(K110,M110,O110)","v":0}]
["X-303",null,null,null,null,null,null,null,null,null,null,null,null,null,null,null,null,"",{"$f":"SUM(L111,N111,P111,R111)","v":0},null,{"$f":"SUM(K111,M111,O111)","v":0}]
["X-304",null,null,null,null,null,null,null,null,null,null,null,null,null,null,null,null,"",{"$f":"SUM(L112,N112,P112,R112)","v":0},null,{"$f":"SUM(K112,M112,O112)","v":0}]
[]
["Y-301",null,null,null,null,null,null,null,null,null,null,null,null,null,null,null,null,"",{"$f":"SUM(L114,N114,P114,R114)","v":0},null,{"$f":"SUM(K114,M114,O114)","v":0},null,null,null,{"$f":"SUM(S114,S116,S115,S117,-AB114)","v":0},null,null,{"$f":"MIN(S114:S117)","v":0}]
["Y-302",null,null,null,null,null,null,null,null,null,null,null,null,null,null,null,null,"",{"$f":"SUM(L115,N115,P115,R115)","v":0},null,{"$f":"SUM(K115,M115,O115)","v":0}]
["Y-303",null,null,null,null,null,null,null,null,null,null,null,null,null,null,null,null,"",{"$f":"SUM(L116,N116,P116,R116)","v":0},null,{"$f":"SUM(K116,M116,O116)","v":0}]
["Y-304",null,null,null,null,null,null,null,null,null,null,null,null,null,null,null,null,"",{"$f":"SUM(L117,N117,P117,R117)","v":0},null,{"$f":"SUM(K117,M117,O117)","v":0}]
[]
["Z-301",null,null,null,null,null,null,null,null,null,null,null,null,null,null,null,null,"",{"$f":"SUM(L119,N119,P119,R119)","v":0},null,{"$f":"SUM(K119,M119,O119)","v":0},null,null,null,{"$f":"SUM(S119,S121,S120,S122,-AB119)","v":0},null,null,{"$f":"MIN(S119:S122)","v":0}]
["Z-302",null,null,null,null,null,null,null,null,null,null,null,null,null,null,null,null,"",{"$f":"SUM(L120,N120,P120,R120)","v":0},null,{"$f":"SUM(K120,M120,O120)","v":0}]
["Z-303",null,null,null,null,null,null,null,null,null,null,null,null,null,null,null,null,"",{"$f":"SUM(L121,N121,P121,R121)","v":0},null,{"$f":"SUM(K121,M121,O121)","v":0}]
["Z-304",null,null,null,null,null,null,null,null,null,null,null,null,null,null,null,null,"",{"$f":"SUM(L122,N122,P122,R122)","v":0},null,{"$f":"SUM(K122,M122,O122)","v":0}]
[]
["AA-301",null,null,null,null,null,null,null,null,null,null,null,null,null,null,null,null,"",{"$f":"SUM(L124,N124,P124,R124)","v":0},null,{"$f":"SUM(K124,M124,O124)","v":0},null,null,null,{"$f":"SUM(S124,S126,S125,S127,-AB124)","v":0},null,null,{"$f":"MIN(S124:S127)","v":0}]
["AA-302",null,null,null,null,null,null,null,null,null,null,null,null,null,null,null,null,"",{"$f":"SUM(L125,N125,P125,R125)","v":0},null,{"$f":"SUM(K125,M125,O125)","v":0}]
["AA-303",null,null,null,null,null,null,null,null,null,null,null,null,null,null,null,null,"",{"$f":"SUM(L126,N126,P126,R126)","v":0},null,{"$f":"SUM(K126,M126,O126)","v":0}]
["AA-304",null,null,null,null,null,null,null,null,null,null,null,null,null,null,null,null,"",{"$f":"SUM(L127,N127,P127,R127)","v":0},null,{"$f":"SUM(K127,M127,O127)","v":0}]
[]
["BB-301",null,null,null,null,null,null,null,null,null,null,null,null,null,null,null,null,"",{"$f":"SUM(L129,N129,P129,R129)","v":0},null,{"$f":"SUM(K129,M129,O129)","v":0},null,null,null,{"$f":"SUM(S129,S131,S130,S132,-AB129)","v":0},null,null,{"$f":"MIN(S129:S132)","v":0}]
["BB-302",null,null,null,null,null,null,null,null,null,null,null,null,null,null,null,null,"",{"$f":"SUM(L130,N130,P130,R130)","v":0},null,{"$f":"SUM(K130,M130,O130)","v":0}]
["BB-303",null,null,null,null,null,null,null,null,null,null,null,null,null,null,null,null,"",{"$f":"SUM(L131,N131,P131,R131)","v":0},null,{"$f":"SUM(K131,M131,O131)","v":0}]
["BB-304",null,null,null,null,null,null,null,null,null,null,null,null,null,null,null,null,"",{"$f":"SUM(L132,N132,P132,R132)","v":0},null,{"$f":"SUM(K132,M132,O132)","v":0}]
[]
["CC-301",null,null,null,null,null,null,null,null,null,null,null,null,null,null,null,null,{"$f":"IF(Q134=\"1violation\",-7*1,IF(Q134=\"2violations\",-7*2,IF(Q134=\"3violations\",-7*3,IF(Q134=\"\",\"\"))))","v":""},{"$f":"SUM(L134,N134,P134,R134)","v":0},null,{"$f":"SUM(K134,M134,O134)","v":0},null,null,null,{"$f":"SUM(S134,S136,S135,S137,-AB134)","v":0},null,null,{"$f":"MIN(S134:S137)","v":0}]
["CC-302",null,null,null,null,null,null,null,null,null,null,null,null,null,null,null,null,"",{"$f":"SUM(L135,N135,P135,R135)","v":0},null,{"$f":"SUM(K135,M135,O135)","v":0}]
["CC-303",null,null,null,null,null,null,null,null,null,null,null,null,null,null,null,null,"",{"$f":"SUM(L136,N136,P136,R136)","v":0},null,{"$f":"SUM(K136,M136,O136)","v":0}]
["CC-304",null,null,null,null,null,null,null,null,null,null,null,null,null,null,null,null,"",{"$f":"SUM(L137,N137,P137,R137)","v":0},null,{"$f":"SUM(K137,M137,O137)","v":0}]
[]
["DD-301",null,null,null,null,null,null,null,null,null,null,null,null,null,null,null,null,"",{"$f":"SUM(L139,N139,P139,R139)","v":0},null,{"$f":"SUM(K139,M139,O139)","v":0},null,null,null,{"$f":"SUM(S139,S141,S140,S142,-AB139)","v":0},null,null,{"$f":"MIN(S139:S142)","v":0}]
["DD-302",null,null,null,null,null,null,null,null,null,null,null,null,null,null,null,null,"",{"$f":"SUM(L140,N140,P140,R140)","v":0},null,{"$f":"SUM(K140,M140,O140)","v":0}]
["DD-303",null,null,null,null,null,null,null,null,null,null,null,null,null,null,null,null,"",{"$f":"SUM(L141,N141,P141,R141)","v":0},null,{"$f":"SUM(K141,M141,O141)","v":0}]
["DD-304",null,null,null,null,null,null,null,null,null,null,null,null,null,null,null,null,"",{"$f":"SUM(L142,N142,P142,R142)","v":0},null,{"$f":"SUM(K142,M142,O142)","v":0}]
[]
["EE-301",null,null,null,null,null,null,null,null,null,null,null,null,null,null,null,null,"",{"$f":"SUM(L144,N144,P144,R144)","v":0},null,{"$f":"SUM(K144,M144,O144)","v":0},null,null,null,{"$f":"SUM(S144,S146,S145,S147,-AB144)","v":0},null,null,{"$f":"MIN(S144:S147)","v":0}]
["EE-302",null,null,null,null,null,null,null,null,null,null,null,null,null,null,null,null,"",{"$f":"SUM(L145,N145,P145,R145)","v":0},null,{"$f":"SUM(K145,M145,O145)","v":0}]
["EE-303",null,null,null,null,null,null,null,null,null,null,null,null,null,null,null,null,"",{"$f":"SUM(L146,N146,P146,R146)","v":0},null,{"$f":"SUM(K146,M146,O146)","v":0}]
["EE-304",null,null,null,null,null,null,null,null,null,null,null,null,null,null,null,null,"",{"$f":"SUM(L147,N147,P147,R147)","v":0},null,{"$f":"SUM(K147,M147,O147)","v":0}]
[]
["FF-301",null,null,null,null,null,null,null,null,null,null,null,null,null,null,null,null,"",{"$f":"SUM(L149,N149,P149,R149)","v":0},null,{"$f":"SUM(K149,M149,O149)","v":0},null,null,null,{"$f":"SUM(S149,S151,S150,S152,-AB149)","v":0},null,null,{"$f":"MIN(S149:S152)","v":0}]
["FF-302",null,null,null,null,null,null,null,null,null,null,null,null,null,null,null,null,"",{"$f":"SUM(L150,N150,P150,R150)","v":0},null,{"$f":"SUM(K150,M150,O150)","v":0}]
["FF-303",null,null,null,null,null,null,null,null,null,null,null,null,null,null,null,null,"",{"$f":"SUM(L151,N151,P151,R151)","v":0},null,{"$f":"SUM(K151,M151,O151)","v":0}]
["FF-304",null,null,null,null,null,null,null,null,null,null,null,null,null,null,null,null,"",{"$f":"SUM(L152,N152,P152,R152)","v":0},null,{"$f":"SUM(K152,M152,O152)","v":0}]

{"sheet":"ClassicalMR","index":6,"n_rows":122,"n_cols":14,"rows_kept":122,"cut":false,"hidden":false,"merged":[]}
["Classical",null,null,null,null,"Finals Medals Round Scores"]
["ID","Column1","Rank","Score","LeaveBlank","MR 1 Rank","MR 1 Score","MR2 Rank","MR 2 Score","MR3 Rank","MR 3 Score","Total MR Rank","Total MR Score","Column2"]
[{"$f":"Classical!A10","v":"B-302"},{"$f":"VLOOKUP(Table71012[[#This Row],[ID]],Classical!A:D,4,FALSE)","v":"(201) Haley Coombs"},{"$f":"Classical!U10","v":4},{"$f":"Classical!S10","v":73},{"$f":"IF((Table71012[[#This Row],[Rank]]+Table71012[[#This Row],[Score]])>0,1,0)","v":1},null,null,null,null,null,null,{"$f":"SUM(F3,H3,J3)","v":0},{"$f":"SUM(G3,I3,K3)","v":0},"1st"]
[{"$f":"Classical!A5","v":"A-302"},{"$f":"VLOOKUP(Table71012[[#This Row],[ID]],Classical!A:D,4,FALSE)","v":"(203) Jackson P."},{"$f":"Classical!U5","v":5},{"$f":"Classical!S5","v":69},{"$f":"IF((Table71012[[#This Row],[Rank]]+Table71012[[#This Row],[Score]])>0,1,0)","v":1},null,null,null,null,null,null,0,0,"2nd"]
[{"$f":"Classical!A4","v":"A-301"},{"$f":"VLOOKUP(Table71012[[#This Row],[ID]],Classical!A:D,4,FALSE)","v":"(202) Anthony A."},{"$f":"Classical!U4","v":10},{"$f":"Classical!S4","v":61},{"$f":"IF((Table71012[[#This Row],[Rank]]+Table71012[[#This Row],[Score]])>0,1,0)","v":1},null,null,null,null,null,null,0,0,"3rd"]
[{"$f":"Classical!A6","v":"A-303"},{"$f":"VLOOKUP(Table71012[[#This Row],[ID]],Classical!A:D,4,FALSE)","v":"(205) Brinley"},{"$f":"Classical!U6","v":11},{"$f":"Classical!S6","v":55},{"$f":"IF((Table71012[[#This Row],[Rank]]+Table71012[[#This Row],[Score]])>0,1,0)","v":1},null,null,null,null,null,null,0,0]
[{"$f":"Classical!A7","v":"A-304"},{"$f":"VLOOKUP(Table71012[[#This Row],[ID]],Classical!A:D,4,FALSE)","v":"(206) Vincent "},{"$f":"Classical!U7","v":12},{"$f":"Classical!S7","v":52},{"$f":"IF((Table71012[[#This Row],[Rank]]+Table71012[[#This Row],[Score]])>0,1,0)","v":1},null,null,null,null,null,null,0,0]
[{"$f":"Classical!A14","v":"C-301"},{"$f":"VLOOKUP(Table71012[[#This Row],[ID]],Classical!A:D,4,FALSE)","v":"(204) Brooklyn Clark"},{"$f":"Classical!U14","v":0},{"$f":"Classical!S14","v":0},{"$f":"IF((Table71012[[#This Row],[Rank]]+Table71012[[#This Row],[Score]])>0,1,0)","v":0},null,null,null,null,null,null,0,0]
[{"$f":"Classical!A9","v":"B-301"},{"$f":"VLOOKUP(Table71012[[#This Row],[ID]],Classical!A:D,4,FALSE)","v":"(200) Tylee Barney"},{"$f":"Classical!U9","v":0},{"$f":"Classical!S9","v":0},{"$f":"IF((Table71012[[#This Row],[Rank]]+Table71012[[#This Row],[Score]])>0,1,0)","v":0},null,null,null,null,null,null,0,0]
[{"$f":"Classical!A124","v":"AA-301"},{"$f":"VLOOKUP(Table71012[[#This Row],[ID]],Classical!A:D,4,FALSE)","v":0},{"$f":"Classical!U124","v":0},{"$f":"Classical!S124","v":0},{"$f":"IF((Table71012[[#This Row],[Rank]]+Table71012[[#This Row],[Score]])>0,1,0)","v":0},null,null,null,null,null,null,0,0]
[{"$f":"Classical!A125","v":"AA-302"},{"$f":"VLOOKUP(Table71012[[#This Row],[ID]],Classical!A:D,4,FALSE)","v":0},{"$f":"Classical!U125","v":0},{"$f":"Classical!S125","v":0},{"$f":"IF((Table71012[[#This Row],[Rank]]+Table71012[[#This Row],[Score]])>0,1,0)","v":0},null,null,null,null,null,null,0,0]
[{"$f":"Classical!A126","v":"AA-303"},{"$f":"VLOOKUP(Table71012[[#This Row],[ID]],Classical!A:D,4,FALSE)","v":0},{"$f":"Classical!U126","v":0},{"$f":"Classical!S126","v":0},{"$f":"IF((Table71012[[#This Row],[Rank]]+Table71012[[#This Row],[Score]])>0,1,0)","v":0},null,null,null,null,null,null,0,0]
[{"$f":"Classical!A127","v":"AA-304"},{"$f":"VLOOKUP(Table71012[[#This Row],[ID]],Classical!A:D,4,FALSE)","v":0},{"$f":"Classical!U127","v":0},{"$f":"Classical!S127","v":0},{"$f":"IF((Table71012[[#This Row],[Rank]]+Table71012[[#This Row],[Score]])>0,1,0)","v":0},null,null,null,null,null,null,0,0]
[{"$f":"Classical!A11","v":"B-303"},{"$f":"VLOOKUP(Table71012[[#This Row],[ID]],Classical!A:D,4,FALSE)","v":0},{"$f":"Classical!U11","v":0},{"$f":"Classical!S11","v":0},{"$f":"IF((Table71012[[#This Row],[Rank]]+Table71012[[#This Row],[Score]])>0,1,0)","v":0},null,null,null,null,null,null,0,0]
[{"$f":"Classical!A12","v":"B-304"},{"$f":"VLOOKUP(Table71012[[#This Row],[ID]],Classical!A:D,4,FALSE)","v":0},{"$f":"Classical!U12","v":0},{"$f":"Classical!S12","v":0},{"$f":"IF((Table71012[[#This Row],[Rank]]+Table71012[[#This Row],[Score]])>0,1,0)","v":0},null,null,null,null,null,null,0,0]
[{"$f":"Classical!A129","v":"BB-301"},{"$f":"VLOOKUP(Table71012[[#This Row],[ID]],Classical!A:D,4,FALSE)","v":0},{"$f":"Classical!U129","v":0},{"$f":"Classical!S129","v":0},{"$f":"IF((Table71012[[#This Row],[Rank]]+Table71012[[#This Row],[Score]])>0,1,0)","v":0},null,null,null,null,null,null,0,0]
[{"$f":"Classical!A130","v":"BB-302"},{"$f":"VLOOKUP(Table71012[[#This Row],[ID]],Classical!A:D,4,FALSE)","v":0},{"$f":"Classical!U130","v":0},{"$f":"Classical!S130","v":0},{"$f":"IF((Table71012[[#This Row],[Rank]]+Table71012[[#This Row],[Score]])>0,1,0)","v":0},null,null,null,null,null,null,0,0]
[{"$f":"Classical!A131","v":"BB-303"},{"$f":"VLOOKUP(Table71012[[#This Row],[ID]],Classical!A:D,4,FALSE)","v":0},{"$f":"Classical!U131","v":0},{"$f":"Classical!S131","v":0},{"$f":"IF((Table71012[[#This Row],[Rank]]+Table71012[[#This Row],[Score]])>0,1,0)","v":0},null,null,null,null,null,null,0,0]
[{"$f":"Classical!A132","v":"BB-304"},{"$f":"VLOOKUP(Table71012[[#This Row],[ID]],Classical!A:D,4,FALSE)","v":0},{"$f":"Classical!U132","v":0},{"$f":"Classical!S132","v":0},{"$f":"IF((Table71012[[#This Row],[Rank]]+Table71012[[#This Row],[Score]])>0,1,0)","v":0},null,null,null,null,null,null,0,0]
[{"$f":"Classical!A15","v":"C-302"},{"$f":"VLOOKUP(Table71012[[#This Row],[ID]],Classical!A:D,4,FALSE)","v":0},{"$f":"Classical!U15","v":0},{"$f":"Classical!S15","v":0},{"$f":"IF((Table71012[[#This Row],[Rank]]+Table71012[[#This Row],[Score]])>0,1,0)","v":0},null,null,null,null,null,null,0,0]
[{"$f":"Classical!A16","v":"C-303"},{"$f":"VLOOKUP(Table71012[[#This Row],[ID]],Classical!A:D,4,FALSE)","v":0},{"$f":"Classical!U16","v":0},{"$f":"Classical!S16","v":0},{"$f":"IF((Table71012[[#This Row],[Rank]]+Table71012[[#This Row],[Score]])>0,1,0)","v":0},null,null,null,null,null,null,0,0]
[{"$f":"Classical!A17","v":"C-304"},{"$f":"VLOOKUP(Table71012[[#This Row],[ID]],Classical!A:D,4,FALSE)","v":0},{"$f":"Classical!U17","v":0},{"$f":"Classical!S17","v":0},{"$f":"IF((Table71012[[#This Row],[Rank]]+Table71012[[#This Row],[Score]])>0,1,0)","v":0},null,null,null,null,null,null,0,0]
[{"$f":"Classical!A134","v":"CC-301"},{"$f":"VLOOKUP(Table71012[[#This Row],[ID]],Classical!A:D,4,FALSE)","v":0},{"$f":"Classical!U134","v":0},{"$f":"Classical!S134","v":0},{"$f":"IF((Table71012[[#This Row],[Rank]]+Table71012[[#This Row],[Score]])>0,1,0)","v":0},null,null,null,null,null,null,0,0]
[{"$f":"Classical!A135","v":"CC-302"},{"$f":"VLOOKUP(Table71012[[#This Row],[ID]],Classical!A:D,4,FALSE)","v":0},{"$f":"Classical!U135","v":0},{"$f":"Classical!S135","v":0},{"$f":"IF((Table71012[[#This Row],[Rank]]+Table71012[[#This Row],[Score]])>0,1,0)","v":0},null,null,null,null,null,null,0,0]
[{"$f":"Classical!A136","v":"CC-303"},{"$f":"VLOOKUP(Table71012[[#This Row],[ID]],Classical!A:D,4,FALSE)","v":0},{"$f":"Classical!U136","v":0},{"$f":"Classical!S136","v":0},{"$f":"IF((Table71012[[#This Row],[Rank]]+Table71012[[#This Row],[Score]])>0,1,0)","v":0},null,null,null,null,null,null,0,0]
[{"$f":"Classical!A137","v":"CC-304"},{"$f":"VLOOKUP(Table71012[[#This Row],[ID]],Classical!A:D,4,FALSE)","v":0},{"$f":"Classical!U137","v":0},{"$f":"Classical!S137","v":0},{"$f":"IF((Table71012[[#This Row],[Rank]]+Table71012[[#This Row],[Score]])>0,1,0)","v":0},null,null,null,null,null,null,0,0]
[{"$f":"Classical!A19","v":"D-301"},{"$f":"VLOOKUP(Table71012[[#This Row],[ID]],Classical!A:D,4,FALSE)","v":0},{"$f":"Classical!U19","v":0},{"$f":"Classical!S19","v":0},{"$f":"IF((Table71012[[#This Row],[Rank]]+Table71012[[#This Row],[Score]])>0,1,0)","v":0},null,null,null,null,null,null,0,0]
[{"$f":"Classical!A20","v":"D-302"},{"$f":"VLOOKUP(Table71012[[#This Row],[ID]],Classical!A:D,4,FALSE)","v":0},{"$f":"Classical!U20","v":0},{"$f":"Classical!S20","v":0},{"$f":"IF((Table71012[[#This Row],[Rank]]+Table71012[[#This Row],[Score]])>0,1,0)","v":0},null,null,null,null,null,null,0,0]
[{"$f":"Classical!A21","v":"D-303"},{"$f":"VLOOKUP(Table71012[[#This Row],[ID]],Classical!A:D,4,FALSE)","v":0},{"$f":"Classical!U21","v":0},{"$f":"Classical!S21","v":0},{"$f":"IF((Table71012[[#This Row],[Rank]]+Table71012[[#This Row],[Score]])>0,1,0)","v":0},null,null,null,null,null,null,0,0]
[{"$f":"Classical!A22","v":"D-304"},{"$f":"VLOOKUP(Table71012[[#This Row],[ID]],Classical!A:D,4,FALSE)","v":0},{"$f":"Classical!U22","v":0},{"$f":"Classical!S22","v":0},{"$f":"IF((Table71012[[#This Row],[Rank]]+Table71012[[#This Row],[Score]])>0,1,0)","v":0},null,null,null,null,null,null,0,0]
[{"$f":"Classical!A139","v":"DD-301"},{"$f":"VLOOKUP(Table71012[[#This Row],[ID]],Classical!A:D,4,FALSE)","v":0},{"$f":"Classical!U139","v":0},{"$f":"Classical!S139","v":0},{"$f":"IF((Table71012[[#This Row],[Rank]]+Table71012[[#This Row],[Score]])>0,1,0)","v":0},null,null,null,null,null,null,0,0]
[{"$f":"Classical!A140","v":"DD-302"},{"$f":"VLOOKUP(Table71012[[#This Row],[ID]],Classical!A:D,4,FALSE)","v":0},{"$f":"Classical!U140","v":0},{"$f":"Classical!S140","v":0},{"$f":"IF((Table71012[[#This Row],[Rank]]+Table71012[[#This Row],[Score]])>0,1,0)","v":0},null,null,null,null,null,null,0,0]
[{"$f":"Classical!A141","v":"DD-303"},{"$f":"VLOOKUP(Table71012[[#This Row],[ID]],Classical!A:D,4,FALSE)","v":0},{"$f":"Classical!U141","v":0},{"$f":"Classical!S141","v":0},{"$f":"IF((Table71012[[#This Row],[Rank]]+Table71012[[#This Row],[Score]])>0,1,0)","v":0},null,null,null,null,null,null,0,0]
[{"$f":"Classical!A142","v":"DD-304"},{"$f":"VLOOKUP(Table71012[[#This Row],[ID]],Classical!A:D,4,FALSE)","v":0},{"$f":"Classical!U142","v":0},{"$f":"Classical!S142","v":0},{"$f":"IF((Table71012[[#This Row],[Rank]]+Table71012[[#This Row],[Score]])>0,1,0)","v":0},null,null,null,null,null,null,0,0]
[{"$f":"Classical!A24","v":"E-301"},{"$f":"VLOOKUP(Table71012[[#This Row],[ID]],Classical!A:D,4,FALSE)","v":0},{"$f":"Classical!U24","v":0},{"$f":"Classical!S24","v":0},{"$f":"IF((Table71012[[#This Row],[Rank]]+Table71012[[#This Row],[Score]])>0,1,0)","v":0},null,null,null,null,null,null,{"$f":"SUM(F35,H35,J35)","v":0},{"$f":"SUM(G35,I35,K35)","v":0}]
[{"$f":"Classical!A25","v":"E-302"},{"$f":"VLOOKUP(Table71012[[#This Row],[ID]],Classical!A:D,4,FALSE)","v":0},{"$f":"Classical!U25","v":0},{"$f":"Classical!S25","v":0},{"$f":"IF((Table71012[[#This Row],[Rank]]+Table71012[[#This Row],[Score]])>0,1,0)","v":0},null,null,null,null,null,null,0,0]
[{"$f":"Classical!A26","v":"E-303"},{"$f":"VLOOKUP(Table71012[[#This Row],[ID]],Classical!A:D,4,FALSE)","v":0},{"$f":"Classical!U26","v":0},{"$f":"Classical!S26","v":0},{"$f":"IF((Table71012[[#This Row],[Rank]]+Table71012[[#This Row],[Score]])>0,1,0)","v":0},null,null,null,null,null,null,0,0]
[{"$f":"Classical!A27","v":"E-304"},{"$f":"VLOOKUP(Table71012[[#This Row],[ID]],Classical!A:D,4,FALSE)","v":0},{"$f":"Classical!U27","v":0},{"$f":"Classical!S27","v":0},{"$f":"IF((Table71012[[#This Row],[Rank]]+Table71012[[#This Row],[Score]])>0,1,0)","v":0},null,null,null,null,null,null,0,0]
[{"$f":"Classical!A144","v":"EE-301"},{"$f":"VLOOKUP(Table71012[[#This Row],[ID]],Classical!A:D,4,FALSE)","v":0},{"$f":"Classical!U144","v":0},{"$f":"Classical!S144","v":0},{"$f":"IF((Table71012[[#This Row],[Rank]]+Table71012[[#This Row],[Score]])>0,1,0)","v":0},null,null,null,null,null,null,0,0]
[{"$f":"Classical!A145","v":"EE-302"},{"$f":"VLOOKUP(Table71012[[#This Row],[ID]],Classical!A:D,4,FALSE)","v":0},{"$f":"Classical!U145","v":0},{"$f":"Classical!S145","v":0},{"$f":"IF((Table71012[[#This Row],[Rank]]+Table71012[[#This Row],[Score]])>0,1,0)","v":0},null,null,null,null,null,null,0,0]
[{"$f":"Classical!A146","v":"EE-303"},{"$f":"VLOOKUP(Table71012[[#This Row],[ID]],Classical!A:D,4,FALSE)","v":0},{"$f":"Classical!U146","v":0},{"$f":"Classical!S146","v":0},{"$f":"IF((Table71012[[#This Row],[Rank]]+Table71012[[#This Row],[Score]])>0,1,0)","v":0},null,null,null,null,null,null,0,0]
[{"$f":"Classical!A147","v":"EE-304"},{"$f":"VLOOKUP(Table71012[[#This Row],[ID]],Classical!A:D,4,FALSE)","v":0},{"$f":"Classical!U147","v":0},{"$f":"Classical!S147","v":0},{"$f":"IF((Table71012[[#This Row],[Rank]]+Table71012[[#This Row],[Score]])>0,1,0)","v":0},null,null,null,null,null,null,0,0]
[{"$f":"Classical!A29","v":"F-301"},{"$f":"VLOOKUP(Table71012[[#This Row],[ID]],Classical!A:D,4,FALSE)","v":0},{"$f":"Classical!U29","v":0},{"$f":"Classical!S29","v":0},{"$f":"IF((Table71012[[#This Row],[Rank]]+Table71012[[#This Row],[Score]])>0,1,0)","v":0},null,null,null,null,null,null,0,0]
[{"$f":"Classical!A30","v":"F-302"},{"$f":"VLOOKUP(Table71012[[#This Row],[ID]],Classical!A:D,4,FALSE)","v":0},{"$f":"Classical!U30","v":0},{"$f":"Classical!S30","v":0},{"$f":"IF((Table71012[[#This Row],[Rank]]+Table71012[[#This Row],[Score]])>0,1,0)","v":0},null,null,null,null,null,null,0,0]
[{"$f":"Classical!A31","v":"F-303"},{"$f":"VLOOKUP(Table71012[[#This Row],[ID]],Classical!A:D,4,FALSE)","v":0},{"$f":"Classical!U31","v":0},{"$f":"Classical!S31","v":0},{"$f":"IF((Table71012[[#This Row],[Rank]]+Table71012[[#This Row],[Score]])>0,1,0)","v":0},null,null,null,null,null,null,0,0]
[{"$f":"Classical!A32","v":"F-304"},{"$f":"VLOOKUP(Table71012[[#This Row],[ID]],Classical!A:D,4,FALSE)","v":0},{"$f":"Classical!U32","v":0},{"$f":"Classical!S32","v":0},{"$f":"IF((Table71012[[#This Row],[Rank]]+Table71012[[#This Row],[Score]])>0,1,0)","v":0},null,null,null,null,null,null,0,0]
[{"$f":"Classical!A34","v":"G-301"},{"$f":"VLOOKUP(Table71012[[#This Row],[ID]],Classical!A:D,4,FALSE)","v":0},{"$f":"Classical!U34","v":0},{"$f":"Classical!S34","v":0},{"$f":"IF((Table71012[[#This Row],[Rank]]+Table71012[[#This Row],[Score]])>0,1,0)","v":0},null,null,null,null,null,null,0,0]
[{"$f":"Classical!A35","v":"G-302"},{"$f":"VLOOKUP(Table71012[[#This Row],[ID]],Classical!A:D,4,FALSE)","v":0},{"$f":"Classical!U35","v":0},{"$f":"Classical!S35","v":0},{"$f":"IF((Table71012[[#This Row],[Rank]]+Table71012[[#This Row],[Score]])>0,1,0)","v":0},null,null,null,null,null,null,0,0]
[{"$f":"Classical!A36","v":"G-303"},{"$f":"VLOOKUP(Table71012[[#This Row],[ID]],Classical!A:D,4,FALSE)","v":0},{"$f":"Classical!U36","v":0},{"$f":"Classical!S36","v":0},{"$f":"IF((Table71012[[#This Row],[Rank]]+Table71012[[#This Row],[Score]])>0,1,0)","v":0},null,null,null,null,null,null,0,0]
[{"$f":"Classical!A37","v":"G-304"},{"$f":"VLOOKUP(Table71012[[#This Row],[ID]],Classical!A:D,4,FALSE)","v":0},{"$f":"Classical!U37","v":0},{"$f":"Classical!S37","v":0},{"$f":"IF((Table71012[[#This Row],[Rank]]+Table71012[[#This Row],[Score]])>0,1,0)","v":0},null,null,null,null,null,null,0,0]
[{"$f":"Classical!A39","v":"H-301"},{"$f":"VLOOKUP(Table71012[[#This Row],[ID]],Classical!A:D,4,FALSE)","v":0},{"$f":"Classical!U39","v":0},{"$f":"Classical!S39","v":0},{"$f":"IF((Table71012[[#This Row],[Rank]]+Table71012[[#This Row],[Score]])>0,1,0)","v":0},null,null,null,null,null,null,0,0]
[{"$f":"Classical!A40","v":"H-302"},{"$f":"VLOOKUP(Table71012[[#This Row],[ID]],Classical!A:D,4,FALSE)","v":0},{"$f":"Classical!U40","v":0},{"$f":"Classical!S40","v":0},{"$f":"IF((Table71012[[#This Row],[Rank]]+Table71012[[#This Row],[Score]])>0,1,0)","v":0},null,null,null,null,null,null,0,0]
[{"$f":"Classical!A41","v":"H-303"},{"$f":"VLOOKUP(Table71012[[#This Row],[ID]],Classical!A:D,4,FALSE)","v":0},{"$f":"Classical!U41","v":0},{"$f":"Classical!S41","v":0},{"$f":"IF((Table71012[[#This Row],[Rank]]+Table71012[[#This Row],[Score]])>0,1,0)","v":0},null,null,null,null,null,null,0,0]
[{"$f":"Classical!A42","v":"H-304"},{"$f":"VLOOKUP(Table71012[[#This Row],[ID]],Classical!A:D,4,FALSE)","v":0},{"$f":"Classical!U42","v":0},{"$f":"Classical!S42","v":0},{"$f":"IF((Table71012[[#This Row],[Rank]]+Table71012[[#This Row],[Score]])>0,1,0)","v":0},null,null,null,null,null,null,0,0]
[{"$f":"Classical!A44","v":"J-301"},{"$f":"VLOOKUP(Table71012[[#This Row],[ID]],Classical!A:D,4,FALSE)","v":0},{"$f":"Classical!U44","v":0},{"$f":"Classical!S44","v":0},{"$f":"IF((Table71012[[#This Row],[Rank]]+Table71012[[#This Row],[Score]])>0,1,0)","v":0},null,null,null,null,null,null,0,0]
[{"$f":"Classical!A45","v":"J-302"},{"$f":"VLOOKUP(Table71012[[#This Row],[ID]],Classical!A:D,4,FALSE)","v":0},{"$f":"Classical!U45","v":0},{"$f":"Classical!S45","v":0},{"$f":"IF((Table71012[[#This Row],[Rank]]+Table71012[[#This Row],[Score]])>0,1,0)","v":0},null,null,null,null,null,null,0,0]
[{"$f":"Classical!A46","v":"J-303"},{"$f":"VLOOKUP(Table71012[[#This Row],[ID]],Classical!A:D,4,FALSE)","v":0},{"$f":"Classical!U46","v":0},{"$f":"Classical!S46","v":0},{"$f":"IF((Table71012[[#This Row],[Rank]]+Table71012[[#This Row],[Score]])>0,1,0)","v":0},null,null,null,null,null,null,0,0]
[{"$f":"Classical!A47","v":"J-304"},{"$f":"VLOOKUP(Table71012[[#This Row],[ID]],Classical!A:D,4,FALSE)","v":0},{"$f":"Classical!U47","v":0},{"$f":"Classical!S47","v":0},{"$f":"IF((Table71012[[#This Row],[Rank]]+Table71012[[#This Row],[Score]])>0,1,0)","v":0},null,null,null,null,null,null,0,0]
[{"$f":"Classical!A49","v":"K-301"},{"$f":"VLOOKUP(Table71012[[#This Row],[ID]],Classical!A:D,4,FALSE)","v":0},{"$f":"Classical!U49","v":0},{"$f":"Classical!S49","v":0},{"$f":"IF((Table71012[[#This Row],[Rank]]+Table71012[[#This Row],[Score]])>0,1,0)","v":0},null,null,null,null,null,null,0,0]
[{"$f":"Classical!A50","v":"K-302"},{"$f":"VLOOKUP(Table71012[[#This Row],[ID]],Classical!A:D,4,FALSE)","v":0},{"$f":"Classical!U50","v":0},{"$f":"Classical!S50","v":0},{"$f":"IF((Table71012[[#This Row],[Rank]]+Table71012[[#This Row],[Score]])>0,1,0)","v":0},null,null,null,null,null,null,0,0]
[{"$f":"Classical!A51","v":"K-303"},{"$f":"VLOOKUP(Table71012[[#This Row],[ID]],Classical!A:D,4,FALSE)","v":0},{"$f":"Classical!U51","v":0},{"$f":"Classical!S51","v":0},{"$f":"IF((Table71012[[#This Row],[Rank]]+Table71012[[#This Row],[Score]])>0,1,0)","v":0},null,null,null,null,null,null,0,0]
[{"$f":"Classical!A52","v":"K-304"},{"$f":"VLOOKUP(Table71012[[#This Row],[ID]],Classical!A:D,4,FALSE)","v":0},{"$f":"Classical!U52","v":0},{"$f":"Classical!S52","v":0},{"$f":"IF((Table71012[[#This Row],[Rank]]+Table71012[[#This Row],[Score]])>0,1,0)","v":0},null,null,null,null,null,null,0,0]
[{"$f":"Classical!A54","v":"L-301"},{"$f":"VLOOKUP(Table71012[[#This Row],[ID]],Classical!A:D,4,FALSE)","v":0},{"$f":"Classical!U54","v":0},{"$f":"Classical!S54","v":0},{"$f":"IF((Table71012[[#This Row],[Rank]]+Table71012[[#This Row],[Score]])>0,1,0)","v":0},null,null,null,null,null,null,0,0]
[{"$f":"Classical!A55","v":"L-302"},{"$f":"VLOOKUP(Table71012[[#This Row],[ID]],Classical!A:D,4,FALSE)","v":0},{"$f":"Classical!U55","v":0},{"$f":"Classical!S55","v":0},{"$f":"IF((Table71012[[#This Row],[Rank]]+Table71012[[#This Row],[Score]])>0,1,0)","v":0},null,null,null,null,null,null,0,0]
[{"$f":"Classical!A56","v":"L-303"},{"$f":"VLOOKUP(Table71012[[#This Row],[ID]],Classical!A:D,4,FALSE)","v":0},{"$f":"Classical!U56","v":0},{"$f":"Classical!S56","v":0},{"$f":"IF((Table71012[[#This Row],[Rank]]+Table71012[[#This Row],[Score]])>0,1,0)","v":0},null,null,null,null,null,null,0,0]
[{"$f":"Classical!A57","v":"L-304"},{"$f":"VLOOKUP(Table71012[[#This Row],[ID]],Classical!A:D,4,FALSE)","v":0},{"$f":"Classical!U57","v":0},{"$f":"Classical!S57","v":0},{"$f":"IF((Table71012[[#This Row],[Rank]]+Table71012[[#This Row],[Score]])>0,1,0)","v":0},null,null,null,null,null,null,0,0]
[{"$f":"Classical!A59","v":"M-301"},{"$f":"VLOOKUP(Table71012[[#This Row],[ID]],Classical!A:D,4,FALSE)","v":0},{"$f":"Classical!U59","v":0},{"$f":"Classical!S59","v":0},{"$f":"IF((Table71012[[#This Row],[Rank]]+Table71012[[#This Row],[Score]])>0,1,0)","v":0},null,null,null,null,null,null,{"$f":"SUM(F67,H67,J67)","v":0},{"$f":"SUM(G67,I67,K67)","v":0}]
[{"$f":"Classical!A60","v":"M-302"},{"$f":"VLOOKUP(Table71012[[#This Row],[ID]],Classical!A:D,4,FALSE)","v":0},{"$f":"Classical!U60","v":0},{"$f":"Classical!S60","v":0},{"$f":"IF((Table71012[[#This Row],[Rank]]+Table71012[[#This Row],[Score]])>0,1,0)","v":0},null,null,null,null,null,null,0,0]
[{"$f":"Classical!A61","v":"M-303"},{"$f":"VLOOKUP(Table71012[[#This Row],[ID]],Classical!A:D,4,FALSE)","v":0},{"$f":"Classical!U61","v":0},{"$f":"Classical!S61","v":0},{"$f":"IF((Table71012[[#This Row],[Rank]]+Table71012[[#This Row],[Score]])>0,1,0)","v":0},null,null,null,null,null,null,0,0]
[{"$f":"Classical!A62","v":"M-304"},{"$f":"VLOOKUP(Table71012[[#This Row],[ID]],Classical!A:D,4,FALSE)","v":0},{"$f":"Classical!U62","v":0},{"$f":"Classical!S62","v":0},{"$f":"IF((Table71012[[#This Row],[Rank]]+Table71012[[#This Row],[Score]])>0,1,0)","v":0},null,null,null,null,null,null,0,0]
[{"$f":"Classical!A64","v":"N-301"},{"$f":"VLOOKUP(Table71012[[#This Row],[ID]],Classical!A:D,4,FALSE)","v":0},{"$f":"Classical!U64","v":0},{"$f":"Classical!S64","v":0},{"$f":"IF((Table71012[[#This Row],[Rank]]+Table71012[[#This Row],[Score]])>0,1,0)","v":0},null,null,null,null,null,null,0,0]
[{"$f":"Classical!A65","v":"N-302"},{"$f":"VLOOKUP(Table71012[[#This Row],[ID]],Classical!A:D,4,FALSE)","v":0},{"$f":"Classical!U65","v":0},{"$f":"Classical!S65","v":0},{"$f":"IF((Table71012[[#This Row],[Rank]]+Table71012[[#This Row],[Score]])>0,1,0)","v":0},null,null,null,null,null,null,0,0]
[{"$f":"Classical!A66","v":"N-303"},{"$f":"VLOOKUP(Table71012[[#This Row],[ID]],Classical!A:D,4,FALSE)","v":0},{"$f":"Classical!U66","v":0},{"$f":"Classical!S66","v":0},{"$f":"IF((Table71012[[#This Row],[Rank]]+Table71012[[#This Row],[Score]])>0,1,0)","v":0},null,null,null,null,null,null,0,0]
[{"$f":"Classical!A67","v":"N-304"},{"$f":"VLOOKUP(Table71012[[#This Row],[ID]],Classical!A:D,4,FALSE)","v":0},{"$f":"Classical!U67","v":0},{"$f":"Classical!S67","v":0},{"$f":"IF((Table71012[[#This Row],[Rank]]+Table71012[[#This Row],[Score]])>0,1,0)","v":0},null,null,null,null,null,null,0,0]
[{"$f":"Classical!A69","v":"P-301"},{"$f":"VLOOKUP(Table71012[[#This Row],[ID]],Classical!A:D,4,FALSE)","v":0},{"$f":"Classical!U69","v":0},{"$f":"Classical!S69","v":0},{"$f":"IF((Table71012[[#This Row],[Rank]]+Table71012[[#This Row],[Score]])>0,1,0)","v":0},null,null,null,null,null,null,0,0]
[{"$f":"Classical!A70","v":"P-302"},{"$f":"VLOOKUP(Table71012[[#This Row],[ID]],Classical!A:D,4,FALSE)","v":0},{"$f":"Classical!U70","v":0},{"$f":"Classical!S70","v":0},{"$f":"IF((Table71012[[#This Row],[Rank]]+Table71012[[#This Row],[Score]])>0,1,0)","v":0},null,null,null,null,null,null,0,0]
[{"$f":"Classical!A71","v":"P-303"},{"$f":"VLOOKUP(Table71012[[#This Row],[ID]],Classical!A:D,4,FALSE)","v":0},{"$f":"Classical!U71","v":0},{"$f":"Classical!S71","v":0},{"$f":"IF((Table71012[[#This Row],[Rank]]+Table71012[[#This Row],[Score]])>0,1,0)","v":0},null,null,null,null,null,null,0,0]
[{"$f":"Classical!A72","v":"P-304"},{"$f":"VLOOKUP(Table71012[[#This Row],[ID]],Classical!A:D,4,FALSE)","v":0},{"$f":"Classical!U72","v":0},{"$f":"Classical!S72","v":0},{"$f":"IF((Table71012[[#This Row],[Rank]]+Table71012[[#This Row],[Score]])>0,1,0)","v":0},null,null,null,null,null,null,0,0]
[{"$f":"Classical!A74","v":"Q-301"},{"$f":"VLOOKUP(Table71012[[#This Row],[ID]],Classical!A:D,4,FALSE)","v":0},{"$f":"Classical!U74","v":0},{"$f":"Classical!S74","v":0},{"$f":"IF((Table71012[[#This Row],[Rank]]+Table71012[[#This Row],[Score]])>0,1,0)","v":0},null,null,null,null,null,null,0,0]
[{"$f":"Classical!A75","v":"Q-302"},{"$f":"VLOOKUP(Table71012[[#This Row],[ID]],Classical!A:D,4,FALSE)","v":0},{"$f":"Classical!U75","v":0},{"$f":"Classical!S75","v":0},{"$f":"IF((Table71012[[#This Row],[Rank]]+Table71012[[#This Row],[Score]])>0,1,0)","v":0},null,null,null,null,null,null,0,0]
[{"$f":"Classical!A76","v":"Q-303"},{"$f":"VLOOKUP(Table71012[[#This Row],[ID]],Classical!A:D,4,FALSE)","v":0},{"$f":"Classical!U76","v":0},{"$f":"Classical!S76","v":0},{"$f":"IF((Table71012[[#This Row],[Rank]]+Table71012[[#This Row],[Score]])>0,1,0)","v":0},null,null,null,null,null,null,0,0]
[{"$f":"Classical!A77","v":"Q-304"},{"$f":"VLOOKUP(Table71012[[#This Row],[ID]],Classical!A:D,4,FALSE)","v":0},{"$f":"Classical!U77","v":0},{"$f":"Classical!S77","v":0},{"$f":"IF((Table71012[[#This Row],[Rank]]+Table71012[[#This Row],[Score]])>0,1,0)","v":0},null,null,null,null,null,null,0,0]
[{"$f":"Classical!A79","v":"R-301"},{"$f":"VLOOKUP(Table71012[[#This Row],[ID]],Classical!A:D,4,FALSE)","v":0},{"$f":"Classical!U79","v":0},{"$f":"Classical!S79","v":0},{"$f":"IF((Table71012[[#This Row],[Rank]]+Table71012[[#This Row],[Score]])>0,1,0)","v":0},null,null,null,null,null,null,0,0]
[{"$f":"Classical!A80","v":"R-302"},{"$f":"VLOOKUP(Table71012[[#This Row],[ID]],Classical!A:D,4,FALSE)","v":0},{"$f":"Classical!U80","v":0},{"$f":"Classical!S80","v":0},{"$f":"IF((Table71012[[#This Row],[Rank]]+Table71012[[#This Row],[Score]])>0,1,0)","v":0},null,null,null,null,null,null,0,0]
[{"$f":"Classical!A81","v":"R-303"},{"$f":"VLOOKUP(Table71012[[#This Row],[ID]],Classical!A:D,4,FALSE)","v":0},{"$f":"Classical!U81","v":0},{"$f":"Classical!S81","v":0},{"$f":"IF((Table71012[[#This Row],[Rank]]+Table71012[[#This Row],[Score]])>0,1,0)","v":0},null,null,null,null,null,null,0,0]
[{"$f":"Classical!A82","v":"R-304"},{"$f":"VLOOKUP(Table71012[[#This Row],[ID]],Classical!A:D,4,FALSE)","v":0},{"$f":"Classical!U82","v":0},{"$f":"Classical!S82","v":0},{"$f":"IF((Table71012[[#This Row],[Rank]]+Table71012[[#This Row],[Score]])>0,1,0)","v":0},null,null,null,null,null,null,0,0]
[{"$f":"Classical!A84","v":"S-301"},{"$f":"VLOOKUP(Table71012[[#This Row],[ID]],Classical!A:D,4,FALSE)","v":0},{"$f":"Classical!U84","v":0},{"$f":"Classical!S84","v":0},{"$f":"IF((Table71012[[#This Row],[Rank]]+Table71012[[#This Row],[Score]])>0,1,0)","v":0},null,null,null,null,null,null,0,0]
[{"$f":"Classical!A85","v":"S-302"},{"$f":"VLOOKUP(Table71012[[#This Row],[ID]],Classical!A:D,4,FALSE)","v":0},{"$f":"Classical!U85","v":0},{"$f":"Classical!S85","v":0},{"$f":"IF((Table71012[[#This Row],[Rank]]+Table71012[[#This Row],[Score]])>0,1,0)","v":0},null,null,null,null,null,null,0,0]
[{"$f":"Classical!A86","v":"S-303"},{"$f":"VLOOKUP(Table71012[[#This Row],[ID]],Classical!A:D,4,FALSE)","v":0},{"$f":"Classical!U86","v":0},{"$f":"Classical!S86","v":0},{"$f":"IF((Table71012[[#This Row],[Rank]]+Table71012[[#This Row],[Score]])>0,1,0)","v":0},null,null,null,null,null,null,0,0]
[{"$f":"Classical!A87","v":"S-304"},{"$f":"VLOOKUP(Table71012[[#This Row],[ID]],Classical!A:D,4,FALSE)","v":0},{"$f":"Classical!U87","v":0},{"$f":"Classical!S87","v":0},{"$f":"IF((Table71012[[#This Row],[Rank]]+Table71012[[#This Row],[Score]])>0,1,0)","v":0},null,null,null,null,null,null,0,0]
[{"$f":"Classical!A89","v":"T-301"},{"$f":"VLOOKUP(Table71012[[#This Row],[ID]],Classical!A:D,4,FALSE)","v":0},{"$f":"Classical!U89","v":0},{"$f":"Classical!S89","v":0},{"$f":"IF((Table71012[[#This Row],[Rank]]+Table71012[[#This Row],[Score]])>0,1,0)","v":0},null,null,null,null,null,null,0,0]
[{"$f":"Classical!A90","v":"T-302"},{"$f":"VLOOKUP(Table71012[[#This Row],[ID]],Classical!A:D,4,FALSE)","v":0},{"$f":"Classical!U90","v":0},{"$f":"Classical!S90","v":0},{"$f":"IF((Table71012[[#This Row],[Rank]]+Table71012[[#This Row],[Score]])>0,1,0)","v":0},null,null,null,null,null,null,0,0]
[{"$f":"Classical!A91","v":"T-303"},{"$f":"VLOOKUP(Table71012[[#This Row],[ID]],Classical!A:D,4,FALSE)","v":0},{"$f":"Classical!U91","v":0},{"$f":"Classical!S91","v":0},{"$f":"IF((Table71012[[#This Row],[Rank]]+Table71012[[#This Row],[Score]])>0,1,0)","v":0},null,null,null,null,null,null,0,0]
[{"$f":"Classical!A92","v":"T-304"},{"$f":"VLOOKUP(Table71012[[#This Row],[ID]],Classical!A:D,4,FALSE)","v":0},{"$f":"Classical!U92","v":0},{"$f":"Classical!S92","v":0},{"$f":"IF((Table71012[[#This Row],[Rank]]+Table71012[[#This Row],[Score]])>0,1,0)","v":0},null,null,null,null,null,null,0,0]
[{"$f":"Classical!A94","v":"U-301"},{"$f":"VLOOKUP(Table71012[[#This Row],[ID]],Classical!A:D,4,FALSE)","v":0},{"$f":"Classical!U94","v":0},{"$f":"Classical!S94","v":0},{"$f":"IF((Table71012[[#This Row],[Rank]]+Table71012[[#This Row],[Score]])>0,1,0)","v":0},null,null,null,null,null,null,0,0]
[{"$f":"Classical!A95","v":"U-302"},{"$f":"VLOOKUP(Table71012[[#This Row],[ID]],Classical!A:D,4,FALSE)","v":0},{"$f":"Classical!U95","v":0},{"$f":"Classical!S95","v":0},{"$f":"IF((Table71012[[#This Row],[Rank]]+Table71012[[#This Row],[Score]])>0,1,0)","v":0},null,null,null,null,null,null,0,0]
[{"$f":"Classical!A96","v":"U-303"},{"$f":"VLOOKUP(Table71012[[#This Row],[ID]],Classical!A:D,4,FALSE)","v":0},{"$f":"Classical!U96","v":0},{"$f":"Classical!S96","v":0},{"$f":"IF((Table71012[[#This Row],[Rank]]+Table71012[[#This Row],[Score]])>0,1,0)","v":0},null,null,null,null,null,null,0,0]
[{"$f":"Classical!A97","v":"U-304"},{"$f":"VLOOKUP(Table71012[[#This Row],[ID]],Classical!A:D,4,FALSE)","v":0},{"$f":"Classical!U97","v":0},{"$f":"Classical!S97","v":0},{"$f":"IF((Table71012[[#This Row],[Rank]]+Table71012[[#This Row],[Score]])>0,1,0)","v":0},null,null,null,null,null,null,0,0]
[{"$f":"Classical!A99","v":"V-301"},{"$f":"VLOOKUP(Table71012[[#This Row],[ID]],Classical!A:D,4,FALSE)","v":0},{"$f":"Classical!U99","v":0},{"$f":"Classical!S99","v":0},{"$f":"IF((Table71012[[#This Row],[Rank]]+Table71012[[#This Row],[Score]])>0,1,0)","v":0},null,null,null,null,null,null,{"$f":"SUM(F99,H99,J99)","v":0},{"$f":"SUM(G99,I99,K99)","v":0}]
[{"$f":"Classical!A100","v":"V-302"},{"$f":"VLOOKUP(Table71012[[#This Row],[ID]],Classical!A:D,4,FALSE)","v":0},{"$f":"Classical!U100","v":0},{"$f":"Classical!S100","v":0},{"$f":"IF((Table71012[[#This Row],[Rank]]+Table71012[[#This Row],[Score]])>0,1,0)","v":0},null,null,null,null,null,null,0,0]
[{"$f":"Classical!A101","v":"V-303"},{"$f":"VLOOKUP(Table71012[[#This Row],[ID]],Classical!A:D,4,FALSE)","v":0},{"$f":"Classical!U101","v":0},{"$f":"Classical!S101","v":0},{"$f":"IF((Table71012[[#This Row],[Rank]]+Table71012[[#This Row],[Score]])>0,1,0)","v":0},null,null,null,null,null,null,0,0]
[{"$f":"Classical!A102","v":"V-304"},{"$f":"VLOOKUP(Table71012[[#This Row],[ID]],Classical!A:D,4,FALSE)","v":0},{"$f":"Classical!U102","v":0},{"$f":"Classical!S102","v":0},{"$f":"IF((Table71012[[#This Row],[Rank]]+Table71012[[#This Row],[Score]])>0,1,0)","v":0},null,null,null,null,null,null,0,0]
[{"$f":"Classical!A104","v":"W-301"},{"$f":"VLOOKUP(Table71012[[#This Row],[ID]],Classical!A:D,4,FALSE)","v":0},{"$f":"Classical!U104","v":0},{"$f":"Classical!S104","v":0},{"$f":"IF((Table71012[[#This Row],[Rank]]+Table71012[[#This Row],[Score]])>0,1,0)","v":0},null,null,null,null,null,null,0,0]
[{"$f":"Classical!A105","v":"W-302"},{"$f":"VLOOKUP(Table71012[[#This Row],[ID]],Classical!A:D,4,FALSE)","v":0},{"$f":"Classical!U105","v":0},{"$f":"Classical!S105","v":0},{"$f":"IF((Table71012[[#This Row],[Rank]]+Table71012[[#This Row],[Score]])>0,1,0)","v":0},null,null,null,null,null,null,0,0]
[{"$f":"Classical!A106","v":"W-303"},{"$f":"VLOOKUP(Table71012[[#This Row],[ID]],Classical!A:D,4,FALSE)","v":0},{"$f":"Classical!U106","v":0},{"$f":"Classical!S106","v":0},{"$f":"IF((Table71012[[#This Row],[Rank]]+Table71012[[#This Row],[Score]])>0,1,0)","v":0},null,null,null,null,null,null,0,0]
[{"$f":"Classical!A107","v":"W-304"},{"$f":"VLOOKUP(Table71012[[#This Row],[ID]],Classical!A:D,4,FALSE)","v":0},{"$f":"Classical!U107","v":0},{"$f":"Classical!S107","v":0},{"$f":"IF((Table71012[[#This Row],[Rank]]+Table71012[[#This Row],[Score]])>0,1,0)","v":0},null,null,null,null,null,null,0,0]
[{"$f":"Classical!A109","v":"X-301"},{"$f":"VLOOKUP(Table71012[[#This Row],[ID]],Classical!A:D,4,FALSE)","v":0},{"$f":"Classical!U109","v":0},{"$f":"Classical!S109","v":0},{"$f":"IF((Table71012[[#This Row],[Rank]]+Table71012[[#This Row],[Score]])>0,1,0)","v":0},null,null,null,null,null,null,0,0]
[{"$f":"Classical!A110","v":"X-302"},{"$f":"VLOOKUP(Table71012[[#This Row],[ID]],Classical!A:D,4,FALSE)","v":0},{"$f":"Classical!U110","v":0},{"$f":"Classical!S110","v":0},{"$f":"IF((Table71012[[#This Row],[Rank]]+Table71012[[#This Row],[Score]])>0,1,0)","v":0},null,null,null,null,null,null,0,0]
[{"$f":"Classical!A111","v":"X-303"},{"$f":"VLOOKUP(Table71012[[#This Row],[ID]],Classical!A:D,4,FALSE)","v":0},{"$f":"Classical!U111","v":0},{"$f":"Classical!S111","v":0},{"$f":"IF((Table71012[[#This Row],[Rank]]+Table71012[[#This Row],[Score]])>0,1,0)","v":0},null,null,null,null,null,null,0,0]
[{"$f":"Classical!A112","v":"X-304"},{"$f":"VLOOKUP(Table71012[[#This Row],[ID]],Classical!A:D,4,FALSE)","v":0},{"$f":"Classical!U112","v":0},{"$f":"Classical!S112","v":0},{"$f":"IF((Table71012[[#This Row],[Rank]]+Table71012[[#This Row],[Score]])>0,1,0)","v":0},null,null,null,null,null,null,0,0]
[{"$f":"Classical!A114","v":"Y-301"},{"$f":"VLOOKUP(Table71012[[#This Row],[ID]],Classical!A:D,4,FALSE)","v":0},{"$f":"Classical!U114","v":0},{"$f":"Classical!S114","v":0},{"$f":"IF((Table71012[[#This Row],[Rank]]+Table71012[[#This Row],[Score]])>0,1,0)","v":0},null,null,null,null,null,null,0,0]
[{"$f":"Classical!A115","v":"Y-302"},{"$f":"VLOOKUP(Table71012[[#This Row],[ID]],Classical!A:D,4,FALSE)","v":0},{"$f":"Classical!U115","v":0},{"$f":"Classical!S115","v":0},{"$f":"IF((Table71012[[#This Row],[Rank]]+Table71012[[#This Row],[Score]])>0,1,0)","v":0},null,null,null,null,null,null,0,0]
[{"$f":"Classical!A116","v":"Y-303"},{"$f":"VLOOKUP(Table71012[[#This Row],[ID]],Classical!A:D,4,FALSE)","v":0},{"$f":"Classical!U116","v":0},{"$f":"Classical!S116","v":0},{"$f":"IF((Table71012[[#This Row],[Rank]]+Table71012[[#This Row],[Score]])>0,1,0)","v":0},null,null,null,null,null,null,0,0]
[{"$f":"Classical!A117","v":"Y-304"},{"$f":"VLOOKUP(Table71012[[#This Row],[ID]],Classical!A:D,4,FALSE)","v":0},{"$f":"Classical!U117","v":0},{"$f":"Classical!S117","v":0},{"$f":"IF((Table71012[[#This Row],[Rank]]+Table71012[[#This Row],[Score]])>0,1,0)","v":0},null,null,null,null,null,null,0,0]
[{"$f":"Classical!A119","v":"Z-301"},{"$f":"VLOOKUP(Table71012[[#This Row],[ID]],Classical!A:D,4,FALSE)","v":0},{"$f":"Classical!U119","v":0},{"$f":"Classical!S119","v":0},{"$f":"IF((Table71012[[#This Row],[Rank]]+Table71012[[#This Row],[Score]])>0,1,0)","v":0},null,null,null,null,null,null,0,0]
[{"$f":"Classical!A120","v":"Z-302"},{"$f":"VLOOKUP(Table71012[[#This Row],[ID]],Classical!A:D,4,FALSE)","v":0},{"$f":"Classical!U120","v":0},{"$f":"Classical!S120","v":0},{"$f":"IF((Table71012[[#This Row],[Rank]]+Table71012[[#This Row],[Score]])>0,1,0)","v":0},null,null,null,null,null,null,0,0]
[{"$f":"Classical!A121","v":"Z-303"},{"$f":"VLOOKUP(Table71012[[#This Row],[ID]],Classical!A:D,4,FALSE)","v":0},{"$f":"Classical!U121","v":0},{"$f":"Classical!S121","v":0},{"$f":"IF((Table71012[[#This Row],[Rank]]+Table71012[[#This Row],[Score]])>0,1,0)","v":0},null,null,null,null,null,null,0,0]
[{"$f":"Classical!A122","v":"Z-304"},{"$f":"VLOOKUP(Table71012[[#This Row],[ID]],Classical!A:D,4,FALSE)","v":0},{"$f":"Classical!U122","v":0},{"$f":"Classical!S122","v":0},{"$f":"IF((Table71012[[#This Row],[Rank]]+Table71012[[#This Row],[Score]])>0,1,0)","v":0},null,null,null,null,null,null,0,0]
[{"$f":"Classical!A149","v":"FF-301"},{"$f":"VLOOKUP(Table71012[[#This Row],[ID]],Classical!A:D,4,FALSE)","v":0},{"$f":"Classical!U149","v":0},{"$f":"Classical!S149","v":0},{"$f":"IF((Table71012[[#This Row],[Rank]]+Table71012[[#This Row],[Score]])>0,1,0)","v":0},null,null,null,null,null,null,0,0]
[{"$f":"Classical!A150","v":"FF-302"},{"$f":"VLOOKUP(Table71012[[#This Row],[ID]],Classical!A:D,4,FALSE)","v":0},{"$f":"Classical!U150","v":0},{"$f":"Classical!S150","v":0},{"$f":"IF((Table71012[[#This Row],[Rank]]+Table71012[[#This Row],[Score]])>0,1,0)","v":0},null,null,null,null,null,null,0,0]
[{"$f":"Classical!A151","v":"FF-303"},{"$f":"VLOOKUP(Table71012[[#This Row],[ID]],Classical!A:D,4,FALSE)","v":0},{"$f":"Classical!U151","v":0},{"$f":"Classical!S151","v":0},{"$f":"IF((Table71012[[#This Row],[Rank]]+Table71012[[#This Row],[Score]])>0,1,0)","v":0},null,null,null,null,null,null,0,0]
[{"$f":"Classical!A152","v":"FF-304"},{"$f":"VLOOKUP(Table71012[[#This Row],[ID]],Classical!A:D,4,FALSE)","v":0},{"$f":"Classical!U152","v":0},{"$f":"Classical!S152","v":0},{"$f":"IF((Table71012[[#This Row],[Rank]]+Table71012[[#This Row],[Score]])>0,1,0)","v":0},null,null,null,null,null,null,0,0]

{"sheet":"Contemporary","index":7,"n_rows":152,"n_cols":31,"rows_kept":152,"cut":false,"hidden":false,"merged":[]}
["Contemporary Scenes",null,null,null,null,null,null,null,null,null,"Rank 1-4",null,null,null,null,null,null,null,null,null,null,null,null,"S","E","G","F",null,"1violation","2violations","3violations"]
[null,null,null,null,null,null,null,null,null,null,"Round 1:",null,"Round 2:",null,"Round 3:",null,"-2 for each",null,null,null,null,null,null,null,null,null,null,"Drops lowest from column q"]
[null,null,null,"Student Name",null,"Student Name",null,"Student Name",null,"Title of Piece","R1 rank","R1 score","R2 rank","R2 score","R3 rank","R3 score","Time Violations",null,"TOTAL SCORE",null,"TOTAL RANK",null,null,"TOTAL SCHOOL SWEEPS POINTS",null,null,null,"Drop Lowest"]
["A-401",null,null,"(306) Andy G.",null,"Zach H.",null,"Dom Y.",null,"\"Pep Apocalyse\"",3,20,4,23,3,18,null,{"$f":"IF(Q4=\"1violation\",-7*1,IF(Q4=\"2violations\",-7*2,IF(Q4=\"3violations\",-7*3,IF(Q4=\"\",\"\"))))","v":""},{"$f":"SUM(L4,N4,P4,R4)","v":61},null,{"$f":"SUM(K4,M4,O4)","v":10},null,null,null,{"$f":"SUM(S4,S6,S5,S7,-AB4)","v":186},null,null,{"$f":"MIN(S4:S7)","v":59}]
["A-402",null,null,"(307) Ella ",null,"Riley C.",null,null,null,"\"Anti-Social\"",2,20,3,24,4,18,null,{"$f":"IF(Q5=\"1violation\",-7*1,IF(Q5=\"2violations\",-7*2,IF(Q5=\"3violations\",-7*3,IF(Q5=\"\",\"\"))))","v":""},{"$f":"SUM(L5,N5,P5,R5)","v":62},null,{"$f":"SUM(K5,M5,O5)","v":9}]
["A-403",null,null,"(308) Tristan",null,"George M.",null,"Joey R.",null,"\"Dubuque 911\"",1,22,4,18,1,23,null,"",{"$f":"SUM(L6,N6,P6,R6)","v":63},null,{"$f":"SUM(K6,M6,O6)","v":6}]
["A-404",null,null,"(309) Aaron",null,"Nimi",null,null,null,"\"From Empowered\"",4,17,4,24,4,18,null,"",{"$f":"SUM(L7,N7,P7,R7)","v":59},null,{"$f":"SUM(K7,M7,O7)","v":12}]
[]
["B-401",null,null,"(301) Lilly Spendlove",null,"Mark Tebbs",null,null,null,"\"Barefoot in Park\"",3,18,2,20,2,19,null,"",{"$f":"SUM(L9,N9,P9,R9)","v":57},null,{"$f":"SUM(K9,M9,O9)","v":7},null,null,null,{"$f":"SUM(S9,S11,S10,S12,-AB9)","v":121},null,null,{"$f":"MIN(S9:S12)","v":0}]
["B-402",null,null,"(302) Chynne Anderson",null,"Courtney Houston",null,null,null,"\"Julliet…\"",4,19,2,24,1,21,null,"",{"$f":"SUM(L10,N10,P10,R10)","v":64},null,{"$f":"SUM(K10,M10,O10)","v":7}]
["B-403",null,null,null,null,null,null,null,null,null,null,null,null,null,null,null,null,"",{"$f":"SUM(L11,N11,P11,R11)","v":0},null,{"$f":"SUM(K11,M11,O11)","v":0}]
["B-404",null,null,null,null,null,null,null,null,null,null,null,null,null,null,null,null,"",{"$f":"SUM(L12,N12,P12,R12)","v":0},null,{"$f":"SUM(K12,M12,O12)","v":0}]
[]
["C-401",null,null,"(305) Bryndis Maw",null,"Kalina Maw",null,null,null,null,null,null,null,null,null,null,null,"",{"$f":"SUM(L14,N14,P14,R14)","v":0},null,{"$f":"SUM(K14,M14,O14)","v":0},null,null,null,{"$f":"SUM(S14,S16,S15,S17,-AB14)","v":0},null,null,{"$f":"MIN(S14:S17)","v":0}]
["C-402",null,null,null,null,null,null,null,null,null,null,null,null,null,null,null,null,"",{"$f":"SUM(L15,N15,P15,R15)","v":0},null,{"$f":"SUM(K15,M15,O15)","v":0}]
["C-403",null,null,null,null,null,null,null,null,null,null,null,null,null,null,null,null,"",{"$f":"SUM(L16,N16,P16,R16)","v":0},null,{"$f":"SUM(K16,M16,O16)","v":0}]
["C-404",null,null,null,null,null,null,null,null,null,null,null,null,null,null,null,null,"",{"$f":"SUM(L17,N17,P17,R17)","v":0},null,{"$f":"SUM(K17,M17,O17)","v":0}]
[]
["D-401",null,null,"(303) Melinda Grimstead",null,"Elizabeth Milne",null,null,null,"\"Fancy Restaurant\"",4,18,3,24,2,19,null,"",{"$f":"SUM(L19,N19,P19,R19)","v":61},null,{"$f":"SUM(K19,M19,O19)","v":9},null,null,null,{"$f":"SUM(S19,S21,S20,S22,-AB19)","v":126},null,null,{"$f":"MIN(S19:S22)","v":0}]
["D-402",null,null,"(310) Talesha Bills","Sierra Richardson",null,null,null,null,"\"Rainbow Bunnies\"",2,21,1,22,3,22,null,"",{"$f":"SUM(L20,N20,P20,R20)","v":65},null,{"$f":"SUM(K20,M20,O20)","v":6}]
["D-403",null,null,null,null,null,null,null,null,null,null,null,null,null,null,null,null,"",{"$f":"SUM(L21,N21,P21,R21)","v":0},null,{"$f":"SUM(K21,M21,O21)","v":0}]
["D-404",null,null,null,null,null,null,null,null,null,null,null,null,null,null,null,null,"",{"$f":"SUM(L22,N22,P22,R22)","v":0},null,{"$f":"SUM(K22,M22,O22)","v":0}]
[]
["E-401",null,null,null,null,null,null,null,null,null,null,null,null,null,null,null,null,"",{"$f":"SUM(L24,N24,P24,R24)","v":0},null,{"$f":"SUM(K24,M24,O24)","v":0},null,null,null,{"$f":"SUM(S24,S26,S25,S27,-AB24)","v":0},null,null,{"$f":"MIN(S24:S27)","v":0}]
["E-402",null,null,null,null,null,null,null,null,null,null,null,null,null,null,null,null,"",{"$f":"SUM(L25,N25,P25,R25)","v":0},null,{"$f":"SUM(K25,M25,O25)","v":0}]
["E-403",null,null,null,null,null,null,null,null,null,null,null,null,null,null,null,null,"",{"$f":"SUM(L26,N26,P26,R26)","v":0},null,{"$f":"SUM(K26,M26,O26)","v":0}]
["E-404",null,null,null,null,null,null,null,null,null,null,null,null,null,null,null,null,"",{"$f":"SUM(L27,N27,P27,R27)","v":0},null,{"$f":"SUM(K27,M27,O27)","v":0}]
[]
["F-401",null,null,"(311) Makenzie Allred",null,"Emer Murphy",null,"Haylie Reil",null,"\"Chemical Bonding\"",3,20,1,25,4,18,null,"",{"$f":"SUM(L29,N29,P29,R29)","v":63},null,{"$f":"SUM(K29,M29,O29)","v":8},null,null,null,{"$f":"SUM(S29,S31,S30,S32,-AB29)","v":125},null,null,{"$f":"MIN(S29:S32)","v":0}]
["F-402",null,null,"(312) Korban Murphy",null,"Cash Reil",null,null,null,"\"13 ways\"",2,24,3,20,4,18,null,"",{"$f":"SUM(L30,N30,P30,R30)","v":62},null,{"$f":"SUM(K30,M30,O30)","v":9}]
["F-403",null,null,null,null,null,null,null,null,null,null,null,null,null,null,null,null,"",{"$f":"SUM(L31,N31,P31,R31)","v":0},null,{"$f":"SUM(K31,M31,O31)","v":0}]
["F-404",null,null,null,null,null,null,null,null,null,null,null,null,null,null,null,null,"",{"$f":"SUM(L32,N32,P32,R32)","v":0},null,{"$f":"SUM(K32,M32,O32)","v":0}]
[]
["G-401",null,null,"(300) Mersadie Rhoades",null,"Taylor Thomas",null,null,null,"The Boy Book",4,19,4,22,3,19,null,"",{"$f":"SUM(L34,N34,P34,R34)","v":60},null,{"$f":"SUM(K34,M34,O34)","v":11},null,null,null,{"$f":"SUM(S34,S36,S35,S37,-AB34)","v":60},null,null,{"$f":"MIN(S34:S37)","v":0}]
["G-402",null,null,null,null,null,null,null,null,null,null,null,null,null,null,null,null,"",{"$f":"SUM(L35,N35,P35,R35)","v":0},null,{"$f":"SUM(K35,M35,O35)","v":0}]
["G-403",null,null,null,null,null,null,null,null,null,null,null,null,null,null,null,null,"",{"$f":"SUM(L36,N36,P36,R36)","v":0},null,{"$f":"SUM(K36,M36,O36)","v":0}]
["G-404",null,null,null,null,null,null,null,null,null,null,null,null,null,null,null,null,"",{"$f":"SUM(L37,N37,P37,R37)","v":0},null,{"$f":"SUM(K37,M37,O37)","v":0}]
[]
["H-401",null,null,"(313) Kara Conrad",null,"Sam Roberts",null,"Jenna Conrad",null,"Patsy Fumbles",1,25,1,25,1,20,null,"",{"$f":"SUM(L39,N39,P39,R39)","v":70},null,{"$f":"SUM(K39,M39,O39)","v":3},null,null,null,{"$f":"SUM(S39,S41,S40,S42,-AB39)","v":70},null,null,{"$f":"MIN(S39:S42)","v":0}]
["H-402",null,null,null,null,null,null,null,null,null,null,null,null,null,null,null,null,"",{"$f":"SUM(L40,N40,P40,R40)","v":0},null,{"$f":"SUM(K40,M40,O40)","v":0}]
["H-403",null,null,null,null,null,null,null,null,null,null,null,null,null,null,null,null,"",{"$f":"SUM(L41,N41,P41,R41)","v":0},null,{"$f":"SUM(K41,M41,O41)","v":0}]
["H-404",null,null,null,null,null,null,null,null,null,null,null,null,null,null,null,null,"",{"$f":"SUM(L42,N42,P42,R42)","v":0},null,{"$f":"SUM(K42,M42,O42)","v":0}]
[]
["J-401",null,null,"(304) Kelby Jessen",null,"Porter Trapp",null,null,null,"\"Wait Wati Bo Bait\"",1,25,2,24,2,23,null,"",{"$f":"SUM(L44,N44,P44,R44)","v":72},null,{"$f":"SUM(K44,M44,O44)","v":5},null,null,null,{"$f":"SUM(S44,S46,S45,S47,-AB44)","v":72},null,null,{"$f":"MIN(S44:S47)","v":0}]
["J-402",null,null,null,null,null,null,null,null,null,null,null,null,null,null,null,null,"",{"$f":"SUM(L45,N45,P45,R45)","v":0},null,{"$f":"SUM(K45,M45,O45)","v":0}]
["J-403",null,null,null,null,null,null,null,null,null,null,null,null,null,null,null,null,"",{"$f":"SUM(L46,N46,P46,R46)","v":0},null,{"$f":"SUM(K46,M46,O46)","v":0}]
["J-404",null,null,null,null,null,null,null,null,null,null,null,null,null,null,null,null,"",{"$f":"SUM(L47,N47,P47,R47)","v":0},null,{"$f":"SUM(K47,M47,O47)","v":0}]
[]
["K-401",null,null,null,null,null,null,null,null,null,null,null,null,null,null,null,null,"",{"$f":"SUM(L49,N49,P49,R49)","v":0},null,{"$f":"SUM(K49,M49,O49)","v":0},null,null,null,{"$f":"SUM(S49,S51,S50,S52,-AB49)","v":0},null,null,{"$f":"MIN(S49:S52)","v":0}]
["K-402",null,null,null,null,null,null,null,null,null,null,null,null,null,null,null,null,"",{"$f":"SUM(L50,N50,P50,R50)","v":0},null,{"$f":"SUM(K50,M50,O50)","v":0}]
["K-403",null,null,null,null,null,null,null,null,null,null,null,null,null,null,null,null,"",{"$f":"SUM(L51,N51,P51,R51)","v":0},null,{"$f":"SUM(K51,M51,O51)","v":0}]
["K-404",null,null,null,null,null,null,null,null,null,null,null,null,null,null,null,null,"",{"$f":"SUM(L52,N52,P52,R52)","v":0},null,{"$f":"SUM(K52,M52,O52)","v":0}]
[]
["L-401",null,null,null,null,null,null,null,null,null,null,null,null,null,null,null,null,"",{"$f":"SUM(L54,N54,P54,R54)","v":0},null,{"$f":"SUM(K54,M54,O54)","v":0},null,null,null,{"$f":"SUM(S54,S56,S55,S57,-AB54)","v":0},null,null,{"$f":"MIN(S54:S57)","v":0}]
["L-402",null,null,null,null,null,null,null,null,null,null,null,null,null,null,null,null,"",{"$f":"SUM(L55,N55,P55,R55)","v":0},null,{"$f":"SUM(K55,M55,O55)","v":0}]
["L-403",null,null,null,null,null,null,null,null,null,null,null,null,null,null,null,null,"",{"$f":"SUM(L56,N56,P56,R56)","v":0},null,{"$f":"SUM(K56,M56,O56)","v":0}]
["L-404",null,null,null,null,null,null,null,null,null,null,null,null,null,null,null,null,"",{"$f":"SUM(L57,N57,P57,R57)","v":0},null,{"$f":"SUM(K57,M57,O57)","v":0}]
[]
["M-401",null,null,null,null,null,null,null,null,null,null,null,null,null,null,null,null,"",{"$f":"SUM(L59,N59,P59,R59)","v":0},null,{"$f":"SUM(K59,M59,O59)","v":0},null,null,null,{"$f":"SUM(S59,S61,S60,S62,-AB59)","v":0},null,null,{"$f":"MIN(S59:S62)","v":0}]
["M-402",null,null,null,null,null,null,null,null,null,null,null,null,null,null,null,null,"",{"$f":"SUM(L60,N60,P60,R60)","v":0},null,{"$f":"SUM(K60,M60,O60)","v":0}]
["M-403",null,null,null,null,null,null,null,null,null,null,null,null,null,null,null,null,"",{"$f":"SUM(L61,N61,P61,R61)","v":0},null,{"$f":"SUM(K61,M61,O61)","v":0}]
["M-404",null,null,null,null,null,null,null,null,null,null,null,null,null,null,null,null,"",{"$f":"SUM(L62,N62,P62,R62)","v":0},null,{"$f":"SUM(K62,M62,O62)","v":0}]
[]
["N-401",null,null,null,null,null,null,null,null,null,null,null,null,null,null,null,null,"",{"$f":"SUM(L64,N64,P64,R64)","v":0},null,{"$f":"SUM(K64,M64,O64)","v":0},null,null,null,{"$f":"SUM(S64,S66,S65,S67,-AB64)","v":0},null,null,{"$f":"MIN(S64:S67)","v":0}]
["N-402",null,null,null,null,null,null,null,null,null,null,null,null,null,null,null,null,"",{"$f":"SUM(L65,N65,P65,R65)","v":0},null,{"$f":"SUM(K65,M65,O65)","v":0}]
["N-403",null,null,null,null,null,null,null,null,null,null,null,null,null,null,null,null,"",{"$f":"SUM(L66,N66,P66,R66)","v":0},null,{"$f":"SUM(K66,M66,O66)","v":0}]
["N-404",null,null,null,null,null,null,null,null,null,null,null,null,null,null,null,null,"",{"$f":"SUM(L67,N67,P67,R67)","v":0},null,{"$f":"SUM(K67,M67,O67)","v":0}]
[]
["P-401",null,null,null,null,null,null,null,null,null,null,null,null,null,null,null,null,{"$f":"IF(Q69=\"1violation\",-7*1,IF(Q69=\"2violations\",-7*2,IF(Q69=\"3violations\",-7*3,IF(Q69=\"\",\"\"))))","v":""},{"$f":"SUM(L69,N69,P69,R69)","v":0},null,{"$f":"SUM(K69,M69,O69)","v":0},null,null,null,{"$f":"SUM(S69,S71,S70,S72,-AB69)","v":0},null,null,{"$f":"MIN(S69:S72)","v":0}]
["P-402",null,null,null,null,null,null,null,null,null,null,null,null,null,null,null,null,"",{"$f":"SUM(L70,N70,P70,R70)","v":0},null,{"$f":"SUM(K70,M70,O70)","v":0}]
["P-403",null,null,null,null,null,null,null,null,null,null,null,null,null,null,null,null,"",{"$f":"SUM(L71,N71,P71,R71)","v":0},null,{"$f":"SUM(K71,M71,O71)","v":0}]
["P-404",null,null,null,null,null,null,null,null,null,null,null,null,null,null,null,null,"",{"$f":"SUM(L72,N72,P72,R72)","v":0},null,{"$f":"SUM(K72,M72,O72)","v":0}]
[]
["Q-401",null,null,null,null,null,null,null,null,null,null,null,null,null,null,null,null,"",{"$f":"SUM(L74,N74,P74,R74)","v":0},null,{"$f":"SUM(K74,M74,O74)","v":0},null,null,null,{"$f":"SUM(S74,S76,S75,S77,-AB74)","v":0},null,null,{"$f":"MIN(S74:S77)","v":0}]
["Q-402",null,null,null,null,null,null,null,null,null,null,null,null,null,null,null,null,"",{"$f":"SUM(L75,N75,P75,R75)","v":0},null,{"$f":"SUM(K75,M75,O75)","v":0}]
["Q-403",null,null,null,null,null,null,null,null,null,null,null,null,null,null,null,null,"",{"$f":"SUM(L76,N76,P76,R76)","v":0},null,{"$f":"SUM(K76,M76,O76)","v":0}]
["Q-404",null,null,null,null,null,null,null,null,null,null,null,null,null,null,null,null,"",{"$f":"SUM(L77,N77,P77,R77)","v":0},null,{"$f":"SUM(K77,M77,O77)","v":0}]
[]
["R-401",null,null,null,null,null,null,null,null,null,null,null,null,null,null,null,null,"",{"$f":"SUM(L79,N79,P79,R79)","v":0},null,{"$f":"SUM(K79,M79,O79)","v":0},null,null,null,{"$f":"SUM(S79,S81,S80,S82,-AB79)","v":0},null,null,{"$f":"MIN(S79:S82)","v":0}]
["R-402",null,null,null,null,null,null,null,null,null,null,null,null,null,null,null,null,"",{"$f":"SUM(L80,N80,P80,R80)","v":0},null,{"$f":"SUM(K80,M80,O80)","v":0}]
["R-403",null,null,null,null,null,null,null,null,null,null,null,null,null,null,null,null,"",{"$f":"SUM(L81,N81,P81,R81)","v":0},null,{"$f":"SUM(K81,M81,O81)","v":0}]
["R-404",null,null,null,null,null,null,null,null,null,null,null,null,null,null,null,null,"",{"$f":"SUM(L82,N82,P82,R82)","v":0},null,{"$f":"SUM(K82,M82,O82)","v":0}]
[]
["S-401",null,null,null,null,null,null,null,null,null,null,null,null,null,null,null,null,"",{"$f":"SUM(L84,N84,P84,R84)","v":0},null,{"$f":"SUM(K84,M84,O84)","v":0},null,null,null,{"$f":"SUM(S84,S86,S85,S87,-AB84)","v":0},null,null,{"$f":"MIN(S84:S87)","v":0}]
["S-402",null,null,null,null,null,null,null,null,null,null,null,null,null,null,null,null,"",{"$f":"SUM(L85,N85,P85,R85)","v":0},null,{"$f":"SUM(K85,M85,O85)","v":0}]
["S-403",null,null,null,null,null,null,null,null,null,null,null,null,null,null,null,null,"",{"$f":"SUM(L86,N86,P86,R86)","v":0},null,{"$f":"SUM(K86,M86,O86)","v":0}]
["S-404",null,null,null,null,null,null,null,null,null,null,null,null,null,null,null,null,"",{"$f":"SUM(L87,N87,P87,R87)","v":0},null,{"$f":"SUM(K87,M87,O87)","v":0}]
[]
["T-401",null,null,null,null,null,null,null,null,null,null,null,null,null,null,null,null,"",{"$f":"SUM(L89,N89,P89,R89)","v":0},null,{"$f":"SUM(K89,M89,O89)","v":0},null,null,null,{"$f":"SUM(S89,S91,S90,S92,-AB89)","v":0},null,null,{"$f":"MIN(S89:S92)","v":0}]
["T-402",null,null,null,null,null,null,null,null,null,null,null,null,null,null,null,null,"",{"$f":"SUM(L90,N90,P90,R90)","v":0},null,{"$f":"SUM(K90,M90,O90)","v":0}]
["T-403",null,null,null,null,null,null,null,null,null,null,null,null,null,null,null,null,"",{"$f":"SUM(L91,N91,P91,R91)","v":0},null,{"$f":"SUM(K91,M91,O91)","v":0}]
["T-404",null,null,null,null,null,null,null,null,null,null,null,null,null,null,null,null,"",{"$f":"SUM(L92,N92,P92,R92)","v":0},null,{"$f":"SUM(K92,M92,O92)","v":0}]
[]
["U-401",null,null,null,null,null,null,null,null,null,null,null,null,null,null,null,null,"",{"$f":"SUM(L94,N94,P94,R94)","v":0},null,{"$f":"SUM(K94,M94,O94)","v":0},null,null,null,{"$f":"SUM(S94,S96,S95,S97,-AB94)","v":0},null,null,{"$f":"MIN(S94:S97)","v":0}]
["U-402",null,null,null,null,null,null,null,null,null,null,null,null,null,null,null,null,"",{"$f":"SUM(L95,N95,P95,R95)","v":0},null,{"$f":"SUM(K95,M95,O95)","v":0}]
["U-403",null,null,null,null,null,null,null,null,null,null,null,null,null,null,null,null,"",{"$f":"SUM(L96,N96,P96,R96)","v":0},null,{"$f":"SUM(K96,M96,O96)","v":0}]
["U-404",null,null,null,null,null,null,null,null,null,null,null,null,null,null,null,null,"",{"$f":"SUM(L97,N97,P97,R97)","v":0},null,{"$f":"SUM(K97,M97,O97)","v":0}]
[]
["V-401",null,null,null,null,null,null,null,null,null,null,null,null,null,null,null,null,"",{"$f":"SUM(L99,N99,P99,R99)","v":0},null,{"$f":"SUM(K99,M99,O99)","v":0},null,null,null,{"$f":"SUM(S99,S101,S100,S102,-AB99)","v":0},null,null,{"$f":"MIN(S99:S102)","v":0}]
["V-402",null,null,null,null,null,null,null,null,null,null,null,null,null,null,null,null,"",{"$f":"SUM(L100,N100,P100,R100)","v":0},null,{"$f":"SUM(K100,M100,O100)","v":0}]
["V-403",null,null,null,null,null,null,null,null,null,null,null,null,null,null,null,null,"",{"$f":"SUM(L101,N101,P101,R101)","v":0},null,{"$f":"SUM(K101,M101,O101)","v":0}]
["V-404",null,null,null,null,null,null,null,null,null,null,null,null,null,null,null,null,"",{"$f":"SUM(L102,N102,P102,R102)","v":0},null,{"$f":"SUM(K102,M102,O102)","v":0}]
[]
["W-401",null,null,null,null,null,null,null,null,null,null,null,null,null,null,null,null,"",{"$f":"SUM(L104,N104,P104,R104)","v":0},null,{"$f":"SUM(K104,M104,O104)","v":0},null,null,null,{"$f":"SUM(S104,S106,S105,S107,-AB104)","v":0},null,null,{"$f":"MIN(S104:S107)","v":0}]
["W-402",null,null,null,null,null,null,null,null,null,null,null,null,null,null,null,null,"",{"$f":"SUM(L105,N105,P105,R105)","v":0},null,{"$f":"SUM(K105,M105,O105)","v":0}]
["W-403",null,null,null,null,null,null,null,null,null,null,null,null,null,null,null,null,"",{"$f":"SUM(L106,N106,P106,R106)","v":0},null,{"$f":"SUM(K106,M106,O106)","v":0}]
["W-404",null,null,null,null,null,null,null,null,null,null,null,null,null,null,null,null,"",{"$f":"SUM(L107,N107,P107,R107)","v":0},null,{"$f":"SUM(K107,M107,O107)","v":0}]
[]
["X-401",null,null,null,null,null,null,null,null,null,null,null,null,null,null,null,null,"",{"$f":"SUM(L109,N109,P109,R109)","v":0},null,{"$f":"SUM(K109,M109,O109)","v":0},null,null,null,{"$f":"SUM(S109,S111,S110,S112,-AB109)","v":0},null,null,{"$f":"MIN(S109:S112)","v":0}]
["X-402",null,null,null,null,null,null,null,null,null,null,null,null,null,null,null,null,"",{"$f":"SUM(L110,N110,P110,R110)","v":0},null,{"$f":"SUM(K110,M110,O110)","v":0}]
["X-403",null,null,null,null,null,null,null,null,null,null,null,null,null,null,null,null,"",{"$f":"SUM(L111,N111,P111,R111)","v":0},null,{"$f":"SUM(K111,M111,O111)","v":0}]
["X-404",null,null,null,null,null,null,null,null,null,null,null,null,null,null,null,null,"",{"$f":"SUM(L112,N112,P112,R112)","v":0},null,{"$f":"SUM(K112,M112,O112)","v":0}]
[]
["Y-401",null,null,null,null,null,null,null,null,null,null,null,null,null,null,null,null,"",{"$f":"SUM(L114,N114,P114,R114)","v":0},null,{"$f":"SUM(K114,M114,O114)","v":0},null,null,null,{"$f":"SUM(S114,S116,S115,S117,-AB114)","v":0},null,null,{"$f":"MIN(S114:S117)","v":0}]
["Y-402",null,null,null,null,null,null,null,null,null,null,null,null,null,null,null,null,"",{"$f":"SUM(L115,N115,P115,R115)","v":0},null,{"$f":"SUM(K115,M115,O115)","v":0}]
["Y-403",null,null,null,null,null,null,null,null,null,null,null,null,null,null,null,null,"",{"$f":"SUM(L116,N116,P116,R116)","v":0},null,{"$f":"SUM(K116,M116,O116)","v":0}]
["Y-404",null,null,null,null,null,null,null,null,null,null,null,null,null,null,null,null,"",{"$f":"SUM(L117,N117,P117,R117)","v":0},null,{"$f":"SUM(K117,M117,O117)","v":0}]
[]
["Z-401",null,null,null,null,null,null,null,null,null,null,null,null,null,null,null,null,"",{"$f":"SUM(L119,N119,P119,R119)","v":0},null,{"$f":"SUM(K119,M119,O119)","v":0},null,null,null,{"$f":"SUM(S119,S121,S120,S122,-AB119)","v":0},null,null,{"$f":"MIN(S119:S122)","v":0}]
["Z-402",null,null,null,null,null,null,null,null,null,null,null,null,null,null,null,null,"",{"$f":"SUM(L120,N120,P120,R120)","v":0},null,{"$f":"SUM(K120,M120,O120)","v":0}]
["Z-403",null,null,null,null,null,null,null,null,null,null,null,null,null,null,null,null,"",{"$f":"SUM(L121,N121,P121,R121)","v":0},null,{"$f":"SUM(K121,M121,O121)","v":0}]
["Z-404",null,null,null,null,null,null,null,null,null,null,null,null,null,null,null,null,"",{"$f":"SUM(L122,N122,P122,R122)","v":0},null,{"$f":"SUM(K122,M122,O122)","v":0}]
[]
["AA-401",null,null,null,null,null,null,null,null,null,null,null,null,null,null,null,null,"",{"$f":"SUM(L124,N124,P124,R124)","v":0},null,{"$f":"SUM(K124,M124,O124)","v":0},null,null,null,{"$f":"SUM(S124,S126,S125,S127,-AB124)","v":0},null,null,{"$f":"MIN(S124:S127)","v":0}]
["AA-402",null,null,null,null,null,null,null,null,null,null,null,null,null,null,null,null,"",{"$f":"SUM(L125,N125,P125,R125)","v":0},null,{"$f":"SUM(K125,M125,O125)","v":0}]
["AA-403",null,null,null,null,null,null,null,null,null,null,null,null,null,null,null,null,"",{"$f":"SUM(L126,N126,P126,R126)","v":0},null,{"$f":"SUM(K126,M126,O126)","v":0}]
["AA-404",null,null,null,null,null,null,null,null,null,null,null,null,null,null,null,null,"",{"$f":"SUM(L127,N127,P127,R127)","v":0},null,{"$f":"SUM(K127,M127,O127)","v":0}]
[]
["BB-401",null,null,null,null,null,null,null,null,null,null,null,null,null,null,null,null,"",{"$f":"SUM(L129,N129,P129,R129)","v":0},null,{"$f":"SUM(K129,M129,O129)","v":0},null,null,null,{"$f":"SUM(S129,S131,S130,S132,-AB129)","v":0},null,null,{"$f":"MIN(S129:S132)","v":0}]
["BB-402",null,null,null,null,null,null,null,null,null,null,null,null,null,null,null,null,"",{"$f":"SUM(L130,N130,P130,R130)","v":0},null,{"$f":"SUM(K130,M130,O130)","v":0}]
["BB-403",null,null,null,null,null,null,null,null,null,null,null,null,null,null,null,null,"",{"$f":"SUM(L131,N131,P131,R131)","v":0},null,{"$f":"SUM(K131,M131,O131)","v":0}]
["BB-404",null,null,null,null,null,null,null,null,null,null,null,null,null,null,null,null,"",{"$f":"SUM(L132,N132,P132,R132)","v":0},null,{"$f":"SUM(K132,M132,O132)","v":0}]
[]
["CC-401",null,null,null,null,null,null,null,null,null,null,null,null,null,null,null,null,{"$f":"IF(Q134=\"1violation\",-7*1,IF(Q134=\"2violations\",-7*2,IF(Q134=\"3violations\",-7*3,IF(Q134=\"\",\"\"))))","v":""},{"$f":"SUM(L134,N134,P134,R134)","v":0},null,{"$f":"SUM(K134,M134,O134)","v":0},null,null,null,{"$f":"SUM(S134,S136,S135,S137,-AB134)","v":0},null,null,{"$f":"MIN(S134:S137)","v":0}]
["CC-402",null,null,null,null,null,null,null,null,null,null,null,null,null,null,null,null,"",{"$f":"SUM(L135,N135,P135,R135)","v":0},null,{"$f":"SUM(K135,M135,O135)","v":0}]
["CC-403",null,null,null,null,null,null,null,null,null,null,null,null,null,null,null,null,"",{"$f":"SUM(L136,N136,P136,R136)","v":0},null,{"$f":"SUM(K136,M136,O136)","v":0}]
["CC-404",null,null,null,null,null,null,null,null,null,null,null,null,null,null,null,null,"",{"$f":"SUM(L137,N137,P137,R137)","v":0},null,{"$f":"SUM(K137,M137,O137)","v":0}]
[]
["DD-401",null,null,null,null,null,null,null,null,null,null,null,null,null,null,null,null,"",{"$f":"SUM(L139,N139,P139,R139)","v":0},null,{"$f":"SUM(K139,M139,O139)","v":0},null,null,null,{"$f":"SUM(S139,S141,S140,S142,-AB139)","v":0},null,null,{"$f":"MIN(S139:S142)","v":0}]
["DD-402",null,null,null,null,null,null,null,null,null,null,null,null,null,null,null,null,"",{"$f":"SUM(L140,N140,P140,R140)","v":0},null,{"$f":"SUM(K140,M140,O140)","v":0}]
["DD-403",null,null,null,null,null,null,null,null,null,null,null,null,null,null,null,null,"",{"$f":"SUM(L141,N141,P141,R141)","v":0},null,{"$f":"SUM(K141,M141,O141)","v":0}]
["DD-404",null,null,null,null,null,null,null,null,null,null,null,null,null,null,null,null,"",{"$f":"SUM(L142,N142,P142,R142)","v":0},null,{"$f":"SUM(K142,M142,O142)","v":0}]
[]
["EE-401",null,null,null,null,null,null,null,null,null,null,null,null,null,null,null,null,"",{"$f":"SUM(L144,N144,P144,R144)","v":0},null,{"$f":"SUM(K144,M144,O144)","v":0},null,null,null,{"$f":"SUM(S144,S146,S145,S147,-AB144)","v":0},null,null,{"$f":"MIN(S144:S147)","v":0}]
["EE-402",null,null,null,null,null,null,null,null,null,null,null,null,null,null,null,null,"",{"$f":"SUM(L145,N145,P145,R145)","v":0},null,{"$f":"SUM(K145,M145,O145)","v":0}]
["EE-403",null,null,null,null,null,null,null,null,null,null,null,null,null,null,null,null,"",{"$f":"SUM(L146,N146,P146,R146)","v":0},null,{"$f":"SUM(K146,M146,O146)","v":0}]
["EE-404",null,null,null,null,null,null,null,null,null,null,null,null,null,null,null,null,"",{"$f":"SUM(L147,N147,P147,R147)","v":0},null,{"$f":"SUM(K147,M147,O147)","v":0}]
[]
["FF-401",null,null,null,null,null,null,null,null,null,null,null,null,null,null,null,null,"",{"$f":"SUM(L149,N149,P149,R149)","v":0},null,{"$f":"SUM(K149,M149,O149)","v":0},null,null,null,{"$f":"SUM(S149,S151,S150,S152,-AB149)","v":0},null,null,{"$f":"MIN(S149:S152)","v":0}]
["FF-402",null,null,null,null,null,null,null,null,null,null,null,null,null,null,null,null,"",{"$f":"SUM(L150,N150,P150,R150)","v":0},null,{"$f":"SUM(K150,M150,O150)","v":0}]
["FF-403",null,null,null,null,null,null,null,null,null,null,null,null,null,null,null,null,"",{"$f":"SUM(L151,N151,P151,R151)","v":0},null,{"$f":"SUM(K151,M151,O151)","v":0}]
["FF-404",null,null,null,null,null,null,null,null,null,null,null,null,null,null,null,null,"",{"$f":"SUM(L152,N152,P152,R152)","v":0},null,{"$f":"SUM(K152,M152,O152)","v":0}]

{"sheet":"ContemporaryMR","index":8,"n_rows":122,"n_cols":14,"rows_kept":122,"cut":false,"hidden":false,"merged":[]}
["Contemporary ",null,0,null,null,"Finals Medals Round Scores"]
["ID","Column1","Rank","Score","LeaveBlank","MR 1 Rank","MR 1 Score","MR2 Rank","MR 2 Score","MR3 Rank","MR 3 Score","Total MR Rank","Total MR Score","Column2"]
[{"$f":"Contemporary!A39","v":"H-401"},{"$f":"VLOOKUP(Table7101213[[#This Row],[ID]],Contemporary!A:D,4,FALSE)","v":"(313) Kara Conrad"},{"$f":"Contemporary!U39","v":3},{"$f":"Contemporary!S39","v":70},{"$f":"IF((Table7101213[[#This Row],[Rank]]+Table7101213[[#This Row],[Score]])>0,1,0)","v":1},3,23,4,23,6,19,{"$f":"SUM(F3,H3,J3)","v":13},{"$f":"SUM(G3,I3,K3)","v":65}]
[{"$f":"Contemporary!A44","v":"J-401"},{"$f":"VLOOKUP(Table7101213[[#This Row],[ID]],Contemporary!A:D,4,FALSE)","v":"(304) Kelby Jessen"},{"$f":"Contemporary!U44","v":5},{"$f":"Contemporary!S44","v":72},{"$f":"IF((Table7101213[[#This Row],[Rank]]+Table7101213[[#This Row],[Score]])>0,1,0)","v":1},1,25,2,25,1,24,{"$f":"SUM(F4,H4,J4)","v":4},{"$f":"SUM(G4,I4,K4)","v":74},"1st"]
[{"$f":"Contemporary!A20","v":"D-402"},{"$f":"VLOOKUP(Table7101213[[#This Row],[ID]],Contemporary!A:D,4,FALSE)","v":"(310) Talesha Bills"},{"$f":"Contemporary!U20","v":6},{"$f":"Contemporary!S20","v":65},{"$f":"IF((Table7101213[[#This Row],[Rank]]+Table7101213[[#This Row],[Score]])>0,1,0)","v":1},4,22,5,23,5,19,{"$f":"SUM(F5,H5,J5)","v":14},{"$f":"SUM(G5,I5,K5)","v":64}]
[{"$f":"Contemporary!A6","v":"A-403"},{"$f":"VLOOKUP(Table7101213[[#This Row],[ID]],Contemporary!A:D,4,FALSE)","v":"(308) Tristan"},{"$f":"Contemporary!U6","v":6},{"$f":"Contemporary!S6","v":63},{"$f":"IF((Table7101213[[#This Row],[Rank]]+Table7101213[[#This Row],[Score]])>0,1,0)","v":1},2,25,1,25,2,23,{"$f":"SUM(F6,H6,J6)","v":5},{"$f":"SUM(G6,I6,K6)","v":73},"2nd"]
[{"$f":"Contemporary!A10","v":"B-402"},{"$f":"VLOOKUP(Table7101213[[#This Row],[ID]],Contemporary!A:D,4,FALSE)","v":"(302) Chynne Anderson"},{"$f":"Contemporary!U10","v":7},{"$f":"Contemporary!S10","v":64},{"$f":"IF((Table7101213[[#This Row],[Rank]]+Table7101213[[#This Row],[Score]])>0,1,0)","v":1},5,21,3,24,3,22,{"$f":"SUM(F7,H7,J7)","v":11},{"$f":"SUM(G7,I7,K7)","v":67},"3rd"]
[{"$f":"Contemporary!A9","v":"B-401"},{"$f":"VLOOKUP(Table7101213[[#This Row],[ID]],Contemporary!A:D,4,FALSE)","v":"(301) Lilly Spendlove"},{"$f":"Contemporary!U9","v":7},{"$f":"Contemporary!S9","v":57},{"$f":"IF((Table7101213[[#This Row],[Rank]]+Table7101213[[#This Row],[Score]])>0,1,0)","v":1},6,20,6,23,4,21,{"$f":"SUM(F8,H8,J8)","v":16},{"$f":"SUM(G8,I8,K8)","v":64}]
[{"$f":"Contemporary!A29","v":"F-401"},{"$f":"VLOOKUP(Table7101213[[#This Row],[ID]],Contemporary!A:D,4,FALSE)","v":"(311) Makenzie Allred"},{"$f":"Contemporary!U29","v":8},{"$f":"Contemporary!S29","v":63},{"$f":"IF((Table7101213[[#This Row],[Rank]]+Table7101213[[#This Row],[Score]])>0,1,0)","v":1},null,null,null,null,null,null,{"$f":"SUM(F9,H9,J9)","v":0},{"$f":"SUM(G9,I9,K9)","v":0}]
[{"$f":"Contemporary!A30","v":"F-402"},{"$f":"VLOOKUP(Table7101213[[#This Row],[ID]],Contemporary!A:D,4,FALSE)","v":"(312) Korban Murphy"},{"$f":"Contemporary!U30","v":9},{"$f":"Contemporary!S30","v":62},{"$f":"IF((Table7101213[[#This Row],[Rank]]+Table7101213[[#This Row],[Score]])>0,1,0)","v":1},null,null,null,null,null,null,{"$f":"SUM(F10,H10,J10)","v":0},{"$f":"SUM(G10,I10,K10)","v":0}]
[{"$f":"Contemporary!A5","v":"A-402"},{"$f":"VLOOKUP(Table7101213[[#This Row],[ID]],Contemporary!A:D,4,FALSE)","v":"(307) Ella "},{"$f":"Contemporary!U5","v":9},{"$f":"Contemporary!S5","v":62},{"$f":"IF((Table7101213[[#This Row],[Rank]]+Table7101213[[#This Row],[Score]])>0,1,0)","v":1},null,null,null,null,null,null,{"$f":"SUM(F11,H11,J11)","v":0},{"$f":"SUM(G11,I11,K11)","v":0}]
[{"$f":"Contemporary!A19","v":"D-401"},{"$f":"VLOOKUP(Table7101213[[#This Row],[ID]],Contemporary!A:D,4,FALSE)","v":"(303) Melinda Grimstead"},{"$f":"Contemporary!U19","v":9},{"$f":"Contemporary!S19","v":61},{"$f":"IF((Table7101213[[#This Row],[Rank]]+Table7101213[[#This Row],[Score]])>0,1,0)","v":1},null,null,null,null,null,null,{"$f":"SUM(F12,H12,J12)","v":0},{"$f":"SUM(G12,I12,K12)","v":0}]
[{"$f":"Contemporary!A4","v":"A-401"},{"$f":"VLOOKUP(Table7101213[[#This Row],[ID]],Contemporary!A:D,4,FALSE)","v":"(306) Andy G."},{"$f":"Contemporary!U4","v":10},{"$f":"Contemporary!S4","v":61},{"$f":"IF((Table7101213[[#This Row],[Rank]]+Table7101213[[#This Row],[Score]])>0,1,0)","v":1},null,null,null,null,null,null,{"$f":"SUM(F13,H13,J13)","v":0},{"$f":"SUM(G13,I13,K13)","v":0}]
[{"$f":"Contemporary!A34","v":"G-401"},{"$f":"VLOOKUP(Table7101213[[#This Row],[ID]],Contemporary!A:D,4,FALSE)","v":"(300) Mersadie Rhoades"},{"$f":"Contemporary!U34","v":11},{"$f":"Contemporary!S34","v":60},{"$f":"IF((Table7101213[[#This Row],[Rank]]+Table7101213[[#This Row],[Score]])>0,1,0)","v":1},null,null,null,null,null,null,{"$f":"SUM(F14,H14,J14)","v":0},{"$f":"SUM(G14,I14,K14)","v":0}]
[{"$f":"Contemporary!A7","v":"A-404"},{"$f":"VLOOKUP(Table7101213[[#This Row],[ID]],Contemporary!A:D,4,FALSE)","v":"(309) Aaron"},{"$f":"Contemporary!U7","v":12},{"$f":"Contemporary!S7","v":59},{"$f":"IF((Table7101213[[#This Row],[Rank]]+Table7101213[[#This Row],[Score]])>0,1,0)","v":1},null,null,null,null,null,null,{"$f":"SUM(F15,H15,J15)","v":0},{"$f":"SUM(G15,I15,K15)","v":0}]
[{"$f":"Contemporary!A14","v":"C-401"},{"$f":"VLOOKUP(Table7101213[[#This Row],[ID]],Contemporary!A:D,4,FALSE)","v":"(305) Bryndis Maw"},{"$f":"Contemporary!U14","v":0},{"$f":"Contemporary!S14","v":0},{"$f":"IF((Table7101213[[#This Row],[Rank]]+Table7101213[[#This Row],[Score]])>0,1,0)","v":0},null,null,null,null,null,null,{"$f":"SUM(F16,H16,J16)","v":0},{"$f":"SUM(G16,I16,K16)","v":0}]
[{"$f":"Contemporary!A124","v":"AA-401"},{"$f":"VLOOKUP(Table7101213[[#This Row],[ID]],Contemporary!A:D,4,FALSE)","v":0},{"$f":"Contemporary!U124","v":0},{"$f":"Contemporary!S124","v":0},{"$f":"IF((Table7101213[[#This Row],[Rank]]+Table7101213[[#This Row],[Score]])>0,1,0)","v":0},null,null,null,null,null,null,{"$f":"SUM(F17,H17,J17)","v":0},{"$f":"SUM(G17,I17,K17)","v":0}]
[{"$f":"Contemporary!A125","v":"AA-402"},{"$f":"VLOOKUP(Table7101213[[#This Row],[ID]],Contemporary!A:D,4,FALSE)","v":0},{"$f":"Contemporary!U125","v":0},{"$f":"Contemporary!S125","v":0},{"$f":"IF((Table7101213[[#This Row],[Rank]]+Table7101213[[#This Row],[Score]])>0,1,0)","v":0},null,null,null,null,null,null,{"$f":"SUM(F18,H18,J18)","v":0},{"$f":"SUM(G18,I18,K18)","v":0}]
[{"$f":"Contemporary!A126","v":"AA-403"},{"$f":"VLOOKUP(Table7101213[[#This Row],[ID]],Contemporary!A:D,4,FALSE)","v":0},{"$f":"Contemporary!U126","v":0},{"$f":"Contemporary!S126","v":0},{"$f":"IF((Table7101213[[#This Row],[Rank]]+Table7101213[[#This Row],[Score]])>0,1,0)","v":0},null,null,null,null,null,null,{"$f":"SUM(F19,H19,J19)","v":0},{"$f":"SUM(G19,I19,K19)","v":0}]
[{"$f":"Contemporary!A127","v":"AA-404"},{"$f":"VLOOKUP(Table7101213[[#This Row],[ID]],Contemporary!A:D,4,FALSE)","v":0},{"$f":"Contemporary!U127","v":0},{"$f":"Contemporary!S127","v":0},{"$f":"IF((Table7101213[[#This Row],[Rank]]+Table7101213[[#This Row],[Score]])>0,1,0)","v":0},null,null,null,null,null,null,{"$f":"SUM(F20,H20,J20)","v":0},{"$f":"SUM(G20,I20,K20)","v":0}]
[{"$f":"Contemporary!A11","v":"B-403"},{"$f":"VLOOKUP(Table7101213[[#This Row],[ID]],Contemporary!A:D,4,FALSE)","v":0},{"$f":"Contemporary!U11","v":0},{"$f":"Contemporary!S11","v":0},{"$f":"IF((Table7101213[[#This Row],[Rank]]+Table7101213[[#This Row],[Score]])>0,1,0)","v":0},null,null,null,null,null,null,{"$f":"SUM(F21,H21,J21)","v":0},{"$f":"SUM(G21,I21,K21)","v":0}]
[{"$f":"Contemporary!A12","v":"B-404"},{"$f":"VLOOKUP(Table7101213[[#This Row],[ID]],Contemporary!A:D,4,FALSE)","v":0},{"$f":"Contemporary!U12","v":0},{"$f":"Contemporary!S12","v":0},{"$f":"IF((Table7101213[[#This Row],[Rank]]+Table7101213[[#This Row],[Score]])>0,1,0)","v":0},null,null,null,null,null,null,{"$f":"SUM(F22,H22,J22)","v":0},{"$f":"SUM(G22,I22,K22)","v":0}]
[{"$f":"Contemporary!A129","v":"BB-401"},{"$f":"VLOOKUP(Table7101213[[#This Row],[ID]],Contemporary!A:D,4,FALSE)","v":0},{"$f":"Contemporary!U129","v":0},{"$f":"Contemporary!S129","v":0},{"$f":"IF((Table7101213[[#This Row],[Rank]]+Table7101213[[#This Row],[Score]])>0,1,0)","v":0},null,null,null,null,null,null,{"$f":"SUM(F23,H23,J23)","v":0},{"$f":"SUM(G23,I23,K23)","v":0}]
[{"$f":"Contemporary!A130","v":"BB-402"},{"$f":"VLOOKUP(Table7101213[[#This Row],[ID]],Contemporary!A:D,4,FALSE)","v":0},{"$f":"Contemporary!U130","v":0},{"$f":"Contemporary!S130","v":0},{"$f":"IF((Table7101213[[#This Row],[Rank]]+Table7101213[[#This Row],[Score]])>0,1,0)","v":0},null,null,null,null,null,null,{"$f":"SUM(F24,H24,J24)","v":0},{"$f":"SUM(G24,I24,K24)","v":0}]
[{"$f":"Contemporary!A131","v":"BB-403"},{"$f":"VLOOKUP(Table7101213[[#This Row],[ID]],Contemporary!A:D,4,FALSE)","v":0},{"$f":"Contemporary!U131","v":0},{"$f":"Contemporary!S131","v":0},{"$f":"IF((Table7101213[[#This Row],[Rank]]+Table7101213[[#This Row],[Score]])>0,1,0)","v":0},null,null,null,null,null,null,{"$f":"SUM(F25,H25,J25)","v":0},{"$f":"SUM(G25,I25,K25)","v":0}]
[{"$f":"Contemporary!A132","v":"BB-404"},{"$f":"VLOOKUP(Table7101213[[#This Row],[ID]],Contemporary!A:D,4,FALSE)","v":0},{"$f":"Contemporary!U132","v":0},{"$f":"Contemporary!S132","v":0},{"$f":"IF((Table7101213[[#This Row],[Rank]]+Table7101213[[#This Row],[Score]])>0,1,0)","v":0},null,null,null,null,null,null,{"$f":"SUM(F26,H26,J26)","v":0},{"$f":"SUM(G26,I26,K26)","v":0}]
[{"$f":"Contemporary!A15","v":"C-402"},{"$f":"VLOOKUP(Table7101213[[#This Row],[ID]],Contemporary!A:D,4,FALSE)","v":0},{"$f":"Contemporary!U15","v":0},{"$f":"Contemporary!S15","v":0},{"$f":"IF((Table7101213[[#This Row],[Rank]]+Table7101213[[#This Row],[Score]])>0,1,0)","v":0},null,null,null,null,null,null,{"$f":"SUM(F27,H27,J27)","v":0},{"$f":"SUM(G27,I27,K27)","v":0}]
[{"$f":"Contemporary!A16","v":"C-403"},{"$f":"VLOOKUP(Table7101213[[#This Row],[ID]],Contemporary!A:D,4,FALSE)","v":0},{"$f":"Contemporary!U16","v":0},{"$f":"Contemporary!S16","v":0},{"$f":"IF((Table7101213[[#This Row],[Rank]]+Table7101213[[#This Row],[Score]])>0,1,0)","v":0},null,null,null,null,null,null,{"$f":"SUM(F28,H28,J28)","v":0},{"$f":"SUM(G28,I28,K28)","v":0}]
[{"$f":"Contemporary!A17","v":"C-404"},{"$f":"VLOOKUP(Table7101213[[#This Row],[ID]],Contemporary!A:D,4,FALSE)","v":0},{"$f":"Contemporary!U17","v":0},{"$f":"Contemporary!S17","v":0},{"$f":"IF((Table7101213[[#This Row],[Rank]]+Table7101213[[#This Row],[Score]])>0,1,0)","v":0},null,null,null,null,null,null,{"$f":"SUM(F29,H29,J29)","v":0},{"$f":"SUM(G29,I29,K29)","v":0}]
[{"$f":"Contemporary!A134","v":"CC-401"},{"$f":"VLOOKUP(Table7101213[[#This Row],[ID]],Contemporary!A:D,4,FALSE)","v":0},{"$f":"Contemporary!U134","v":0},{"$f":"Contemporary!S134","v":0},{"$f":"IF((Table7101213[[#This Row],[Rank]]+Table7101213[[#This Row],[Score]])>0,1,0)","v":0},null,null,null,null,null,null,{"$f":"SUM(F30,H30,J30)","v":0},{"$f":"SUM(G30,I30,K30)","v":0}]
[{"$f":"Contemporary!A135","v":"CC-402"},{"$f":"VLOOKUP(Table7101213[[#This Row],[ID]],Contemporary!A:D,4,FALSE)","v":0},{"$f":"Contemporary!U135","v":0},{"$f":"Contemporary!S135","v":0},{"$f":"IF((Table7101213[[#This Row],[Rank]]+Table7101213[[#This Row],[Score]])>0,1,0)","v":0},null,null,null,null,null,null,{"$f":"SUM(F31,H31,J31)","v":0},{"$f":"SUM(G31,I31,K31)","v":0}]
[{"$f":"Contemporary!A136","v":"CC-403"},{"$f":"VLOOKUP(Table7101213[[#This Row],[ID]],Contemporary!A:D,4,FALSE)","v":0},{"$f":"Contemporary!U136","v":0},{"$f":"Contemporary!S136","v":0},{"$f":"IF((Table7101213[[#This Row],[Rank]]+Table7101213[[#This Row],[Score]])>0,1,0)","v":0},null,null,null,null,null,null,{"$f":"SUM(F32,H32,J32)","v":0},{"$f":"SUM(G32,I32,K32)","v":0}]
[{"$f":"Contemporary!A137","v":"CC-404"},{"$f":"VLOOKUP(Table7101213[[#This Row],[ID]],Contemporary!A:D,4,FALSE)","v":0},{"$f":"Contemporary!U137","v":0},{"$f":"Contemporary!S137","v":0},{"$f":"IF((Table7101213[[#This Row],[Rank]]+Table7101213[[#This Row],[Score]])>0,1,0)","v":0},null,null,null,null,null,null,{"$f":"SUM(F33,H33,J33)","v":0},{"$f":"SUM(G33,I33,K33)","v":0}]
[{"$f":"Contemporary!A21","v":"D-403"},{"$f":"VLOOKUP(Table7101213[[#This Row],[ID]],Contemporary!A:D,4,FALSE)","v":0},{"$f":"Contemporary!U21","v":0},{"$f":"Contemporary!S21","v":0},{"$f":"IF((Table7101213[[#This Row],[Rank]]+Table7101213[[#This Row],[Score]])>0,1,0)","v":0},null,null,null,null,null,null,{"$f":"SUM(F34,H34,J34)","v":0},{"$f":"SUM(G34,I34,K34)","v":0}]
[{"$f":"Contemporary!A22","v":"D-404"},{"$f":"VLOOKUP(Table7101213[[#This Row],[ID]],Contemporary!A:D,4,FALSE)","v":0},{"$f":"Contemporary!U22","v":0},{"$f":"Contemporary!S22","v":0},{"$f":"IF((Table7101213[[#This Row],[Rank]]+Table7101213[[#This Row],[Score]])>0,1,0)","v":0},null,null,null,null,null,null,{"$f":"SUM(F35,H35,J35)","v":0},{"$f":"SUM(G35,I35,K35)","v":0}]
[{"$f":"Contemporary!A139","v":"DD-401"},{"$f":"VLOOKUP(Table7101213[[#This Row],[ID]],Contemporary!A:D,4,FALSE)","v":0},{"$f":"Contemporary!U139","v":0},{"$f":"Contemporary!S139","v":0},{"$f":"IF((Table7101213[[#This Row],[Rank]]+Table7101213[[#This Row],[Score]])>0,1,0)","v":0},null,null,null,null,null,null,{"$f":"SUM(F36,H36,J36)","v":0},{"$f":"SUM(G36,I36,K36)","v":0}]
[{"$f":"Contemporary!A140","v":"DD-402"},{"$f":"VLOOKUP(Table7101213[[#This Row],[ID]],Contemporary!A:D,4,FALSE)","v":0},{"$f":"Contemporary!U140","v":0},{"$f":"Contemporary!S140","v":0},{"$f":"IF((Table7101213[[#This Row],[Rank]]+Table7101213[[#This Row],[Score]])>0,1,0)","v":0},null,null,null,null,null,null,{"$f":"SUM(F37,H37,J37)","v":0},{"$f":"SUM(G37,I37,K37)","v":0}]
[{"$f":"Contemporary!A141","v":"DD-403"},{"$f":"VLOOKUP(Table7101213[[#This Row],[ID]],Contemporary!A:D,4,FALSE)","v":0},{"$f":"Contemporary!U141","v":0},{"$f":"Contemporary!S141","v":0},{"$f":"IF((Table7101213[[#This Row],[Rank]]+Table7101213[[#This Row],[Score]])>0,1,0)","v":0},null,null,null,null,null,null,{"$f":"SUM(F38,H38,J38)","v":0},{"$f":"SUM(G38,I38,K38)","v":0}]
[{"$f":"Contemporary!A142","v":"DD-404"},{"$f":"VLOOKUP(Table7101213[[#This Row],[ID]],Contemporary!A:D,4,FALSE)","v":0},{"$f":"Contemporary!U142","v":0},{"$f":"Contemporary!S142","v":0},{"$f":"IF((Table7101213[[#This Row],[Rank]]+Table7101213[[#This Row],[Score]])>0,1,0)","v":0},null,null,null,null,null,null,{"$f":"SUM(F39,H39,J39)","v":0},{"$f":"SUM(G39,I39,K39)","v":0}]
[{"$f":"Contemporary!A24","v":"E-401"},{"$f":"VLOOKUP(Table7101213[[#This Row],[ID]],Contemporary!A:D,4,FALSE)","v":0},{"$f":"Contemporary!U24","v":0},{"$f":"Contemporary!S24","v":0},{"$f":"IF((Table7101213[[#This Row],[Rank]]+Table7101213[[#This Row],[Score]])>0,1,0)","v":0},null,null,null,null,null,null,{"$f":"SUM(F40,H40,J40)","v":0},{"$f":"SUM(G40,I40,K40)","v":0}]
[{"$f":"Contemporary!A25","v":"E-402"},{"$f":"VLOOKUP(Table7101213[[#This Row],[ID]],Contemporary!A:D,4,FALSE)","v":0},{"$f":"Contemporary!U25","v":0},{"$f":"Contemporary!S25","v":0},{"$f":"IF((Table7101213[[#This Row],[Rank]]+Table7101213[[#This Row],[Score]])>0,1,0)","v":0},null,null,null,null,null,null,{"$f":"SUM(F41,H41,J41)","v":0},{"$f":"SUM(G41,I41,K41)","v":0}]
[{"$f":"Contemporary!A26","v":"E-403"},{"$f":"VLOOKUP(Table7101213[[#This Row],[ID]],Contemporary!A:D,4,FALSE)","v":0},{"$f":"Contemporary!U26","v":0},{"$f":"Contemporary!S26","v":0},{"$f":"IF((Table7101213[[#This Row],[Rank]]+Table7101213[[#This Row],[Score]])>0,1,0)","v":0},null,null,null,null,null,null,{"$f":"SUM(F42,H42,J42)","v":0},{"$f":"SUM(G42,I42,K42)","v":0}]
[{"$f":"Contemporary!A27","v":"E-404"},{"$f":"VLOOKUP(Table7101213[[#This Row],[ID]],Contemporary!A:D,4,FALSE)","v":0},{"$f":"Contemporary!U27","v":0},{"$f":"Contemporary!S27","v":0},{"$f":"IF((Table7101213[[#This Row],[Rank]]+Table7101213[[#This Row],[Score]])>0,1,0)","v":0},null,null,null,null,null,null,{"$f":"SUM(F43,H43,J43)","v":0},{"$f":"SUM(G43,I43,K43)","v":0}]
[{"$f":"Contemporary!A144","v":"EE-401"},{"$f":"VLOOKUP(Table7101213[[#This Row],[ID]],Contemporary!A:D,4,FALSE)","v":0},{"$f":"Contemporary!U144","v":0},{"$f":"Contemporary!S144","v":0},{"$f":"IF((Table7101213[[#This Row],[Rank]]+Table7101213[[#This Row],[Score]])>0,1,0)","v":0},null,null,null,null,null,null,{"$f":"SUM(F44,H44,J44)","v":0},{"$f":"SUM(G44,I44,K44)","v":0}]
[{"$f":"Contemporary!A145","v":"EE-402"},{"$f":"VLOOKUP(Table7101213[[#This Row],[ID]],Contemporary!A:D,4,FALSE)","v":0},{"$f":"Contemporary!U145","v":0},{"$f":"Contemporary!S145","v":0},{"$f":"IF((Table7101213[[#This Row],[Rank]]+Table7101213[[#This Row],[Score]])>0,1,0)","v":0},null,null,null,null,null,null,{"$f":"SUM(F45,H45,J45)","v":0},{"$f":"SUM(G45,I45,K45)","v":0}]
[{"$f":"Contemporary!A146","v":"EE-403"},{"$f":"VLOOKUP(Table7101213[[#This Row],[ID]],Contemporary!A:D,4,FALSE)","v":0},{"$f":"Contemporary!U146","v":0},{"$f":"Contemporary!S146","v":0},{"$f":"IF((Table7101213[[#This Row],[Rank]]+Table7101213[[#This Row],[Score]])>0,1,0)","v":0},null,null,null,null,null,null,{"$f":"SUM(F46,H46,J46)","v":0},{"$f":"SUM(G46,I46,K46)","v":0}]
[{"$f":"Contemporary!A147","v":"EE-404"},{"$f":"VLOOKUP(Table7101213[[#This Row],[ID]],Contemporary!A:D,4,FALSE)","v":0},{"$f":"Contemporary!U147","v":0},{"$f":"Contemporary!S147","v":0},{"$f":"IF((Table7101213[[#This Row],[Rank]]+Table7101213[[#This Row],[Score]])>0,1,0)","v":0},null,null,null,null,null,null,{"$f":"SUM(F47,H47,J47)","v":0},{"$f":"SUM(G47,I47,K47)","v":0}]
[{"$f":"Contemporary!A31","v":"F-403"},{"$f":"VLOOKUP(Table7101213[[#This Row],[ID]],Contemporary!A:D,4,FALSE)","v":0},{"$f":"Contemporary!U31","v":0},{"$f":"Contemporary!S31","v":0},{"$f":"IF((Table7101213[[#This Row],[Rank]]+Table7101213[[#This Row],[Score]])>0,1,0)","v":0},null,null,null,null,null,null,{"$f":"SUM(F48,H48,J48)","v":0},{"$f":"SUM(G48,I48,K48)","v":0}]
[{"$f":"Contemporary!A32","v":"F-404"},{"$f":"VLOOKUP(Table7101213[[#This Row],[ID]],Contemporary!A:D,4,FALSE)","v":0},{"$f":"Contemporary!U32","v":0},{"$f":"Contemporary!S32","v":0},{"$f":"IF((Table7101213[[#This Row],[Rank]]+Table7101213[[#This Row],[Score]])>0,1,0)","v":0},null,null,null,null,null,null,{"$f":"SUM(F49,H49,J49)","v":0},{"$f":"SUM(G49,I49,K49)","v":0}]
[{"$f":"Contemporary!A35","v":"G-402"},{"$f":"VLOOKUP(Table7101213[[#This Row],[ID]],Contemporary!A:D,4,FALSE)","v":0},{"$f":"Contemporary!U35","v":0},{"$f":"Contemporary!S35","v":0},{"$f":"IF((Table7101213[[#This Row],[Rank]]+Table7101213[[#This Row],[Score]])>0,1,0)","v":0},null,null,null,null,null,null,{"$f":"SUM(F50,H50,J50)","v":0},{"$f":"SUM(G50,I50,K50)","v":0}]
[{"$f":"Contemporary!A36","v":"G-403"},{"$f":"VLOOKUP(Table7101213[[#This Row],[ID]],Contemporary!A:D,4,FALSE)","v":0},{"$f":"Contemporary!U36","v":0},{"$f":"Contemporary!S36","v":0},{"$f":"IF((Table7101213[[#This Row],[Rank]]+Table7101213[[#This Row],[Score]])>0,1,0)","v":0},null,null,null,null,null,null,{"$f":"SUM(F51,H51,J51)","v":0},{"$f":"SUM(G51,I51,K51)","v":0}]
[{"$f":"Contemporary!A37","v":"G-404"},{"$f":"VLOOKUP(Table7101213[[#This Row],[ID]],Contemporary!A:D,4,FALSE)","v":0},{"$f":"Contemporary!U37","v":0},{"$f":"Contemporary!S37","v":0},{"$f":"IF((Table7101213[[#This Row],[Rank]]+Table7101213[[#This Row],[Score]])>0,1,0)","v":0},null,null,null,null,null,null,{"$f":"SUM(F52,H52,J52)","v":0},{"$f":"SUM(G52,I52,K52)","v":0}]
[{"$f":"Contemporary!A40","v":"H-402"},{"$f":"VLOOKUP(Table7101213[[#This Row],[ID]],Contemporary!A:D,4,FALSE)","v":0},{"$f":"Contemporary!U40","v":0},{"$f":"Contemporary!S40","v":0},{"$f":"IF((Table7101213[[#This Row],[Rank]]+Table7101213[[#This Row],[Score]])>0,1,0)","v":0},null,null,null,null,null,null,{"$f":"SUM(F53,H53,J53)","v":0},{"$f":"SUM(G53,I53,K53)","v":0}]
[{"$f":"Contemporary!A41","v":"H-403"},{"$f":"VLOOKUP(Table7101213[[#This Row],[ID]],Contemporary!A:D,4,FALSE)","v":0},{"$f":"Contemporary!U41","v":0},{"$f":"Contemporary!S41","v":0},{"$f":"IF((Table7101213[[#This Row],[Rank]]+Table7101213[[#This Row],[Score]])>0,1,0)","v":0},null,null,null,null,null,null,{"$f":"SUM(F54,H54,J54)","v":0},{"$f":"SUM(G54,I54,K54)","v":0}]
[{"$f":"Contemporary!A42","v":"H-404"},{"$f":"VLOOKUP(Table7101213[[#This Row],[ID]],Contemporary!A:D,4,FALSE)","v":0},{"$f":"Contemporary!U42","v":0},{"$f":"Contemporary!S42","v":0},{"$f":"IF((Table7101213[[#This Row],[Rank]]+Table7101213[[#This Row],[Score]])>0,1,0)","v":0},null,null,null,null,null,null,{"$f":"SUM(F55,H55,J55)","v":0},{"$f":"SUM(G55,I55,K55)","v":0}]
[{"$f":"Contemporary!A45","v":"J-402"},{"$f":"VLOOKUP(Table7101213[[#This Row],[ID]],Contemporary!A:D,4,FALSE)","v":0},{"$f":"Contemporary!U45","v":0},{"$f":"Contemporary!S45","v":0},{"$f":"IF((Table7101213[[#This Row],[Rank]]+Table7101213[[#This Row],[Score]])>0,1,0)","v":0},null,null,null,null,null,null,{"$f":"SUM(F56,H56,J56)","v":0},{"$f":"SUM(G56,I56,K56)","v":0}]
[{"$f":"Contemporary!A46","v":"J-403"},{"$f":"VLOOKUP(Table7101213[[#This Row],[ID]],Contemporary!A:D,4,FALSE)","v":0},{"$f":"Contemporary!U46","v":0},{"$f":"Contemporary!S46","v":0},{"$f":"IF((Table7101213[[#This Row],[Rank]]+Table7101213[[#This Row],[Score]])>0,1,0)","v":0},null,null,null,null,null,null,{"$f":"SUM(F57,H57,J57)","v":0},{"$f":"SUM(G57,I57,K57)","v":0}]
[{"$f":"Contemporary!A47","v":"J-404"},{"$f":"VLOOKUP(Table7101213[[#This Row],[ID]],Contemporary!A:D,4,FALSE)","v":0},{"$f":"Contemporary!U47","v":0},{"$f":"Contemporary!S47","v":0},{"$f":"IF((Table7101213[[#This Row],[Rank]]+Table7101213[[#This Row],[Score]])>0,1,0)","v":0},null,null,null,null,null,null,{"$f":"SUM(F58,H58,J58)","v":0},{"$f":"SUM(G58,I58,K58)","v":0}]
[{"$f":"Contemporary!A49","v":"K-401"},{"$f":"VLOOKUP(Table7101213[[#This Row],[ID]],Contemporary!A:D,4,FALSE)","v":0},{"$f":"Contemporary!U49","v":0},{"$f":"Contemporary!S49","v":0},{"$f":"IF((Table7101213[[#This Row],[Rank]]+Table7101213[[#This Row],[Score]])>0,1,0)","v":0},null,null,null,null,null,null,{"$f":"SUM(F59,H59,J59)","v":0},{"$f":"SUM(G59,I59,K59)","v":0}]
[{"$f":"Contemporary!A50","v":"K-402"},{"$f":"VLOOKUP(Table7101213[[#This Row],[ID]],Contemporary!A:D,4,FALSE)","v":0},{"$f":"Contemporary!U50","v":0},{"$f":"Contemporary!S50","v":0},{"$f":"IF((Table7101213[[#This Row],[Rank]]+Table7101213[[#This Row],[Score]])>0,1,0)","v":0},null,null,null,null,null,null,{"$f":"SUM(F60,H60,J60)","v":0},{"$f":"SUM(G60,I60,K60)","v":0}]
[{"$f":"Contemporary!A51","v":"K-403"},{"$f":"VLOOKUP(Table7101213[[#This Row],[ID]],Contemporary!A:D,4,FALSE)","v":0},{"$f":"Contemporary!U51","v":0},{"$f":"Contemporary!S51","v":0},{"$f":"IF((Table7101213[[#This Row],[Rank]]+Table7101213[[#This Row],[Score]])>0,1,0)","v":0},null,null,null,null,null,null,{"$f":"SUM(F61,H61,J61)","v":0},{"$f":"SUM(G61,I61,K61)","v":0}]
[{"$f":"Contemporary!A52","v":"K-404"},{"$f":"VLOOKUP(Table7101213[[#This Row],[ID]],Contemporary!A:D,4,FALSE)","v":0},{"$f":"Contemporary!U52","v":0},{"$f":"Contemporary!S52","v":0},{"$f":"IF((Table7101213[[#This Row],[Rank]]+Table7101213[[#This Row],[Score]])>0,1,0)","v":0},null,null,null,null,null,null,{"$f":"SUM(F62,H62,J62)","v":0},{"$f":"SUM(G62,I62,K62)","v":0}]
[{"$f":"Contemporary!A54","v":"L-401"},{"$f":"VLOOKUP(Table7101213[[#This Row],[ID]],Contemporary!A:D,4,FALSE)","v":0},{"$f":"Contemporary!U54","v":0},{"$f":"Contemporary!S54","v":0},{"$f":"IF((Table7101213[[#This Row],[Rank]]+Table7101213[[#This Row],[Score]])>0,1,0)","v":0},null,null,null,null,null,null,{"$f":"SUM(F63,H63,J63)","v":0},{"$f":"SUM(G63,I63,K63)","v":0}]
[{"$f":"Contemporary!A55","v":"L-402"},{"$f":"VLOOKUP(Table7101213[[#This Row],[ID]],Contemporary!A:D,4,FALSE)","v":0},{"$f":"Contemporary!U55","v":0},{"$f":"Contemporary!S55","v":0},{"$f":"IF((Table7101213[[#This Row],[Rank]]+Table7101213[[#This Row],[Score]])>0,1,0)","v":0},null,null,null,null,null,null,{"$f":"SUM(F64,H64,J64)","v":0},{"$f":"SUM(G64,I64,K64)","v":0}]
[{"$f":"Contemporary!A56","v":"L-403"},{"$f":"VLOOKUP(Table7101213[[#This Row],[ID]],Contemporary!A:D,4,FALSE)","v":0},{"$f":"Contemporary!U56","v":0},{"$f":"Contemporary!S56","v":0},{"$f":"IF((Table7101213[[#This Row],[Rank]]+Table7101213[[#This Row],[Score]])>0,1,0)","v":0},null,null,null,null,null,null,{"$f":"SUM(F65,H65,J65)","v":0},{"$f":"SUM(G65,I65,K65)","v":0}]
[{"$f":"Contemporary!A57","v":"L-404"},{"$f":"VLOOKUP(Table7101213[[#This Row],[ID]],Contemporary!A:D,4,FALSE)","v":0},{"$f":"Contemporary!U57","v":0},{"$f":"Contemporary!S57","v":0},{"$f":"IF((Table7101213[[#This Row],[Rank]]+Table7101213[[#This Row],[Score]])>0,1,0)","v":0},null,null,null,null,null,null,{"$f":"SUM(F66,H66,J66)","v":0},{"$f":"SUM(G66,I66,K66)","v":0}]
[{"$f":"Contemporary!A59","v":"M-401"},{"$f":"VLOOKUP(Table7101213[[#This Row],[ID]],Contemporary!A:D,4,FALSE)","v":0},{"$f":"Contemporary!U59","v":0},{"$f":"Contemporary!S59","v":0},{"$f":"IF((Table7101213[[#This Row],[Rank]]+Table7101213[[#This Row],[Score]])>0,1,0)","v":0},null,null,null,null,null,null,{"$f":"SUM(F67,H67,J67)","v":0},{"$f":"SUM(G67,I67,K67)","v":0}]
[{"$f":"Contemporary!A60","v":"M-402"},{"$f":"VLOOKUP(Table7101213[[#This Row],[ID]],Contemporary!A:D,4,FALSE)","v":0},{"$f":"Contemporary!U60","v":0},{"$f":"Contemporary!S60","v":0},{"$f":"IF((Table7101213[[#This Row],[Rank]]+Table7101213[[#This Row],[Score]])>0,1,0)","v":0},null,null,null,null,null,null,{"$f":"SUM(F68,H68,J68)","v":0},{"$f":"SUM(G68,I68,K68)","v":0}]
[{"$f":"Contemporary!A61","v":"M-403"},{"$f":"VLOOKUP(Table7101213[[#This Row],[ID]],Contemporary!A:D,4,FALSE)","v":0},{"$f":"Contemporary!U61","v":0},{"$f":"Contemporary!S61","v":0},{"$f":"IF((Table7101213[[#This Row],[Rank]]+Table7101213[[#This Row],[Score]])>0,1,0)","v":0},null,null,null,null,null,null,{"$f":"SUM(F69,H69,J69)","v":0},{"$f":"SUM(G69,I69,K69)","v":0}]
[{"$f":"Contemporary!A62","v":"M-404"},{"$f":"VLOOKUP(Table7101213[[#This Row],[ID]],Contemporary!A:D,4,FALSE)","v":0},{"$f":"Contemporary!U62","v":0},{"$f":"Contemporary!S62","v":0},{"$f":"IF((Table7101213[[#This Row],[Rank]]+Table7101213[[#This Row],[Score]])>0,1,0)","v":0},null,null,null,null,null,null,{"$f":"SUM(F70,H70,J70)","v":0},{"$f":"SUM(G70,I70,K70)","v":0}]
[{"$f":"Contemporary!A64","v":"N-401"},{"$f":"VLOOKUP(Table7101213[[#This Row],[ID]],Contemporary!A:D,4,FALSE)","v":0},{"$f":"Contemporary!U64","v":0},{"$f":"Contemporary!S64","v":0},{"$f":"IF((Table7101213[[#This Row],[Rank]]+Table7101213[[#This Row],[Score]])>0,1,0)","v":0},null,null,null,null,null,null,{"$f":"SUM(F71,H71,J71)","v":0},{"$f":"SUM(G71,I71,K71)","v":0}]
[{"$f":"Contemporary!A65","v":"N-402"},{"$f":"VLOOKUP(Table7101213[[#This Row],[ID]],Contemporary!A:D,4,FALSE)","v":0},{"$f":"Contemporary!U65","v":0},{"$f":"Contemporary!S65","v":0},{"$f":"IF((Table7101213[[#This Row],[Rank]]+Table7101213[[#This Row],[Score]])>0,1,0)","v":0},null,null,null,null,null,null,{"$f":"SUM(F72,H72,J72)","v":0},{"$f":"SUM(G72,I72,K72)","v":0}]
[{"$f":"Contemporary!A66","v":"N-403"},{"$f":"VLOOKUP(Table7101213[[#This Row],[ID]],Contemporary!A:D,4,FALSE)","v":0},{"$f":"Contemporary!U66","v":0},{"$f":"Contemporary!S66","v":0},{"$f":"IF((Table7101213[[#This Row],[Rank]]+Table7101213[[#This Row],[Score]])>0,1,0)","v":0},null,null,null,null,null,null,{"$f":"SUM(F73,H73,J73)","v":0},{"$f":"SUM(G73,I73,K73)","v":0}]
[{"$f":"Contemporary!A67","v":"N-404"},{"$f":"VLOOKUP(Table7101213[[#This Row],[ID]],Contemporary!A:D,4,FALSE)","v":0},{"$f":"Contemporary!U67","v":0},{"$f":"Contemporary!S67","v":0},{"$f":"IF((Table7101213[[#This Row],[Rank]]+Table7101213[[#This Row],[Score]])>0,1,0)","v":0},null,null,null,null,null,null,{"$f":"SUM(F74,H74,J74)","v":0},{"$f":"SUM(G74,I74,K74)","v":0}]
[{"$f":"Contemporary!A69","v":"P-401"},{"$f":"VLOOKUP(Table7101213[[#This Row],[ID]],Contemporary!A:D,4,FALSE)","v":0},{"$f":"Contemporary!U69","v":0},{"$f":"Contemporary!S69","v":0},{"$f":"IF((Table7101213[[#This Row],[Rank]]+Table7101213[[#This Row],[Score]])>0,1,0)","v":0},null,null,null,null,null,null,{"$f":"SUM(F75,H75,J75)","v":0},{"$f":"SUM(G75,I75,K75)","v":0}]
[{"$f":"Contemporary!A70","v":"P-402"},{"$f":"VLOOKUP(Table7101213[[#This Row],[ID]],Contemporary!A:D,4,FALSE)","v":0},{"$f":"Contemporary!U70","v":0},{"$f":"Contemporary!S70","v":0},{"$f":"IF((Table7101213[[#This Row],[Rank]]+Table7101213[[#This Row],[Score]])>0,1,0)","v":0},null,null,null,null,null,null,{"$f":"SUM(F76,H76,J76)","v":0},{"$f":"SUM(G76,I76,K76)","v":0}]
[{"$f":"Contemporary!A71","v":"P-403"},{"$f":"VLOOKUP(Table7101213[[#This Row],[ID]],Contemporary!A:D,4,FALSE)","v":0},{"$f":"Contemporary!U71","v":0},{"$f":"Contemporary!S71","v":0},{"$f":"IF((Table7101213[[#This Row],[Rank]]+Table7101213[[#This Row],[Score]])>0,1,0)","v":0},null,null,null,null,null,null,{"$f":"SUM(F77,H77,J77)","v":0},{"$f":"SUM(G77,I77,K77)","v":0}]
[{"$f":"Contemporary!A72","v":"P-404"},{"$f":"VLOOKUP(Table7101213[[#This Row],[ID]],Contemporary!A:D,4,FALSE)","v":0},{"$f":"Contemporary!U72","v":0},{"$f":"Contemporary!S72","v":0},{"$f":"IF((Table7101213[[#This Row],[Rank]]+Table7101213[[#This Row],[Score]])>0,1,0)","v":0},null,null,null,null,null,null,{"$f":"SUM(F78,H78,J78)","v":0},{"$f":"SUM(G78,I78,K78)","v":0}]
[{"$f":"Contemporary!A74","v":"Q-401"},{"$f":"VLOOKUP(Table7101213[[#This Row],[ID]],Contemporary!A:D,4,FALSE)","v":0},{"$f":"Contemporary!U74","v":0},{"$f":"Contemporary!S74","v":0},{"$f":"IF((Table7101213[[#This Row],[Rank]]+Table7101213[[#This Row],[Score]])>0,1,0)","v":0},null,null,null,null,null,null,{"$f":"SUM(F79,H79,J79)","v":0},{"$f":"SUM(G79,I79,K79)","v":0}]
[{"$f":"Contemporary!A75","v":"Q-402"},{"$f":"VLOOKUP(Table7101213[[#This Row],[ID]],Contemporary!A:D,4,FALSE)","v":0},{"$f":"Contemporary!U75","v":0},{"$f":"Contemporary!S75","v":0},{"$f":"IF((Table7101213[[#This Row],[Rank]]+Table7101213[[#This Row],[Score]])>0,1,0)","v":0},null,null,null,null,null,null,{"$f":"SUM(F80,H80,J80)","v":0},{"$f":"SUM(G80,I80,K80)","v":0}]
[{"$f":"Contemporary!A76","v":"Q-403"},{"$f":"VLOOKUP(Table7101213[[#This Row],[ID]],Contemporary!A:D,4,FALSE)","v":0},{"$f":"Contemporary!U76","v":0},{"$f":"Contemporary!S76","v":0},{"$f":"IF((Table7101213[[#This Row],[Rank]]+Table7101213[[#This Row],[Score]])>0,1,0)","v":0},null,null,null,null,null,null,{"$f":"SUM(F81,H81,J81)","v":0},{"$f":"SUM(G81,I81,K81)","v":0}]
[{"$f":"Contemporary!A77","v":"Q-404"},{"$f":"VLOOKUP(Table7101213[[#This Row],[ID]],Contemporary!A:D,4,FALSE)","v":0},{"$f":"Contemporary!U77","v":0},{"$f":"Contemporary!S77","v":0},{"$f":"IF((Table7101213[[#This Row],[Rank]]+Table7101213[[#This Row],[Score]])>0,1,0)","v":0},null,null,null,null,null,null,{"$f":"SUM(F82,H82,J82)","v":0},{"$f":"SUM(G82,I82,K82)","v":0}]
[{"$f":"Contemporary!A79","v":"R-401"},{"$f":"VLOOKUP(Table7101213[[#This Row],[ID]],Contemporary!A:D,4,FALSE)","v":0},{"$f":"Contemporary!U79","v":0},{"$f":"Contemporary!S79","v":0},{"$f":"IF((Table7101213[[#This Row],[Rank]]+Table7101213[[#This Row],[Score]])>0,1,0)","v":0},null,null,null,null,null,null,{"$f":"SUM(F83,H83,J83)","v":0},{"$f":"SUM(G83,I83,K83)","v":0}]
[{"$f":"Contemporary!A80","v":"R-402"},{"$f":"VLOOKUP(Table7101213[[#This Row],[ID]],Contemporary!A:D,4,FALSE)","v":0},{"$f":"Contemporary!U80","v":0},{"$f":"Contemporary!S80","v":0},{"$f":"IF((Table7101213[[#This Row],[Rank]]+Table7101213[[#This Row],[Score]])>0,1,0)","v":0},null,null,null,null,null,null,{"$f":"SUM(F84,H84,J84)","v":0},{"$f":"SUM(G84,I84,K84)","v":0}]
[{"$f":"Contemporary!A81","v":"R-403"},{"$f":"VLOOKUP(Table7101213[[#This Row],[ID]],Contemporary!A:D,4,FALSE)","v":0},{"$f":"Contemporary!U81","v":0},{"$f":"Contemporary!S81","v":0},{"$f":"IF((Table7101213[[#This Row],[Rank]]+Table7101213[[#This Row],[Score]])>0,1,0)","v":0},null,null,null,null,null,null,{"$f":"SUM(F85,H85,J85)","v":0},{"$f":"SUM(G85,I85,K85)","v":0}]
[{"$f":"Contemporary!A82","v":"R-404"},{"$f":"VLOOKUP(Table7101213[[#This Row],[ID]],Contemporary!A:D,4,FALSE)","v":0},{"$f":"Contemporary!U82","v":0},{"$f":"Contemporary!S82","v":0},{"$f":"IF((Table7101213[[#This Row],[Rank]]+Table7101213[[#This Row],[Score]])>0,1,0)","v":0},null,null,null,null,null,null,{"$f":"SUM(F86,H86,J86)","v":0},{"$f":"SUM(G86,I86,K86)","v":0}]
[{"$f":"Contemporary!A84","v":"S-401"},{"$f":"VLOOKUP(Table7101213[[#This Row],[ID]],Contemporary!A:D,4,FALSE)","v":0},{"$f":"Contemporary!U84","v":0},{"$f":"Contemporary!S84","v":0},{"$f":"IF((Table7101213[[#This Row],[Rank]]+Table7101213[[#This Row],[Score]])>0,1,0)","v":0},null,null,null,null,null,null,{"$f":"SUM(F87,H87,J87)","v":0},{"$f":"SUM(G87,I87,K87)","v":0}]
[{"$f":"Contemporary!A85","v":"S-402"},{"$f":"VLOOKUP(Table7101213[[#This Row],[ID]],Contemporary!A:D,4,FALSE)","v":0},{"$f":"Contemporary!U85","v":0},{"$f":"Contemporary!S85","v":0},{"$f":"IF((Table7101213[[#This Row],[Rank]]+Table7101213[[#This Row],[Score]])>0,1,0)","v":0},null,null,null,null,null,null,{"$f":"SUM(F88,H88,J88)","v":0},{"$f":"SUM(G88,I88,K88)","v":0}]
[{"$f":"Contemporary!A86","v":"S-403"},{"$f":"VLOOKUP(Table7101213[[#This Row],[ID]],Contemporary!A:D,4,FALSE)","v":0},{"$f":"Contemporary!U86","v":0},{"$f":"Contemporary!S86","v":0},{"$f":"IF((Table7101213[[#This Row],[Rank]]+Table7101213[[#This Row],[Score]])>0,1,0)","v":0},null,null,null,null,null,null,{"$f":"SUM(F89,H89,J89)","v":0},{"$f":"SUM(G89,I89,K89)","v":0}]
[{"$f":"Contemporary!A87","v":"S-404"},{"$f":"VLOOKUP(Table7101213[[#This Row],[ID]],Contemporary!A:D,4,FALSE)","v":0},{"$f":"Contemporary!U87","v":0},{"$f":"Contemporary!S87","v":0},{"$f":"IF((Table7101213[[#This Row],[Rank]]+Table7101213[[#This Row],[Score]])>0,1,0)","v":0},null,null,null,null,null,null,{"$f":"SUM(F90,H90,J90)","v":0},{"$f":"SUM(G90,I90,K90)","v":0}]
[{"$f":"Contemporary!A89","v":"T-401"},{"$f":"VLOOKUP(Table7101213[[#This Row],[ID]],Contemporary!A:D,4,FALSE)","v":0},{"$f":"Contemporary!U89","v":0},{"$f":"Contemporary!S89","v":0},{"$f":"IF((Table7101213[[#This Row],[Rank]]+Table7101213[[#This Row],[Score]])>0,1,0)","v":0},null,null,null,null,null,null,{"$f":"SUM(F91,H91,J91)","v":0},{"$f":"SUM(G91,I91,K91)","v":0}]
[{"$f":"Contemporary!A90","v":"T-402"},{"$f":"VLOOKUP(Table7101213[[#This Row],[ID]],Contemporary!A:D,4,FALSE)","v":0},{"$f":"Contemporary!U90","v":0},{"$f":"Contemporary!S90","v":0},{"$f":"IF((Table7101213[[#This Row],[Rank]]+Table7101213[[#This Row],[Score]])>0,1,0)","v":0},null,null,null,null,null,null,{"$f":"SUM(F92,H92,J92)","v":0},{"$f":"SUM(G92,I92,K92)","v":0}]
[{"$f":"Contemporary!A91","v":"T-403"},{"$f":"VLOOKUP(Table7101213[[#This Row],[ID]],Contemporary!A:D,4,FALSE)","v":0},{"$f":"Contemporary!U91","v":0},{"$f":"Contemporary!S91","v":0},{"$f":"IF((Table7101213[[#This Row],[Rank]]+Table7101213[[#This Row],[Score]])>0,1,0)","v":0},null,null,null,null,null,null,{"$f":"SUM(F93,H93,J93)","v":0},{"$f":"SUM(G93,I93,K93)","v":0}]
[{"$f":"Contemporary!A92","v":"T-404"},{"$f":"VLOOKUP(Table7101213[[#This Row],[ID]],Contemporary!A:D,4,FALSE)","v":0},{"$f":"Contemporary!U92","v":0},{"$f":"Contemporary!S92","v":0},{"$f":"IF((Table7101213[[#This Row],[Rank]]+Table7101213[[#This Row],[Score]])>0,1,0)","v":0},null,null,null,null,null,null,{"$f":"SUM(F94,H94,J94)","v":0},{"$f":"SUM(G94,I94,K94)","v":0}]
[{"$f":"Contemporary!A94","v":"U-401"},{"$f":"VLOOKUP(Table7101213[[#This Row],[ID]],Contemporary!A:D,4,FALSE)","v":0},{"$f":"Contemporary!U94","v":0},{"$f":"Contemporary!S94","v":0},{"$f":"IF((Table7101213[[#This Row],[Rank]]+Table7101213[[#This Row],[Score]])>0,1,0)","v":0},null,null,null,null,null,null,{"$f":"SUM(F95,H95,J95)","v":0},{"$f":"SUM(G95,I95,K95)","v":0}]
[{"$f":"Contemporary!A95","v":"U-402"},{"$f":"VLOOKUP(Table7101213[[#This Row],[ID]],Contemporary!A:D,4,FALSE)","v":0},{"$f":"Contemporary!U95","v":0},{"$f":"Contemporary!S95","v":0},{"$f":"IF((Table7101213[[#This Row],[Rank]]+Table7101213[[#This Row],[Score]])>0,1,0)","v":0},null,null,null,null,null,null,{"$f":"SUM(F96,H96,J96)","v":0},{"$f":"SUM(G96,I96,K96)","v":0}]
[{"$f":"Contemporary!A96","v":"U-403"},{"$f":"VLOOKUP(Table7101213[[#This Row],[ID]],Contemporary!A:D,4,FALSE)","v":0},{"$f":"Contemporary!U96","v":0},{"$f":"Contemporary!S96","v":0},{"$f":"IF((Table7101213[[#This Row],[Rank]]+Table7101213[[#This Row],[Score]])>0,1,0)","v":0},null,null,null,null,null,null,{"$f":"SUM(F97,H97,J97)","v":0},{"$f":"SUM(G97,I97,K97)","v":0}]
[{"$f":"Contemporary!A97","v":"U-404"},{"$f":"VLOOKUP(Table7101213[[#This Row],[ID]],Contemporary!A:D,4,FALSE)","v":0},{"$f":"Contemporary!U97","v":0},{"$f":"Contemporary!S97","v":0},{"$f":"IF((Table7101213[[#This Row],[Rank]]+Table7101213[[#This Row],[Score]])>0,1,0)","v":0},null,null,null,null,null,null,{"$f":"SUM(F98,H98,J98)","v":0},{"$f":"SUM(G98,I98,K98)","v":0}]
[{"$f":"Contemporary!A99","v":"V-401"},{"$f":"VLOOKUP(Table7101213[[#This Row],[ID]],Contemporary!A:D,4,FALSE)","v":0},{"$f":"Contemporary!U99","v":0},{"$f":"Contemporary!S99","v":0},{"$f":"IF((Table7101213[[#This Row],[Rank]]+Table7101213[[#This Row],[Score]])>0,1,0)","v":0},null,null,null,null,null,null,{"$f":"SUM(F99,H99,J99)","v":0},{"$f":"SUM(G99,I99,K99)","v":0}]
[{"$f":"Contemporary!A100","v":"V-402"},{"$f":"VLOOKUP(Table7101213[[#This Row],[ID]],Contemporary!A:D,4,FALSE)","v":0},{"$f":"Contemporary!U100","v":0},{"$f":"Contemporary!S100","v":0},{"$f":"IF((Table7101213[[#This Row],[Rank]]+Table7101213[[#This Row],[Score]])>0,1,0)","v":0},null,null,null,null,null,null,{"$f":"SUM(F100,H100,J100)","v":0},{"$f":"SUM(G100,I100,K100)","v":0}]
[{"$f":"Contemporary!A101","v":"V-403"},{"$f":"VLOOKUP(Table7101213[[#This Row],[ID]],Contemporary!A:D,4,FALSE)","v":0},{"$f":"Contemporary!U101","v":0},{"$f":"Contemporary!S101","v":0},{"$f":"IF((Table7101213[[#This Row],[Rank]]+Table7101213[[#This Row],[Score]])>0,1,0)","v":0},null,null,null,null,null,null,{"$f":"SUM(F101,H101,J101)","v":0},{"$f":"SUM(G101,I101,K101)","v":0}]
[{"$f":"Contemporary!A102","v":"V-404"},{"$f":"VLOOKUP(Table7101213[[#This Row],[ID]],Contemporary!A:D,4,FALSE)","v":0},{"$f":"Contemporary!U102","v":0},{"$f":"Contemporary!S102","v":0},{"$f":"IF((Table7101213[[#This Row],[Rank]]+Table7101213[[#This Row],[Score]])>0,1,0)","v":0},null,null,null,null,null,null,{"$f":"SUM(F102,H102,J102)","v":0},{"$f":"SUM(G102,I102,K102)","v":0}]
[{"$f":"Contemporary!A104","v":"W-401"},{"$f":"VLOOKUP(Table7101213[[#This Row],[ID]],Contemporary!A:D,4,FALSE)","v":0},{"$f":"Contemporary!U104","v":0},{"$f":"Contemporary!S104","v":0},{"$f":"IF((Table7101213[[#This Row],[Rank]]+Table7101213[[#This Row],[Score]])>0,1,0)","v":0},null,null,null,null,null,null,{"$f":"SUM(F103,H103,J103)","v":0},{"$f":"SUM(G103,I103,K103)","v":0}]
[{"$f":"Contemporary!A105","v":"W-402"},{"$f":"VLOOKUP(Table7101213[[#This Row],[ID]],Contemporary!A:D,4,FALSE)","v":0},{"$f":"Contemporary!U105","v":0},{"$f":"Contemporary!S105","v":0},{"$f":"IF((Table7101213[[#This Row],[Rank]]+Table7101213[[#This Row],[Score]])>0,1,0)","v":0},null,null,null,null,null,null,{"$f":"SUM(F104,H104,J104)","v":0},{"$f":"SUM(G104,I104,K104)","v":0}]
[{"$f":"Contemporary!A106","v":"W-403"},{"$f":"VLOOKUP(Table7101213[[#This Row],[ID]],Contemporary!A:D,4,FALSE)","v":0},{"$f":"Contemporary!U106","v":0},{"$f":"Contemporary!S106","v":0},{"$f":"IF((Table7101213[[#This Row],[Rank]]+Table7101213[[#This Row],[Score]])>0,1,0)","v":0},null,null,null,null,null,null,{"$f":"SUM(F105,H105,J105)","v":0},{"$f":"SUM(G105,I105,K105)","v":0}]
[{"$f":"Contemporary!A107","v":"W-404"},{"$f":"VLOOKUP(Table7101213[[#This Row],[ID]],Contemporary!A:D,4,FALSE)","v":0},{"$f":"Contemporary!U107","v":0},{"$f":"Contemporary!S107","v":0},{"$f":"IF((Table7101213[[#This Row],[Rank]]+Table7101213[[#This Row],[Score]])>0,1,0)","v":0},null,null,null,null,null,null,{"$f":"SUM(F106,H106,J106)","v":0},{"$f":"SUM(G106,I106,K106)","v":0}]
[{"$f":"Contemporary!A109","v":"X-401"},{"$f":"VLOOKUP(Table7101213[[#This Row],[ID]],Contemporary!A:D,4,FALSE)","v":0},{"$f":"Contemporary!U109","v":0},{"$f":"Contemporary!S109","v":0},{"$f":"IF((Table7101213[[#This Row],[Rank]]+Table7101213[[#This Row],[Score]])>0,1,0)","v":0},null,null,null,null,null,null,{"$f":"SUM(F107,H107,J107)","v":0},{"$f":"SUM(G107,I107,K107)","v":0}]
[{"$f":"Contemporary!A110","v":"X-402"},{"$f":"VLOOKUP(Table7101213[[#This Row],[ID]],Contemporary!A:D,4,FALSE)","v":0},{"$f":"Contemporary!U110","v":0},{"$f":"Contemporary!S110","v":0},{"$f":"IF((Table7101213[[#This Row],[Rank]]+Table7101213[[#This Row],[Score]])>0,1,0)","v":0},null,null,null,null,null,null,{"$f":"SUM(F108,H108,J108)","v":0},{"$f":"SUM(G108,I108,K108)","v":0}]
[{"$f":"Contemporary!A111","v":"X-403"},{"$f":"VLOOKUP(Table7101213[[#This Row],[ID]],Contemporary!A:D,4,FALSE)","v":0},{"$f":"Contemporary!U111","v":0},{"$f":"Contemporary!S111","v":0},{"$f":"IF((Table7101213[[#This Row],[Rank]]+Table7101213[[#This Row],[Score]])>0,1,0)","v":0},null,null,null,null,null,null,{"$f":"SUM(F109,H109,J109)","v":0},{"$f":"SUM(G109,I109,K109)","v":0}]
[{"$f":"Contemporary!A112","v":"X-404"},{"$f":"VLOOKUP(Table7101213[[#This Row],[ID]],Contemporary!A:D,4,FALSE)","v":0},{"$f":"Contemporary!U112","v":0},{"$f":"Contemporary!S112","v":0},{"$f":"IF((Table7101213[[#This Row],[Rank]]+Table7101213[[#This Row],[Score]])>0,1,0)","v":0},null,null,null,null,null,null,{"$f":"SUM(F110,H110,J110)","v":0},{"$f":"SUM(G110,I110,K110)","v":0}]
[{"$f":"Contemporary!A114","v":"Y-401"},{"$f":"VLOOKUP(Table7101213[[#This Row],[ID]],Contemporary!A:D,4,FALSE)","v":0},{"$f":"Contemporary!U114","v":0},{"$f":"Contemporary!S114","v":0},{"$f":"IF((Table7101213[[#This Row],[Rank]]+Table7101213[[#This Row],[Score]])>0,1,0)","v":0},null,null,null,null,null,null,{"$f":"SUM(F111,H111,J111)","v":0},{"$f":"SUM(G111,I111,K111)","v":0}]
[{"$f":"Contemporary!A115","v":"Y-402"},{"$f":"VLOOKUP(Table7101213[[#This Row],[ID]],Contemporary!A:D,4,FALSE)","v":0},{"$f":"Contemporary!U115","v":0},{"$f":"Contemporary!S115","v":0},{"$f":"IF((Table7101213[[#This Row],[Rank]]+Table7101213[[#This Row],[Score]])>0,1,0)","v":0},null,null,null,null,null,null,{"$f":"SUM(F112,H112,J112)","v":0},{"$f":"SUM(G112,I112,K112)","v":0}]
[{"$f":"Contemporary!A116","v":"Y-403"},{"$f":"VLOOKUP(Table7101213[[#This Row],[ID]],Contemporary!A:D,4,FALSE)","v":0},{"$f":"Contemporary!U116","v":0},{"$f":"Contemporary!S116","v":0},{"$f":"IF((Table7101213[[#This Row],[Rank]]+Table7101213[[#This Row],[Score]])>0,1,0)","v":0},null,null,null,null,null,null,{"$f":"SUM(F113,H113,J113)","v":0},{"$f":"SUM(G113,I113,K113)","v":0}]
[{"$f":"Contemporary!A117","v":"Y-404"},{"$f":"VLOOKUP(Table7101213[[#This Row],[ID]],Contemporary!A:D,4,FALSE)","v":0},{"$f":"Contemporary!U117","v":0},{"$f":"Contemporary!S117","v":0},{"$f":"IF((Table7101213[[#This Row],[Rank]]+Table7101213[[#This Row],[Score]])>0,1,0)","v":0},null,null,null,null,null,null,{"$f":"SUM(F114,H114,J114)","v":0},{"$f":"SUM(G114,I114,K114)","v":0}]
[{"$f":"Contemporary!A119","v":"Z-401"},{"$f":"VLOOKUP(Table7101213[[#This Row],[ID]],Contemporary!A:D,4,FALSE)","v":0},{"$f":"Contemporary!U119","v":0},{"$f":"Contemporary!S119","v":0},{"$f":"IF((Table7101213[[#This Row],[Rank]]+Table7101213[[#This Row],[Score]])>0,1,0)","v":0},null,null,null,null,null,null,{"$f":"SUM(F115,H115,J115)","v":0},{"$f":"SUM(G115,I115,K115)","v":0}]
[{"$f":"Contemporary!A120","v":"Z-402"},{"$f":"VLOOKUP(Table7101213[[#This Row],[ID]],Contemporary!A:D,4,FALSE)","v":0},{"$f":"Contemporary!U120","v":0},{"$f":"Contemporary!S120","v":0},{"$f":"IF((Table7101213[[#This Row],[Rank]]+Table7101213[[#This Row],[Score]])>0,1,0)","v":0},null,null,null,null,null,null,{"$f":"SUM(F116,H116,J116)","v":0},{"$f":"SUM(G116,I116,K116)","v":0}]
[{"$f":"Contemporary!A121","v":"Z-403"},{"$f":"VLOOKUP(Table7101213[[#This Row],[ID]],Contemporary!A:D,4,FALSE)","v":0},{"$f":"Contemporary!U121","v":0},{"$f":"Contemporary!S121","v":0},{"$f":"IF((Table7101213[[#This Row],[Rank]]+Table7101213[[#This Row],[Score]])>0,1,0)","v":0},null,null,null,null,null,null,{"$f":"SUM(F117,H117,J117)","v":0},{"$f":"SUM(G117,I117,K117)","v":0}]
[{"$f":"Contemporary!A122","v":"Z-404"},{"$f":"VLOOKUP(Table7101213[[#This Row],[ID]],Contemporary!A:D,4,FALSE)","v":0},{"$f":"Contemporary!U122","v":0},{"$f":"Contemporary!S122","v":0},{"$f":"IF((Table7101213[[#This Row],[Rank]]+Table7101213[[#This Row],[Score]])>0,1,0)","v":0},null,null,null,null,null,null,{"$f":"SUM(F118,H118,J118)","v":0},{"$f":"SUM(G118,I118,K118)","v":0}]
[{"$f":"Contemporary!A149","v":"FF-401"},{"$f":"VLOOKUP(Table7101213[[#This Row],[ID]],Contemporary!A:D,4,FALSE)","v":0},{"$f":"Contemporary!U149","v":0},{"$f":"Contemporary!S149","v":0},{"$f":"IF((Table7101213[[#This Row],[Rank]]+Table7101213[[#This Row],[Score]])>0,1,0)","v":0},null,null,null,null,null,null,{"$f":"SUM(F119,H119,J119)","v":0},{"$f":"SUM(G119,I119,K119)","v":0}]
[{"$f":"Contemporary!A150","v":"FF-402"},{"$f":"VLOOKUP(Table7101213[[#This Row],[ID]],Contemporary!A:D,4,FALSE)","v":0},{"$f":"Contemporary!U150","v":0},{"$f":"Contemporary!S150","v":0},{"$f":"IF((Table7101213[[#This Row],[Rank]]+Table7101213[[#This Row],[Score]])>0,1,0)","v":0},null,null,null,null,null,null,{"$f":"SUM(F120,H120,J120)","v":0},{"$f":"SUM(G120,I120,K120)","v":0}]
[{"$f":"Contemporary!A151","v":"FF-403"},{"$f":"VLOOKUP(Table7101213[[#This Row],[ID]],Contemporary!A:D,4,FALSE)","v":0},{"$f":"Contemporary!U151","v":0},{"$f":"Contemporary!S151","v":0},{"$f":"IF((Table7101213[[#This Row],[Rank]]+Table7101213[[#This Row],[Score]])>0,1,0)","v":0},null,null,null,null,null,null,{"$f":"SUM(F121,H121,J121)","v":0},{"$f":"SUM(G121,I121,K121)","v":0}]
[{"$f":"Contemporary!A152","v":"FF-404"},{"$f":"VLOOKUP(Table7101213[[#This Row],[ID]],Contemporary!A:D,4,FALSE)","v":0},{"$f":"Contemporary!U152","v":0},{"$f":"Contemporary!S152","v":0},{"$f":"IF((Table7101213[[#This Row],[Rank]]+Table7101213[[#This Row],[Score]])>0,1,0)","v":0},null,null,null,null,null,null,{"$f":"SUM(F122,H122,J122)","v":0},{"$f":"SUM(G122,I122,K122)","v":0}]

{"sheet":"Pantomime","index":9,"n_rows":152,"n_cols":31,"rows_kept":152,"cut":false,"hidden":false,"merged":[]}
["Pantomimes",null,null,null,null,null,null,null,null,null,"Rank 1-4",null,null,null,null,null,null,null,null,null,null,null,null,"S","E","G","F",null,"1violation","2violations","3violations"]
[null,null,null,null,null,null,null,null,null,null,"Round 1:",null,"Round 2:",null,"Round 3:",null,"-2 for each",null,null,null,null,null,null,null,null,null,null,"Drops lowest from column q"]
[null,null,null,null,null,"Student Name",null,"Student Name",null,"Title of Piece","R1 rank","R1 score","R2 rank","R2 score","R3 rank","R3 score","Time Violations",null,"TOTAL SCORE",null,"TOTAL RANK",null,null,"TOTAL SCHOOL SWEEPS POINTS",null,null,null,"Drop Lowest"]
["A-501",null,null,null,null,"(606) Dom L",null,"Dom D",null,"\"Heist\"",3,18,4,20,4,20,null,{"$f":"IF(Q4=\"1violation\",-7*1,IF(Q4=\"2violations\",-7*2,IF(Q4=\"3violations\",-7*3,IF(Q4=\"\",\"\"))))","v":""},{"$f":"SUM(L4,N4,P4,R4)","v":58},null,{"$f":"SUM(K4,M4,O4)","v":11},null,null,null,{"$f":"SUM(S4,S6,S5,S7,-AB4)","v":203},null,null,{"$f":"MIN(S4:S7)","v":58}]
["A-502",null,null,null,null,"(607) Leslie",null,"Kate",null,"\"Moms Away\"",2,23,2,22,1,23,null,{"$f":"IF(Q5=\"1violation\",-7*1,IF(Q5=\"2violations\",-7*2,IF(Q5=\"3violations\",-7*3,IF(Q5=\"\",\"\"))))","v":""},{"$f":"SUM(L5,N5,P5,R5)","v":68},null,{"$f":"SUM(K5,M5,O5)","v":5}]
["A-503",null,null,null,null,"(608) Tyler P.",null,null,null,"\"Pizza & Bar\"",1,22,2,23,4,21,null,"",{"$f":"SUM(L6,N6,P6,R6)","v":66},null,{"$f":"SUM(K6,M6,O6)","v":7}]
["A-504",null,null,null,null,"(609) Marcus P",null,"Jake W.",null,"\"Grafitti\"",1,25,3,22,3,22,null,"",{"$f":"SUM(L7,N7,P7,R7)","v":69},null,{"$f":"SUM(K7,M7,O7)","v":7}]
[]
["B-501",null,null,null,null,"(600) Arik Blevins",null,null,null,null,null,null,null,null,null,null,null,"",{"$f":"SUM(L9,N9,P9,R9)","v":0},null,{"$f":"SUM(K9,M9,O9)","v":0},null,null,null,{"$f":"SUM(S9,S11,S10,S12,-AB9)","v":58},null,null,{"$f":"MIN(S9:S12)","v":0}]
["B-502",null,null,null,null,"(601) Joslyn Certino",null,"Mckenzie Roundy",null,"\"My First Sewing lesson\"",4,17,3,21,4,20,null,"",{"$f":"SUM(L10,N10,P10,R10)","v":58},null,{"$f":"SUM(K10,M10,O10)","v":11}]
["B-503",null,null,null,null,null,null,null,null,null,null,null,null,null,null,null,null,"",{"$f":"SUM(L11,N11,P11,R11)","v":0},null,{"$f":"SUM(K11,M11,O11)","v":0}]
["B-504",null,null,null,null,null,null,null,null,null,null,null,null,null,null,null,null,"",{"$f":"SUM(L12,N12,P12,R12)","v":0},null,{"$f":"SUM(K12,M12,O12)","v":0}]
[]
["C-501",null,null,null,null,"(605) Jackie Leavitt",null,"Miah Pace",null,"\"The Worst Only Date\"",3,22,1,23,1,25,null,"",{"$f":"SUM(L14,N14,P14,R14)","v":70},null,{"$f":"SUM(K14,M14,O14)","v":5},null,null,null,{"$f":"SUM(S14,S16,S15,S17,-AB14)","v":70},null,null,{"$f":"MIN(S14:S17)","v":0},null,null,"Rule violation - used three chairs"]
["C-502",null,null,null,null,null,null,null,null,null,null,null,null,null,null,null,null,"",{"$f":"SUM(L15,N15,P15,R15)","v":0},null,{"$f":"SUM(K15,M15,O15)","v":0}]
["C-503",null,null,null,null,null,null,null,null,null,null,null,null,null,null,null,null,"",{"$f":"SUM(L16,N16,P16,R16)","v":0},null,{"$f":"SUM(K16,M16,O16)","v":0}]
["C-504",null,null,null,null,null,null,null,null,null,null,null,null,null,null,null,null,"",{"$f":"SUM(L17,N17,P17,R17)","v":0},null,{"$f":"SUM(K17,M17,O17)","v":0}]
[]
["D-501",null,null,null,null,null,null,null,null,null,null,null,null,null,null,null,null,"",{"$f":"SUM(L19,N19,P19,R19)","v":0},null,{"$f":"SUM(K19,M19,O19)","v":0},null,null,null,{"$f":"SUM(S19,S21,S20,S22,-AB19)","v":0},null,null,{"$f":"MIN(S19:S22)","v":0}]
["D-502",null,null,null,null,null,null,null,null,null,null,null,null,null,null,null,null,"",{"$f":"SUM(L20,N20,P20,R20)","v":0},null,{"$f":"SUM(K20,M20,O20)","v":0}]
["D-503",null,null,null,null,null,null,null,null,null,null,null,null,null,null,null,null,"",{"$f":"SUM(L21,N21,P21,R21)","v":0},null,{"$f":"SUM(K21,M21,O21)","v":0}]
["D-504",null,null,null,null,null,null,null,null,null,null,null,null,null,null,null,null,"",{"$f":"SUM(L22,N22,P22,R22)","v":0},null,{"$f":"SUM(K22,M22,O22)","v":0}]
[]
["E-501",null,null,null,null,"(604) Kaitlyn Esplin",null,"T.J. Petersen",null,"\"All the Magic\"",2,18,4,20,2,24,null,"",{"$f":"SUM(L24,N24,P24,R24)","v":62},null,{"$f":"SUM(K24,M24,O24)","v":8},null,null,null,{"$f":"SUM(S24,S26,S25,S27,-AB24)","v":62},null,null,{"$f":"MIN(S24:S27)","v":0}]
["E-502",null,null,null,null,null,null,null,null,null,null,null,null,null,null,null,null,"",{"$f":"SUM(L25,N25,P25,R25)","v":0},null,{"$f":"SUM(K25,M25,O25)","v":0}]
["E-503",null,null,null,null,null,null,null,null,null,null,null,null,null,null,null,null,"",{"$f":"SUM(L26,N26,P26,R26)","v":0},null,{"$f":"SUM(K26,M26,O26)","v":0}]
["E-504",null,null,null,null,null,null,null,null,null,null,null,null,null,null,null,null,"",{"$f":"SUM(L27,N27,P27,R27)","v":0},null,{"$f":"SUM(K27,M27,O27)","v":0}]
[]
["F-501",null,null,null,null,"(603) Gannon Murphy",null,null,null,"\"Failing at Making Waffles\"",4,20,1,25,2,23,null,"",{"$f":"SUM(L29,N29,P29,R29)","v":68},null,{"$f":"SUM(K29,M29,O29)","v":7},null,null,null,{"$f":"SUM(S29,S31,S30,S32,-AB29)","v":68},null,null,{"$f":"MIN(S29:S32)","v":0}]
["F-502",null,null,null,null,null,null,null,null,null,null,null,null,null,null,null,null,"",{"$f":"SUM(L30,N30,P30,R30)","v":0},null,{"$f":"SUM(K30,M30,O30)","v":0}]
["F-503",null,null,null,null,null,null,null,null,null,null,null,null,null,null,null,null,"",{"$f":"SUM(L31,N31,P31,R31)","v":0},null,{"$f":"SUM(K31,M31,O31)","v":0}]
["F-504",null,null,null,null,null,null,null,null,null,null,null,null,null,null,null,null,"",{"$f":"SUM(L32,N32,P32,R32)","v":0},null,{"$f":"SUM(K32,M32,O32)","v":0}]
[]
["G-501",null,null,null,null,"(602) Madison Rhoades",null,"Jemey Summarell",null,"Doctor Visit.",4,18,4,19,3,23,null,"",{"$f":"SUM(L34,N34,P34,R34)","v":60},null,{"$f":"SUM(K34,M34,O34)","v":11},null,null,null,{"$f":"SUM(S34,S36,S35,S37,-AB34)","v":60},null,null,{"$f":"MIN(S34:S37)","v":0}]
["G-502",null,null,null,null,null,null,null,null,null,null,null,null,null,null,null,null,"",{"$f":"SUM(L35,N35,P35,R35)","v":0},null,{"$f":"SUM(K35,M35,O35)","v":0}]
["G-503",null,null,null,null,null,null,null,null,null,null,null,null,null,null,null,null,"",{"$f":"SUM(L36,N36,P36,R36)","v":0},null,{"$f":"SUM(K36,M36,O36)","v":0}]
["G-504",null,null,null,null,null,null,null,null,null,null,null,null,null,null,null,null,"",{"$f":"SUM(L37,N37,P37,R37)","v":0},null,{"$f":"SUM(K37,M37,O37)","v":0}]
[]
["H-501",null,null,null,null,null,null,null,null,null,null,null,null,null,null,null,null,"",{"$f":"SUM(L39,N39,P39,R39)","v":0},null,{"$f":"SUM(K39,M39,O39)","v":0},null,null,null,{"$f":"SUM(S39,S41,S40,S42,-AB39)","v":0},null,null,{"$f":"MIN(S39:S42)","v":0}]
["H-502",null,null,null,null,null,null,null,null,null,null,null,null,null,null,null,null,"",{"$f":"SUM(L40,N40,P40,R40)","v":0},null,{"$f":"SUM(K40,M40,O40)","v":0}]
["H-503",null,null,null,null,null,null,null,null,null,null,null,null,null,null,null,null,"",{"$f":"SUM(L41,N41,P41,R41)","v":0},null,{"$f":"SUM(K41,M41,O41)","v":0}]
["H-504",null,null,null,null,null,null,null,null,null,null,null,null,null,null,null,null,"",{"$f":"SUM(L42,N42,P42,R42)","v":0},null,{"$f":"SUM(K42,M42,O42)","v":0}]
[]
["J-501",null,null,null,null,null,null,null,null,null,null,null,null,null,null,null,null,"",{"$f":"SUM(L44,N44,P44,R44)","v":0},null,{"$f":"SUM(K44,M44,O44)","v":0},null,null,null,{"$f":"SUM(S44,S46,S45,S47,-AB44)","v":0},null,null,{"$f":"MIN(S44:S47)","v":0}]
["J-502",null,null,null,null,null,null,null,null,null,null,null,null,null,null,null,null,"",{"$f":"SUM(L45,N45,P45,R45)","v":0},null,{"$f":"SUM(K45,M45,O45)","v":0}]
["J-503",null,null,null,null,null,null,null,null,null,null,null,null,null,null,null,null,"",{"$f":"SUM(L46,N46,P46,R46)","v":0},null,{"$f":"SUM(K46,M46,O46)","v":0}]
["J-504",null,null,null,null,null,null,null,null,null,null,null,null,null,null,null,null,"",{"$f":"SUM(L47,N47,P47,R47)","v":0},null,{"$f":"SUM(K47,M47,O47)","v":0}]
[]
["K-501",null,null,null,null,null,null,null,null,null,null,null,null,null,null,null,null,"",{"$f":"SUM(L49,N49,P49,R49)","v":0},null,{"$f":"SUM(K49,M49,O49)","v":0},null,null,null,{"$f":"SUM(S49,S51,S50,S52,-AB49)","v":0},null,null,{"$f":"MIN(S49:S52)","v":0}]
["K-502",null,null,null,null,null,null,null,null,null,null,null,null,null,null,null,null,"",{"$f":"SUM(L50,N50,P50,R50)","v":0},null,{"$f":"SUM(K50,M50,O50)","v":0}]
["K-503",null,null,null,null,null,null,null,null,null,null,null,null,null,null,null,null,"",{"$f":"SUM(L51,N51,P51,R51)","v":0},null,{"$f":"SUM(K51,M51,O51)","v":0}]
["K-504",null,null,null,null,null,null,null,null,null,null,null,null,null,null,null,null,"",{"$f":"SUM(L52,N52,P52,R52)","v":0},null,{"$f":"SUM(K52,M52,O52)","v":0}]
[]
["L-501",null,null,null,null,null,null,null,null,null,null,null,null,null,null,null,null,"",{"$f":"SUM(L54,N54,P54,R54)","v":0},null,{"$f":"SUM(K54,M54,O54)","v":0},null,null,null,{"$f":"SUM(S54,S56,S55,S57,-AB54)","v":0},null,null,{"$f":"MIN(S54:S57)","v":0}]
["L-502",null,null,null,null,null,null,null,null,null,null,null,null,null,null,null,null,"",{"$f":"SUM(L55,N55,P55,R55)","v":0},null,{"$f":"SUM(K55,M55,O55)","v":0}]
["L-503",null,null,null,null,null,null,null,null,null,null,null,null,null,null,null,null,"",{"$f":"SUM(L56,N56,P56,R56)","v":0},null,{"$f":"SUM(K56,M56,O56)","v":0}]
["L-504",null,null,null,null,null,null,null,null,null,null,null,null,null,null,null,null,"",{"$f":"SUM(L57,N57,P57,R57)","v":0},null,{"$f":"SUM(K57,M57,O57)","v":0}]
[]
["M-501",null,null,null,null,null,null,null,null,null,null,null,null,null,null,null,null,"",{"$f":"SUM(L59,N59,P59,R59)","v":0},null,{"$f":"SUM(K59,M59,O59)","v":0},null,null,null,{"$f":"SUM(S59,S61,S60,S62,-AB59)","v":0},null,null,{"$f":"MIN(S59:S62)","v":0}]
["M-502",null,null,null,null,null,null,null,null,null,null,null,null,null,null,null,null,"",{"$f":"SUM(L60,N60,P60,R60)","v":0},null,{"$f":"SUM(K60,M60,O60)","v":0}]
["M-503",null,null,null,null,null,null,null,null,null,null,null,null,null,null,null,null,"",{"$f":"SUM(L61,N61,P61,R61)","v":0},null,{"$f":"SUM(K61,M61,O61)","v":0}]
["M-504",null,null,null,null,null,null,null,null,null,null,null,null,null,null,null,null,"",{"$f":"SUM(L62,N62,P62,R62)","v":0},null,{"$f":"SUM(K62,M62,O62)","v":0}]
[]
["N-501",null,null,null,null,null,null,null,null,null,null,null,null,null,null,null,null,"",{"$f":"SUM(L64,N64,P64,R64)","v":0},null,{"$f":"SUM(K64,M64,O64)","v":0},null,null,null,{"$f":"SUM(S64,S66,S65,S67,-AB64)","v":0},null,null,{"$f":"MIN(S64:S67)","v":0}]
["N-502",null,null,null,null,null,null,null,null,null,null,null,null,null,null,null,null,"",{"$f":"SUM(L65,N65,P65,R65)","v":0},null,{"$f":"SUM(K65,M65,O65)","v":0}]
["N-503",null,null,null,null,null,null,null,null,null,null,null,null,null,null,null,null,"",{"$f":"SUM(L66,N66,P66,R66)","v":0},null,{"$f":"SUM(K66,M66,O66)","v":0}]
["N-504",null,null,null,null,null,null,null,null,null,null,null,null,null,null,null,null,"",{"$f":"SUM(L67,N67,P67,R67)","v":0},null,{"$f":"SUM(K67,M67,O67)","v":0}]
[]
["P-501",null,null,null,null,null,null,null,null,null,null,null,null,null,null,null,null,{"$f":"IF(Q69=\"1violation\",-7*1,IF(Q69=\"2violations\",-7*2,IF(Q69=\"3violations\",-7*3,IF(Q69=\"\",\"\"))))","v":""},{"$f":"SUM(L69,N69,P69,R69)","v":0},null,{"$f":"SUM(K69,M69,O69)","v":0},null,null,null,{"$f":"SUM(S69,S71,S70,S72,-AB69)","v":0},null,null,{"$f":"MIN(S69:S72)","v":0}]
["P-502",null,null,null,null,null,null,null,null,null,null,null,null,null,null,null,null,"",{"$f":"SUM(L70,N70,P70,R70)","v":0},null,{"$f":"SUM(K70,M70,O70)","v":0}]
["P-503",null,null,null,null,null,null,null,null,null,null,null,null,null,null,null,null,"",{"$f":"SUM(L71,N71,P71,R71)","v":0},null,{"$f":"SUM(K71,M71,O71)","v":0}]
["P-504",null,null,null,null,null,null,null,null,null,null,null,null,null,null,null,null,"",{"$f":"SUM(L72,N72,P72,R72)","v":0},null,{"$f":"SUM(K72,M72,O72)","v":0}]
[]
["Q-501",null,null,null,null,null,null,null,null,null,null,null,null,null,null,null,null,"",{"$f":"SUM(L74,N74,P74,R74)","v":0},null,{"$f":"SUM(K74,M74,O74)","v":0},null,null,null,{"$f":"SUM(S74,S76,S75,S77,-AB74)","v":0},null,null,{"$f":"MIN(S74:S77)","v":0}]
["Q-502",null,null,null,null,null,null,null,null,null,null,null,null,null,null,null,null,"",{"$f":"SUM(L75,N75,P75,R75)","v":0},null,{"$f":"SUM(K75,M75,O75)","v":0}]
["Q-502",null,null,null,null,null,null,null,null,null,null,null,null,null,null,null,null,"",{"$f":"SUM(L76,N76,P76,R76)","v":0},null,{"$f":"SUM(K76,M76,O76)","v":0}]
["Q-504",null,null,null,null,null,null,null,null,null,null,null,null,null,null,null,null,"",{"$f":"SUM(L77,N77,P77,R77)","v":0},null,{"$f":"SUM(K77,M77,O77)","v":0}]
[]
["R-501",null,null,null,null,null,null,null,null,null,null,null,null,null,null,null,null,"",{"$f":"SUM(L79,N79,P79,R79)","v":0},null,{"$f":"SUM(K79,M79,O79)","v":0},null,null,null,{"$f":"SUM(S79,S81,S80,S82,-AB79)","v":0},null,null,{"$f":"MIN(S79:S82)","v":0}]
["R-502",null,null,null,null,null,null,null,null,null,null,null,null,null,null,null,null,"",{"$f":"SUM(L80,N80,P80,R80)","v":0},null,{"$f":"SUM(K80,M80,O80)","v":0}]
["R-503",null,null,null,null,null,null,null,null,null,null,null,null,null,null,null,null,"",{"$f":"SUM(L81,N81,P81,R81)","v":0},null,{"$f":"SUM(K81,M81,O81)","v":0}]
["R-504",null,null,null,null,null,null,null,null,null,null,null,null,null,null,null,null,"",{"$f":"SUM(L82,N82,P82,R82)","v":0},null,{"$f":"SUM(K82,M82,O82)","v":0}]
[]
["S-501",null,null,null,null,null,null,null,null,null,null,null,null,null,null,null,null,"",{"$f":"SUM(L84,N84,P84,R84)","v":0},null,{"$f":"SUM(K84,M84,O84)","v":0},null,null,null,{"$f":"SUM(S84,S86,S85,S87,-AB84)","v":0},null,null,{"$f":"MIN(S84:S87)","v":0}]
["S-502",null,null,null,null,null,null,null,null,null,null,null,null,null,null,null,null,"",{"$f":"SUM(L85,N85,P85,R85)","v":0},null,{"$f":"SUM(K85,M85,O85)","v":0}]
["S-503",null,null,null,null,null,null,null,null,null,null,null,null,null,null,null,null,"",{"$f":"SUM(L86,N86,P86,R86)","v":0},null,{"$f":"SUM(K86,M86,O86)","v":0}]
["S-504",null,null,null,null,null,null,null,null,null,null,null,null,null,null,null,null,"",{"$f":"SUM(L87,N87,P87,R87)","v":0},null,{"$f":"SUM(K87,M87,O87)","v":0}]
[]
["T-501",null,null,null,null,null,null,null,null,null,null,null,null,null,null,null,null,"",{"$f":"SUM(L89,N89,P89,R89)","v":0},null,{"$f":"SUM(K89,M89,O89)","v":0},null,null,null,{"$f":"SUM(S89,S91,S90,S92,-AB89)","v":0},null,null,{"$f":"MIN(S89:S92)","v":0}]
["T-502",null,null,null,null,null,null,null,null,null,null,null,null,null,null,null,null,"",{"$f":"SUM(L90,N90,P90,R90)","v":0},null,{"$f":"SUM(K90,M90,O90)","v":0}]
["T-503",null,null,null,null,null,null,null,null,null,null,null,null,null,null,null,null,"",{"$f":"SUM(L91,N91,P91,R91)","v":0},null,{"$f":"SUM(K91,M91,O91)","v":0}]
["T-504",null,null,null,null,null,null,null,null,null,null,null,null,null,null,null,null,"",{"$f":"SUM(L92,N92,P92,R92)","v":0},null,{"$f":"SUM(K92,M92,O92)","v":0}]
[]
["U-501",null,null,null,null,null,null,null,null,null,null,null,null,null,null,null,null,"",{"$f":"SUM(L94,N94,P94,R94)","v":0},null,{"$f":"SUM(K94,M94,O94)","v":0},null,null,null,{"$f":"SUM(S94,S96,S95,S97,-AB94)","v":0},null,null,{"$f":"MIN(S94:S97)","v":0}]
["U-502",null,null,null,null,null,null,null,null,null,null,null,null,null,null,null,null,"",{"$f":"SUM(L95,N95,P95,R95)","v":0},null,{"$f":"SUM(K95,M95,O95)","v":0}]
["U-503",null,null,null,null,null,null,null,null,null,null,null,null,null,null,null,null,"",{"$f":"SUM(L96,N96,P96,R96)","v":0},null,{"$f":"SUM(K96,M96,O96)","v":0}]
["U-504",null,null,null,null,null,null,null,null,null,null,null,null,null,null,null,null,"",{"$f":"SUM(L97,N97,P97,R97)","v":0},null,{"$f":"SUM(K97,M97,O97)","v":0}]
[]
["V-501",null,null,null,null,null,null,null,null,null,null,null,null,null,null,null,null,"",{"$f":"SUM(L99,N99,P99,R99)","v":0},null,{"$f":"SUM(K99,M99,O99)","v":0},null,null,null,{"$f":"SUM(S99,S101,S100,S102,-AB99)","v":0},null,null,{"$f":"MIN(S99:S102)","v":0}]
["V-502",null,null,null,null,null,null,null,null,null,null,null,null,null,null,null,null,"",{"$f":"SUM(L100,N100,P100,R100)","v":0},null,{"$f":"SUM(K100,M100,O100)","v":0}]
["V-503",null,null,null,null,null,null,null,null,null,null,null,null,null,null,null,null,"",{"$f":"SUM(L101,N101,P101,R101)","v":0},null,{"$f":"SUM(K101,M101,O101)","v":0}]
["V-504",null,null,null,null,null,null,null,null,null,null,null,null,null,null,null,null,"",{"$f":"SUM(L102,N102,P102,R102)","v":0},null,{"$f":"SUM(K102,M102,O102)","v":0}]
[]
["W-501",null,null,null,null,null,null,null,null,null,null,null,null,null,null,null,null,"",{"$f":"SUM(L104,N104,P104,R104)","v":0},null,{"$f":"SUM(K104,M104,O104)","v":0},null,null,null,{"$f":"SUM(S104,S106,S105,S107,-AB104)","v":0},null,null,{"$f":"MIN(S104:S107)","v":0}]
["W-502",null,null,null,null,null,null,null,null,null,null,null,null,null,null,null,null,"",{"$f":"SUM(L105,N105,P105,R105)","v":0},null,{"$f":"SUM(K105,M105,O105)","v":0}]
["W-503",null,null,null,null,null,null,null,null,null,null,null,null,null,null,null,null,"",{"$f":"SUM(L106,N106,P106,R106)","v":0},null,{"$f":"SUM(K106,M106,O106)","v":0}]
["W-504",null,null,null,null,null,null,null,null,null,null,null,null,null,null,null,null,"",{"$f":"SUM(L107,N107,P107,R107)","v":0},null,{"$f":"SUM(K107,M107,O107)","v":0}]
[]
["X-501",null,null,null,null,null,null,null,null,null,null,null,null,null,null,null,null,"",{"$f":"SUM(L109,N109,P109,R109)","v":0},null,{"$f":"SUM(K109,M109,O109)","v":0},null,null,null,{"$f":"SUM(S109,S111,S110,S112,-AB109)","v":0},null,null,{"$f":"MIN(S109:S112)","v":0}]
["X-502",null,null,null,null,null,null,null,null,null,null,null,null,null,null,null,null,"",{"$f":"SUM(L110,N110,P110,R110)","v":0},null,{"$f":"SUM(K110,M110,O110)","v":0}]
["X-503",null,null,null,null,null,null,null,null,null,null,null,null,null,null,null,null,"",{"$f":"SUM(L111,N111,P111,R111)","v":0},null,{"$f":"SUM(K111,M111,O111)","v":0}]
["X-504",null,null,null,null,null,null,null,null,null,null,null,null,null,null,null,null,"",{"$f":"SUM(L112,N112,P112,R112)","v":0},null,{"$f":"SUM(K112,M112,O112)","v":0}]
[]
["Y-501",null,null,null,null,null,null,null,null,null,null,null,null,null,null,null,null,"",{"$f":"SUM(L114,N114,P114,R114)","v":0},null,{"$f":"SUM(K114,M114,O114)","v":0},null,null,null,{"$f":"SUM(S114,S116,S115,S117,-AB114)","v":0},null,null,{"$f":"MIN(S114:S117)","v":0}]
["Y-502",null,null,null,null,null,null,null,null,null,null,null,null,null,null,null,null,"",{"$f":"SUM(L115,N115,P115,R115)","v":0},null,{"$f":"SUM(K115,M115,O115)","v":0}]
["Y-503",null,null,null,null,null,null,null,null,null,null,null,null,null,null,null,null,"",{"$f":"SUM(L116,N116,P116,R116)","v":0},null,{"$f":"SUM(K116,M116,O116)","v":0}]
["Y-504",null,null,null,null,null,null,null,null,null,null,null,null,null,null,null,null,"",{"$f":"SUM(L117,N117,P117,R117)","v":0},null,{"$f":"SUM(K117,M117,O117)","v":0}]
[]
["Z-501",null,null,null,null,null,null,null,null,null,null,null,null,null,null,null,null,"",{"$f":"SUM(L119,N119,P119,R119)","v":0},null,{"$f":"SUM(K119,M119,O119)","v":0},null,null,null,{"$f":"SUM(S119,S121,S120,S122,-AB119)","v":0},null,null,{"$f":"MIN(S119:S122)","v":0}]
["Z-502",null,null,null,null,null,null,null,null,null,null,null,null,null,null,null,null,"",{"$f":"SUM(L120,N120,P120,R120)","v":0},null,{"$f":"SUM(K120,M120,O120)","v":0}]
["Z-503",null,null,null,null,null,null,null,null,null,null,null,null,null,null,null,null,"",{"$f":"SUM(L121,N121,P121,R121)","v":0},null,{"$f":"SUM(K121,M121,O121)","v":0}]
["Z-504",null,null,null,null,null,null,null,null,null,null,null,null,null,null,null,null,"",{"$f":"SUM(L122,N122,P122,R122)","v":0},null,{"$f":"SUM(K122,M122,O122)","v":0}]
[]
["AA-501",null,null,null,null,null,null,null,null,null,null,null,null,null,null,null,null,"",{"$f":"SUM(L124,N124,P124,R124)","v":0},null,{"$f":"SUM(K124,M124,O124)","v":0},null,null,null,{"$f":"SUM(S124,S126,S125,S127,-AB124)","v":0},null,null,{"$f":"MIN(S124:S127)","v":0}]
["AA-502",null,null,null,null,null,null,null,null,null,null,null,null,null,null,null,null,"",{"$f":"SUM(L125,N125,P125,R125)","v":0},null,{"$f":"SUM(K125,M125,O125)","v":0}]
["AA-503",null,null,null,null,null,null,null,null,null,null,null,null,null,null,null,null,"",{"$f":"SUM(L126,N126,P126,R126)","v":0},null,{"$f":"SUM(K126,M126,O126)","v":0}]
["AA-504",null,null,null,null,null,null,null,null,null,null,null,null,null,null,null,null,"",{"$f":"SUM(L127,N127,P127,R127)","v":0},null,{"$f":"SUM(K127,M127,O127)","v":0}]
[]
["BB-501",null,null,null,null,null,null,null,null,null,null,null,null,null,null,null,null,"",{"$f":"SUM(L129,N129,P129,R129)","v":0},null,{"$f":"SUM(K129,M129,O129)","v":0},null,null,null,{"$f":"SUM(S129,S131,S130,S132,-AB129)","v":0},null,null,{"$f":"MIN(S129:S132)","v":0}]
["BB-502",null,null,null,null,null,null,null,null,null,null,null,null,null,null,null,null,"",{"$f":"SUM(L130,N130,P130,R130)","v":0},null,{"$f":"SUM(K130,M130,O130)","v":0}]
["BB-503",null,null,null,null,null,null,null,null,null,null,null,null,null,null,null,null,"",{"$f":"SUM(L131,N131,P131,R131)","v":0},null,{"$f":"SUM(K131,M131,O131)","v":0}]
["BB-504",null,null,null,null,null,null,null,null,null,null,null,null,null,null,null,null,"",{"$f":"SUM(L132,N132,P132,R132)","v":0},null,{"$f":"SUM(K132,M132,O132)","v":0}]
[]
["CC-501",null,null,null,null,null,null,null,null,null,null,null,null,null,null,null,null,{"$f":"IF(Q134=\"1violation\",-7*1,IF(Q134=\"2violations\",-7*2,IF(Q134=\"3violations\",-7*3,IF(Q134=\"\",\"\"))))","v":""},{"$f":"SUM(L134,N134,P134,R134)","v":0},null,{"$f":"SUM(K134,M134,O134)","v":0},null,null,null,{"$f":"SUM(S134,S136,S135,S137,-AB134)","v":0},null,null,{"$f":"MIN(S134:S137)","v":0}]
["CC-502",null,null,null,null,null,null,null,null,null,null,null,null,null,null,null,null,"",{"$f":"SUM(L135,N135,P135,R135)","v":0},null,{"$f":"SUM(K135,M135,O135)","v":0}]
["CC-503",null,null,null,null,null,null,null,null,null,null,null,null,null,null,null,null,"",{"$f":"SUM(L136,N136,P136,R136)","v":0},null,{"$f":"SUM(K136,M136,O136)","v":0}]
["CC-504",null,null,null,null,null,null,null,null,null,null,null,null,null,null,null,null,"",{"$f":"SUM(L137,N137,P137,R137)","v":0},null,{"$f":"SUM(K137,M137,O137)","v":0}]
[]
["DD-501",null,null,null,null,null,null,null,null,null,null,null,null,null,null,null,null,"",{"$f":"SUM(L139,N139,P139,R139)","v":0},null,{"$f":"SUM(K139,M139,O139)","v":0},null,null,null,{"$f":"SUM(S139,S141,S140,S142,-AB139)","v":0},null,null,{"$f":"MIN(S139:S142)","v":0}]
["DD-502",null,null,null,null,null,null,null,null,null,null,null,null,null,null,null,null,"",{"$f":"SUM(L140,N140,P140,R140)","v":0},null,{"$f":"SUM(K140,M140,O140)","v":0}]
["DD-503",null,null,null,null,null,null,null,null,null,null,null,null,null,null,null,null,"",{"$f":"SUM(L141,N141,P141,R141)","v":0},null,{"$f":"SUM(K141,M141,O141)","v":0}]
["DD-504",null,null,null,null,null,null,null,null,null,null,null,null,null,null,null,null,"",{"$f":"SUM(L142,N142,P142,R142)","v":0},null,{"$f":"SUM(K142,M142,O142)","v":0}]
[]
["EE-501",null,null,null,null,null,null,null,null,null,null,null,null,null,null,null,null,"",{"$f":"SUM(L144,N144,P144,R144)","v":0},null,{"$f":"SUM(K144,M144,O144)","v":0},null,null,null,{"$f":"SUM(S144,S146,S145,S147,-AB144)","v":0},null,null,{"$f":"MIN(S144:S147)","v":0}]
["EE-502",null,null,null,null,null,null,null,null,null,null,null,null,null,null,null,null,"",{"$f":"SUM(L145,N145,P145,R145)","v":0},null,{"$f":"SUM(K145,M145,O145)","v":0}]
["EE-503",null,null,null,null,null,null,null,null,null,null,null,null,null,null,null,null,"",{"$f":"SUM(L146,N146,P146,R146)","v":0},null,{"$f":"SUM(K146,M146,O146)","v":0}]
["EE-504",null,null,null,null,null,null,null,null,null,null,null,null,null,null,null,null,"",{"$f":"SUM(L147,N147,P147,R147)","v":0},null,{"$f":"SUM(K147,M147,O147)","v":0}]
[]
["FF-501",null,null,null,null,null,null,null,null,null,null,null,null,null,null,null,null,"",{"$f":"SUM(L149,N149,P149,R149)","v":0},null,{"$f":"SUM(K149,M149,O149)","v":0},null,null,null,{"$f":"SUM(S149,S151,S150,S152,-AB149)","v":0},null,null,{"$f":"MIN(S149:S152)","v":0}]
["FF-502",null,null,null,null,null,null,null,null,null,null,null,null,null,null,null,null,"",{"$f":"SUM(L150,N150,P150,R150)","v":0},null,{"$f":"SUM(K150,M150,O150)","v":0}]
["FF-503",null,null,null,null,null,null,null,null,null,null,null,null,null,null,null,null,"",{"$f":"SUM(L151,N151,P151,R151)","v":0},null,{"$f":"SUM(K151,M151,O151)","v":0}]
["FF-504",null,null,null,null,null,null,null,null,null,null,null,null,null,null,null,null,"",{"$f":"SUM(L152,N152,P152,R152)","v":0},null,{"$f":"SUM(K152,M152,O152)","v":0}]

{"sheet":"PantomimeMR","index":10,"n_rows":122,"n_cols":14,"rows_kept":122,"cut":false,"hidden":false,"merged":[]}
["Pantomime",null,null,null,null,"Finals Medals Round Scores"]
["ID","Column1","Rank","Score","LeaveBlank","MR 1 Rank","MR 1 Score","MR2 Rank","MR 2 Score","MR3 Rank","MR 3 Score","Total MR Rank","Total MR Score","Column2"]
[{"$f":"Pantomime!A14","v":"C-501"},{"$f":"VLOOKUP(Table710121314[[#This Row],[ID]],Pantomime!A:F,6,FALSE)","v":"(605) Jackie Leavitt"},{"$f":"Pantomime!U14","v":5},{"$f":"Pantomime!S14","v":70},{"$f":"IF((Table710121314[[#This Row],[Rank]]+Table710121314[[#This Row],[Score]])>0,1,0)","v":1},1,24,2,24,2,22,{"$f":"SUM(F3,H3,J3)","v":5},{"$f":"SUM(G3,I3,K3)","v":70},"2nd"]
[{"$f":"Pantomime!A5","v":"A-502"},{"$f":"VLOOKUP(Table710121314[[#This Row],[ID]],Pantomime!A:F,6,FALSE)","v":"(607) Leslie"},{"$f":"Pantomime!U5","v":5},{"$f":"Pantomime!S5","v":68},{"$f":"IF((Table710121314[[#This Row],[Rank]]+Table710121314[[#This Row],[Score]])>0,1,0)","v":1},3,20,3,20,3,22,{"$f":"SUM(F4,H4,J4)","v":9},{"$f":"SUM(G4,I4,K4)","v":62},"3rd"]
[{"$f":"Pantomime!A7","v":"A-504"},{"$f":"VLOOKUP(Table710121314[[#This Row],[ID]],Pantomime!A:F,6,FALSE)","v":"(609) Marcus P"},{"$f":"Pantomime!U7","v":7},{"$f":"Pantomime!S7","v":69},{"$f":"IF((Table710121314[[#This Row],[Rank]]+Table710121314[[#This Row],[Score]])>0,1,0)","v":1},4,20,4,19,4,21,{"$f":"SUM(F5,H5,J5)","v":12},{"$f":"SUM(G5,I5,K5)","v":60}]
[{"$f":"Pantomime!A29","v":"F-501"},{"$f":"VLOOKUP(Table710121314[[#This Row],[ID]],Pantomime!A:F,6,FALSE)","v":"(603) Gannon Murphy"},{"$f":"Pantomime!U29","v":7},{"$f":"Pantomime!S29","v":68},{"$f":"IF((Table710121314[[#This Row],[Rank]]+Table710121314[[#This Row],[Score]])>0,1,0)","v":1},2,23,1,24,1,23,{"$f":"SUM(F6,H6,J6)","v":4},{"$f":"SUM(G6,I6,K6)","v":70},"1st"]
[{"$f":"Pantomime!A6","v":"A-503"},{"$f":"VLOOKUP(Table710121314[[#This Row],[ID]],Pantomime!A:F,6,FALSE)","v":"(608) Tyler P."},{"$f":"Pantomime!U6","v":7},{"$f":"Pantomime!S6","v":66},{"$f":"IF((Table710121314[[#This Row],[Rank]]+Table710121314[[#This Row],[Score]])>0,1,0)","v":1},5,20,5,18,5,18,{"$f":"SUM(F7,H7,J7)","v":15},{"$f":"SUM(G7,I7,K7)","v":56}]
[{"$f":"Pantomime!A24","v":"E-501"},{"$f":"VLOOKUP(Table710121314[[#This Row],[ID]],Pantomime!A:F,6,FALSE)","v":"(604) Kaitlyn Esplin"},{"$f":"Pantomime!U24","v":8},{"$f":"Pantomime!S24","v":62},{"$f":"IF((Table710121314[[#This Row],[Rank]]+Table710121314[[#This Row],[Score]])>0,1,0)","v":1},null,null,null,null,null,null,{"$f":"SUM(F8,H8,J8)","v":0},{"$f":"SUM(G8,I8,K8)","v":0}]
[{"$f":"Pantomime!A34","v":"G-501"},{"$f":"VLOOKUP(Table710121314[[#This Row],[ID]],Pantomime!A:F,6,FALSE)","v":"(602) Madison Rhoades"},{"$f":"Pantomime!U34","v":11},{"$f":"Pantomime!S34","v":60},{"$f":"IF((Table710121314[[#This Row],[Rank]]+Table710121314[[#This Row],[Score]])>0,1,0)","v":1},null,null,null,null,null,null,{"$f":"SUM(F9,H9,J9)","v":0},{"$f":"SUM(G9,I9,K9)","v":0}]
[{"$f":"Pantomime!A4","v":"A-501"},{"$f":"VLOOKUP(Table710121314[[#This Row],[ID]],Pantomime!A:F,6,FALSE)","v":"(606) Dom L"},{"$f":"Pantomime!U4","v":11},{"$f":"Pantomime!S4","v":58},{"$f":"IF((Table710121314[[#This Row],[Rank]]+Table710121314[[#This Row],[Score]])>0,1,0)","v":1},null,null,null,null,null,null,{"$f":"SUM(F10,H10,J10)","v":0},{"$f":"SUM(G10,I10,K10)","v":0}]
[{"$f":"Pantomime!A10","v":"B-502"},{"$f":"VLOOKUP(Table710121314[[#This Row],[ID]],Pantomime!A:F,6,FALSE)","v":"(601) Joslyn Certino"},{"$f":"Pantomime!U10","v":11},{"$f":"Pantomime!S10","v":58},{"$f":"IF((Table710121314[[#This Row],[Rank]]+Table710121314[[#This Row],[Score]])>0,1,0)","v":1},null,null,null,null,null,null,{"$f":"SUM(F11,H11,J11)","v":0},{"$f":"SUM(G11,I11,K11)","v":0}]
[{"$f":"Pantomime!A9","v":"B-501"},{"$f":"VLOOKUP(Table710121314[[#This Row],[ID]],Pantomime!A:F,6,FALSE)","v":"(600) Arik Blevins"},{"$f":"Pantomime!U9","v":0},{"$f":"Pantomime!S9","v":0},{"$f":"IF((Table710121314[[#This Row],[Rank]]+Table710121314[[#This Row],[Score]])>0,1,0)","v":0},null,null,null,null,null,null,{"$f":"SUM(F12,H12,J12)","v":0},{"$f":"SUM(G12,I12,K12)","v":0}]
[{"$f":"Pantomime!A44","v":"J-501"},{"$f":"VLOOKUP(Table710121314[[#This Row],[ID]],Pantomime!A:F,6,FALSE)","v":0},{"$f":"Pantomime!U44","v":0},{"$f":"Pantomime!S44","v":0},{"$f":"IF((Table710121314[[#This Row],[Rank]]+Table710121314[[#This Row],[Score]])>0,1,0)","v":0},null,null,null,null,null,null,{"$f":"SUM(F13,H13,J13)","v":0},{"$f":"SUM(G13,I13,K13)","v":0}]
[{"$f":"Pantomime!A19","v":"D-501"},{"$f":"VLOOKUP(Table710121314[[#This Row],[ID]],Pantomime!A:F,6,FALSE)","v":0},{"$f":"Pantomime!U19","v":0},{"$f":"Pantomime!S19","v":0},{"$f":"IF((Table710121314[[#This Row],[Rank]]+Table710121314[[#This Row],[Score]])>0,1,0)","v":0},null,null,null,null,null,null,{"$f":"SUM(F14,H14,J14)","v":0},{"$f":"SUM(G14,I14,K14)","v":0}]
[{"$f":"Pantomime!A124","v":"AA-501"},{"$f":"VLOOKUP(Table710121314[[#This Row],[ID]],Pantomime!A:F,6,FALSE)","v":0},{"$f":"Pantomime!U124","v":0},{"$f":"Pantomime!S124","v":0},{"$f":"IF((Table710121314[[#This Row],[Rank]]+Table710121314[[#This Row],[Score]])>0,1,0)","v":0},null,null,null,null,null,null,{"$f":"SUM(F15,H15,J15)","v":0},{"$f":"SUM(G15,I15,K15)","v":0}]
[{"$f":"Pantomime!A125","v":"AA-502"},{"$f":"VLOOKUP(Table710121314[[#This Row],[ID]],Pantomime!A:F,6,FALSE)","v":0},{"$f":"Pantomime!U125","v":0},{"$f":"Pantomime!S125","v":0},{"$f":"IF((Table710121314[[#This Row],[Rank]]+Table710121314[[#This Row],[Score]])>0,1,0)","v":0},null,null,null,null,null,null,{"$f":"SUM(F16,H16,J16)","v":0},{"$f":"SUM(G16,I16,K16)","v":0}]
[{"$f":"Pantomime!A126","v":"AA-503"},{"$f":"VLOOKUP(Table710121314[[#This Row],[ID]],Pantomime!A:F,6,FALSE)","v":0},{"$f":"Pantomime!U126","v":0},{"$f":"Pantomime!S126","v":0},{"$f":"IF((Table710121314[[#This Row],[Rank]]+Table710121314[[#This Row],[Score]])>0,1,0)","v":0},null,null,null,null,null,null,{"$f":"SUM(F17,H17,J17)","v":0},{"$f":"SUM(G17,I17,K17)","v":0}]
[{"$f":"Pantomime!A127","v":"AA-504"},{"$f":"VLOOKUP(Table710121314[[#This Row],[ID]],Pantomime!A:F,6,FALSE)","v":0},{"$f":"Pantomime!U127","v":0},{"$f":"Pantomime!S127","v":0},{"$f":"IF((Table710121314[[#This Row],[Rank]]+Table710121314[[#This Row],[Score]])>0,1,0)","v":0},null,null,null,null,null,null,{"$f":"SUM(F18,H18,J18)","v":0},{"$f":"SUM(G18,I18,K18)","v":0}]
[{"$f":"Pantomime!A11","v":"B-503"},{"$f":"VLOOKUP(Table710121314[[#This Row],[ID]],Pantomime!A:F,6,FALSE)","v":0},{"$f":"Pantomime!U11","v":0},{"$f":"Pantomime!S11","v":0},{"$f":"IF((Table710121314[[#This Row],[Rank]]+Table710121314[[#This Row],[Score]])>0,1,0)","v":0},null,null,null,null,null,null,{"$f":"SUM(F19,H19,J19)","v":0},{"$f":"SUM(G19,I19,K19)","v":0}]
[{"$f":"Pantomime!A12","v":"B-504"},{"$f":"VLOOKUP(Table710121314[[#This Row],[ID]],Pantomime!A:F,6,FALSE)","v":0},{"$f":"Pantomime!U12","v":0},{"$f":"Pantomime!S12","v":0},{"$f":"IF((Table710121314[[#This Row],[Rank]]+Table710121314[[#This Row],[Score]])>0,1,0)","v":0},null,null,null,null,null,null,{"$f":"SUM(F20,H20,J20)","v":0},{"$f":"SUM(G20,I20,K20)","v":0}]
[{"$f":"Pantomime!A129","v":"BB-501"},{"$f":"VLOOKUP(Table710121314[[#This Row],[ID]],Pantomime!A:F,6,FALSE)","v":0},{"$f":"Pantomime!U129","v":0},{"$f":"Pantomime!S129","v":0},{"$f":"IF((Table710121314[[#This Row],[Rank]]+Table710121314[[#This Row],[Score]])>0,1,0)","v":0},null,null,null,null,null,null,{"$f":"SUM(F21,H21,J21)","v":0},{"$f":"SUM(G21,I21,K21)","v":0}]
[{"$f":"Pantomime!A130","v":"BB-502"},{"$f":"VLOOKUP(Table710121314[[#This Row],[ID]],Pantomime!A:F,6,FALSE)","v":0},{"$f":"Pantomime!U130","v":0},{"$f":"Pantomime!S130","v":0},{"$f":"IF((Table710121314[[#This Row],[Rank]]+Table710121314[[#This Row],[Score]])>0,1,0)","v":0},null,null,null,null,null,null,{"$f":"SUM(F22,H22,J22)","v":0},{"$f":"SUM(G22,I22,K22)","v":0}]
[{"$f":"Pantomime!A131","v":"BB-503"},{"$f":"VLOOKUP(Table710121314[[#This Row],[ID]],Pantomime!A:F,6,FALSE)","v":0},{"$f":"Pantomime!U131","v":0},{"$f":"Pantomime!S131","v":0},{"$f":"IF((Table710121314[[#This Row],[Rank]]+Table710121314[[#This Row],[Score]])>0,1,0)","v":0},null,null,null,null,null,null,{"$f":"SUM(F23,H23,J23)","v":0},{"$f":"SUM(G23,I23,K23)","v":0}]
[{"$f":"Pantomime!A132","v":"BB-504"},{"$f":"VLOOKUP(Table710121314[[#This Row],[ID]],Pantomime!A:F,6,FALSE)","v":0},{"$f":"Pantomime!U132","v":0},{"$f":"Pantomime!S132","v":0},{"$f":"IF((Table710121314[[#This Row],[Rank]]+Table710121314[[#This Row],[Score]])>0,1,0)","v":0},null,null,null,null,null,null,{"$f":"SUM(F24,H24,J24)","v":0},{"$f":"SUM(G24,I24,K24)","v":0}]
[{"$f":"Pantomime!A15","v":"C-502"},{"$f":"VLOOKUP(Table710121314[[#This Row],[ID]],Pantomime!A:F,6,FALSE)","v":0},{"$f":"Pantomime!U15","v":0},{"$f":"Pantomime!S15","v":0},{"$f":"IF((Table710121314[[#This Row],[Rank]]+Table710121314[[#This Row],[Score]])>0,1,0)","v":0},null,null,null,null,null,null,{"$f":"SUM(F25,H25,J25)","v":0},{"$f":"SUM(G25,I25,K25)","v":0}]
[{"$f":"Pantomime!A16","v":"C-503"},{"$f":"VLOOKUP(Table710121314[[#This Row],[ID]],Pantomime!A:F,6,FALSE)","v":0},{"$f":"Pantomime!U16","v":0},{"$f":"Pantomime!S16","v":0},{"$f":"IF((Table710121314[[#This Row],[Rank]]+Table710121314[[#This Row],[Score]])>0,1,0)","v":0},null,null,null,null,null,null,{"$f":"SUM(F26,H26,J26)","v":0},{"$f":"SUM(G26,I26,K26)","v":0}]
[{"$f":"Pantomime!A17","v":"C-504"},{"$f":"VLOOKUP(Table710121314[[#This Row],[ID]],Pantomime!A:F,6,FALSE)","v":0},{"$f":"Pantomime!U17","v":0},{"$f":"Pantomime!S17","v":0},{"$f":"IF((Table710121314[[#This Row],[Rank]]+Table710121314[[#This Row],[Score]])>0,1,0)","v":0},null,null,null,null,null,null,{"$f":"SUM(F27,H27,J27)","v":0},{"$f":"SUM(G27,I27,K27)","v":0}]
[{"$f":"Pantomime!A134","v":"CC-501"},{"$f":"VLOOKUP(Table710121314[[#This Row],[ID]],Pantomime!A:F,6,FALSE)","v":0},{"$f":"Pantomime!U134","v":0},{"$f":"Pantomime!S134","v":0},{"$f":"IF((Table710121314[[#This Row],[Rank]]+Table710121314[[#This Row],[Score]])>0,1,0)","v":0},null,null,null,null,null,null,{"$f":"SUM(F28,H28,J28)","v":0},{"$f":"SUM(G28,I28,K28)","v":0}]
[{"$f":"Pantomime!A135","v":"CC-502"},{"$f":"VLOOKUP(Table710121314[[#This Row],[ID]],Pantomime!A:F,6,FALSE)","v":0},{"$f":"Pantomime!U135","v":0},{"$f":"Pantomime!S135","v":0},{"$f":"IF((Table710121314[[#This Row],[Rank]]+Table710121314[[#This Row],[Score]])>0,1,0)","v":0},null,null,null,null,null,null,{"$f":"SUM(F29,H29,J29)","v":0},{"$f":"SUM(G29,I29,K29)","v":0}]
[{"$f":"Pantomime!A136","v":"CC-503"},{"$f":"VLOOKUP(Table710121314[[#This Row],[ID]],Pantomime!A:F,6,FALSE)","v":0},{"$f":"Pantomime!U136","v":0},{"$f":"Pantomime!S136","v":0},{"$f":"IF((Table710121314[[#This Row],[Rank]]+Table710121314[[#This Row],[Score]])>0,1,0)","v":0},null,null,null,null,null,null,{"$f":"SUM(F30,H30,J30)","v":0},{"$f":"SUM(G30,I30,K30)","v":0}]
[{"$f":"Pantomime!A137","v":"CC-504"},{"$f":"VLOOKUP(Table710121314[[#This Row],[ID]],Pantomime!A:F,6,FALSE)","v":0},{"$f":"Pantomime!U137","v":0},{"$f":"Pantomime!S137","v":0},{"$f":"IF((Table710121314[[#This Row],[Rank]]+Table710121314[[#This Row],[Score]])>0,1,0)","v":0},null,null,null,null,null,null,{"$f":"SUM(F31,H31,J31)","v":0},{"$f":"SUM(G31,I31,K31)","v":0}]
[{"$f":"Pantomime!A20","v":"D-502"},{"$f":"VLOOKUP(Table710121314[[#This Row],[ID]],Pantomime!A:F,6,FALSE)","v":0},{"$f":"Pantomime!U20","v":0},{"$f":"Pantomime!S20","v":0},{"$f":"IF((Table710121314[[#This Row],[Rank]]+Table710121314[[#This Row],[Score]])>0,1,0)","v":0},null,null,null,null,null,null,{"$f":"SUM(F32,H32,J32)","v":0},{"$f":"SUM(G32,I32,K32)","v":0}]
[{"$f":"Pantomime!A21","v":"D-503"},{"$f":"VLOOKUP(Table710121314[[#This Row],[ID]],Pantomime!A:F,6,FALSE)","v":0},{"$f":"Pantomime!U21","v":0},{"$f":"Pantomime!S21","v":0},{"$f":"IF((Table710121314[[#This Row],[Rank]]+Table710121314[[#This Row],[Score]])>0,1,0)","v":0},null,null,null,null,null,null,{"$f":"SUM(F33,H33,J33)","v":0},{"$f":"SUM(G33,I33,K33)","v":0}]
[{"$f":"Pantomime!A22","v":"D-504"},{"$f":"VLOOKUP(Table710121314[[#This Row],[ID]],Pantomime!A:F,6,FALSE)","v":0},{"$f":"Pantomime!U22","v":0},{"$f":"Pantomime!S22","v":0},{"$f":"IF((Table710121314[[#This Row],[Rank]]+Table710121314[[#This Row],[Score]])>0,1,0)","v":0},null,null,null,null,null,null,{"$f":"SUM(F34,H34,J34)","v":0},{"$f":"SUM(G34,I34,K34)","v":0}]
[{"$f":"Pantomime!A139","v":"DD-501"},{"$f":"VLOOKUP(Table710121314[[#This Row],[ID]],Pantomime!A:F,6,FALSE)","v":0},{"$f":"Pantomime!U139","v":0},{"$f":"Pantomime!S139","v":0},{"$f":"IF((Table710121314[[#This Row],[Rank]]+Table710121314[[#This Row],[Score]])>0,1,0)","v":0},null,null,null,null,null,null,{"$f":"SUM(F35,H35,J35)","v":0},{"$f":"SUM(G35,I35,K35)","v":0}]
[{"$f":"Pantomime!A140","v":"DD-502"},{"$f":"VLOOKUP(Table710121314[[#This Row],[ID]],Pantomime!A:F,6,FALSE)","v":0},{"$f":"Pantomime!U140","v":0},{"$f":"Pantomime!S140","v":0},{"$f":"IF((Table710121314[[#This Row],[Rank]]+Table710121314[[#This Row],[Score]])>0,1,0)","v":0},null,null,null,null,null,null,{"$f":"SUM(F36,H36,J36)","v":0},{"$f":"SUM(G36,I36,K36)","v":0}]
[{"$f":"Pantomime!A141","v":"DD-503"},{"$f":"VLOOKUP(Table710121314[[#This Row],[ID]],Pantomime!A:F,6,FALSE)","v":0},{"$f":"Pantomime!U141","v":0},{"$f":"Pantomime!S141","v":0},{"$f":"IF((Table710121314[[#This Row],[Rank]]+Table710121314[[#This Row],[Score]])>0,1,0)","v":0},null,null,null,null,null,null,{"$f":"SUM(F37,H37,J37)","v":0},{"$f":"SUM(G37,I37,K37)","v":0}]
[{"$f":"Pantomime!A142","v":"DD-504"},{"$f":"VLOOKUP(Table710121314[[#This Row],[ID]],Pantomime!A:F,6,FALSE)","v":0},{"$f":"Pantomime!U142","v":0},{"$f":"Pantomime!S142","v":0},{"$f":"IF((Table710121314[[#This Row],[Rank]]+Table710121314[[#This Row],[Score]])>0,1,0)","v":0},null,null,null,null,null,null,{"$f":"SUM(F38,H38,J38)","v":0},{"$f":"SUM(G38,I38,K38)","v":0}]
[{"$f":"Pantomime!A25","v":"E-502"},{"$f":"VLOOKUP(Table710121314[[#This Row],[ID]],Pantomime!A:F,6,FALSE)","v":0},{"$f":"Pantomime!U25","v":0},{"$f":"Pantomime!S25","v":0},{"$f":"IF((Table710121314[[#This Row],[Rank]]+Table710121314[[#This Row],[Score]])>0,1,0)","v":0},null,null,null,null,null,null,{"$f":"SUM(F39,H39,J39)","v":0},{"$f":"SUM(G39,I39,K39)","v":0}]
[{"$f":"Pantomime!A26","v":"E-503"},{"$f":"VLOOKUP(Table710121314[[#This Row],[ID]],Pantomime!A:F,6,FALSE)","v":0},{"$f":"Pantomime!U26","v":0},{"$f":"Pantomime!S26","v":0},{"$f":"IF((Table710121314[[#This Row],[Rank]]+Table710121314[[#This Row],[Score]])>0,1,0)","v":0},null,null,null,null,null,null,{"$f":"SUM(F40,H40,J40)","v":0},{"$f":"SUM(G40,I40,K40)","v":0}]
[{"$f":"Pantomime!A27","v":"E-504"},{"$f":"VLOOKUP(Table710121314[[#This Row],[ID]],Pantomime!A:F,6,FALSE)","v":0},{"$f":"Pantomime!U27","v":0},{"$f":"Pantomime!S27","v":0},{"$f":"IF((Table710121314[[#This Row],[Rank]]+Table710121314[[#This Row],[Score]])>0,1,0)","v":0},null,null,null,null,null,null,{"$f":"SUM(F41,H41,J41)","v":0},{"$f":"SUM(G41,I41,K41)","v":0}]
[{"$f":"Pantomime!A144","v":"EE-501"},{"$f":"VLOOKUP(Table710121314[[#This Row],[ID]],Pantomime!A:F,6,FALSE)","v":0},{"$f":"Pantomime!U144","v":0},{"$f":"Pantomime!S144","v":0},{"$f":"IF((Table710121314[[#This Row],[Rank]]+Table710121314[[#This Row],[Score]])>0,1,0)","v":0},null,null,null,null,null,null,{"$f":"SUM(F42,H42,J42)","v":0},{"$f":"SUM(G42,I42,K42)","v":0}]
[{"$f":"Pantomime!A145","v":"EE-502"},{"$f":"VLOOKUP(Table710121314[[#This Row],[ID]],Pantomime!A:F,6,FALSE)","v":0},{"$f":"Pantomime!U145","v":0},{"$f":"Pantomime!S145","v":0},{"$f":"IF((Table710121314[[#This Row],[Rank]]+Table710121314[[#This Row],[Score]])>0,1,0)","v":0},null,null,null,null,null,null,{"$f":"SUM(F43,H43,J43)","v":0},{"$f":"SUM(G43,I43,K43)","v":0}]
[{"$f":"Pantomime!A146","v":"EE-503"},{"$f":"VLOOKUP(Table710121314[[#This Row],[ID]],Pantomime!A:F,6,FALSE)","v":0},{"$f":"Pantomime!U146","v":0},{"$f":"Pantomime!S146","v":0},{"$f":"IF((Table710121314[[#This Row],[Rank]]+Table710121314[[#This Row],[Score]])>0,1,0)","v":0},null,null,null,null,null,null,{"$f":"SUM(F44,H44,J44)","v":0},{"$f":"SUM(G44,I44,K44)","v":0}]
[{"$f":"Pantomime!A147","v":"EE-504"},{"$f":"VLOOKUP(Table710121314[[#This Row],[ID]],Pantomime!A:F,6,FALSE)","v":0},{"$f":"Pantomime!U147","v":0},{"$f":"Pantomime!S147","v":0},{"$f":"IF((Table710121314[[#This Row],[Rank]]+Table710121314[[#This Row],[Score]])>0,1,0)","v":0},null,null,null,null,null,null,{"$f":"SUM(F45,H45,J45)","v":0},{"$f":"SUM(G45,I45,K45)","v":0}]
[{"$f":"Pantomime!A30","v":"F-502"},{"$f":"VLOOKUP(Table710121314[[#This Row],[ID]],Pantomime!A:F,6,FALSE)","v":0},{"$f":"Pantomime!U30","v":0},{"$f":"Pantomime!S30","v":0},{"$f":"IF((Table710121314[[#This Row],[Rank]]+Table710121314[[#This Row],[Score]])>0,1,0)","v":0},null,null,null,null,null,null,{"$f":"SUM(F46,H46,J46)","v":0},{"$f":"SUM(G46,I46,K46)","v":0}]
[{"$f":"Pantomime!A31","v":"F-503"},{"$f":"VLOOKUP(Table710121314[[#This Row],[ID]],Pantomime!A:F,6,FALSE)","v":0},{"$f":"Pantomime!U31","v":0},{"$f":"Pantomime!S31","v":0},{"$f":"IF((Table710121314[[#This Row],[Rank]]+Table710121314[[#This Row],[Score]])>0,1,0)","v":0},null,null,null,null,null,null,{"$f":"SUM(F47,H47,J47)","v":0},{"$f":"SUM(G47,I47,K47)","v":0}]
[{"$f":"Pantomime!A32","v":"F-504"},{"$f":"VLOOKUP(Table710121314[[#This Row],[ID]],Pantomime!A:F,6,FALSE)","v":0},{"$f":"Pantomime!U32","v":0},{"$f":"Pantomime!S32","v":0},{"$f":"IF((Table710121314[[#This Row],[Rank]]+Table710121314[[#This Row],[Score]])>0,1,0)","v":0},null,null,null,null,null,null,{"$f":"SUM(F48,H48,J48)","v":0},{"$f":"SUM(G48,I48,K48)","v":0}]
[{"$f":"Pantomime!A149","v":"FF-501"},{"$f":"VLOOKUP(Table710121314[[#This Row],[ID]],Pantomime!A:F,6,FALSE)","v":0},{"$f":"Pantomime!U149","v":0},{"$f":"Pantomime!S149","v":0},{"$f":"IF((Table710121314[[#This Row],[Rank]]+Table710121314[[#This Row],[Score]])>0,1,0)","v":0},null,null,null,null,null,null,{"$f":"SUM(F49,H49,J49)","v":0},{"$f":"SUM(G49,I49,K49)","v":0}]
[{"$f":"Pantomime!A150","v":"FF-502"},{"$f":"VLOOKUP(Table710121314[[#This Row],[ID]],Pantomime!A:F,6,FALSE)","v":0},{"$f":"Pantomime!U150","v":0},{"$f":"Pantomime!S150","v":0},{"$f":"IF((Table710121314[[#This Row],[Rank]]+Table710121314[[#This Row],[Score]])>0,1,0)","v":0},null,null,null,null,null,null,{"$f":"SUM(F50,H50,J50)","v":0},{"$f":"SUM(G50,I50,K50)","v":0}]
[{"$f":"Pantomime!A151","v":"FF-503"},{"$f":"VLOOKUP(Table710121314[[#This Row],[ID]],Pantomime!A:F,6,FALSE)","v":0},{"$f":"Pantomime!U151","v":0},{"$f":"Pantomime!S151","v":0},{"$f":"IF((Table710121314[[#This Row],[Rank]]+Table710121314[[#This Row],[Score]])>0,1,0)","v":0},null,null,null,null,null,null,{"$f":"SUM(F51,H51,J51)","v":0},{"$f":"SUM(G51,I51,K51)","v":0}]
[{"$f":"Pantomime!A152","v":"FF-504"},{"$f":"VLOOKUP(Table710121314[[#This Row],[ID]],Pantomime!A:F,6,FALSE)","v":0},{"$f":"Pantomime!U152","v":0},{"$f":"Pantomime!S152","v":0},{"$f":"IF((Table710121314[[#This Row],[Rank]]+Table710121314[[#This Row],[Score]])>0,1,0)","v":0},null,null,null,null,null,null,{"$f":"SUM(F52,H52,J52)","v":0},{"$f":"SUM(G52,I52,K52)","v":0}]
[{"$f":"Pantomime!A35","v":"G-502"},{"$f":"VLOOKUP(Table710121314[[#This Row],[ID]],Pantomime!A:F,6,FALSE)","v":0},{"$f":"Pantomime!U35","v":0},{"$f":"Pantomime!S35","v":0},{"$f":"IF((Table710121314[[#This Row],[Rank]]+Table710121314[[#This Row],[Score]])>0,1,0)","v":0},null,null,null,null,null,null,{"$f":"SUM(F53,H53,J53)","v":0},{"$f":"SUM(G53,I53,K53)","v":0}]
[{"$f":"Pantomime!A36","v":"G-503"},{"$f":"VLOOKUP(Table710121314[[#This Row],[ID]],Pantomime!A:F,6,FALSE)","v":0},{"$f":"Pantomime!U36","v":0},{"$f":"Pantomime!S36","v":0},{"$f":"IF((Table710121314[[#This Row],[Rank]]+Table710121314[[#This Row],[Score]])>0,1,0)","v":0},null,null,null,null,null,null,{"$f":"SUM(F54,H54,J54)","v":0},{"$f":"SUM(G54,I54,K54)","v":0}]
[{"$f":"Pantomime!A37","v":"G-504"},{"$f":"VLOOKUP(Table710121314[[#This Row],[ID]],Pantomime!A:F,6,FALSE)","v":0},{"$f":"Pantomime!U37","v":0},{"$f":"Pantomime!S37","v":0},{"$f":"IF((Table710121314[[#This Row],[Rank]]+Table710121314[[#This Row],[Score]])>0,1,0)","v":0},null,null,null,null,null,null,{"$f":"SUM(F55,H55,J55)","v":0},{"$f":"SUM(G55,I55,K55)","v":0}]
[{"$f":"Pantomime!A39","v":"H-501"},{"$f":"VLOOKUP(Table710121314[[#This Row],[ID]],Pantomime!A:F,6,FALSE)","v":0},{"$f":"Pantomime!U39","v":0},{"$f":"Pantomime!S39","v":0},{"$f":"IF((Table710121314[[#This Row],[Rank]]+Table710121314[[#This Row],[Score]])>0,1,0)","v":0},null,null,null,null,null,null,{"$f":"SUM(F56,H56,J56)","v":0},{"$f":"SUM(G56,I56,K56)","v":0}]
[{"$f":"Pantomime!A40","v":"H-502"},{"$f":"VLOOKUP(Table710121314[[#This Row],[ID]],Pantomime!A:F,6,FALSE)","v":0},{"$f":"Pantomime!U40","v":0},{"$f":"Pantomime!S40","v":0},{"$f":"IF((Table710121314[[#This Row],[Rank]]+Table710121314[[#This Row],[Score]])>0,1,0)","v":0},null,null,null,null,null,null,{"$f":"SUM(F57,H57,J57)","v":0},{"$f":"SUM(G57,I57,K57)","v":0}]
[{"$f":"Pantomime!A41","v":"H-503"},{"$f":"VLOOKUP(Table710121314[[#This Row],[ID]],Pantomime!A:F,6,FALSE)","v":0},{"$f":"Pantomime!U41","v":0},{"$f":"Pantomime!S41","v":0},{"$f":"IF((Table710121314[[#This Row],[Rank]]+Table710121314[[#This Row],[Score]])>0,1,0)","v":0},null,null,null,null,null,null,{"$f":"SUM(F58,H58,J58)","v":0},{"$f":"SUM(G58,I58,K58)","v":0}]
[{"$f":"Pantomime!A42","v":"H-504"},{"$f":"VLOOKUP(Table710121314[[#This Row],[ID]],Pantomime!A:F,6,FALSE)","v":0},{"$f":"Pantomime!U42","v":0},{"$f":"Pantomime!S42","v":0},{"$f":"IF((Table710121314[[#This Row],[Rank]]+Table710121314[[#This Row],[Score]])>0,1,0)","v":0},null,null,null,null,null,null,{"$f":"SUM(F59,H59,J59)","v":0},{"$f":"SUM(G59,I59,K59)","v":0}]
[{"$f":"Pantomime!A45","v":"J-502"},{"$f":"VLOOKUP(Table710121314[[#This Row],[ID]],Pantomime!A:F,6,FALSE)","v":0},{"$f":"Pantomime!U45","v":0},{"$f":"Pantomime!S45","v":0},{"$f":"IF((Table710121314[[#This Row],[Rank]]+Table710121314[[#This Row],[Score]])>0,1,0)","v":0},null,null,null,null,null,null,{"$f":"SUM(F60,H60,J60)","v":0},{"$f":"SUM(G60,I60,K60)","v":0}]
[{"$f":"Pantomime!A46","v":"J-503"},{"$f":"VLOOKUP(Table710121314[[#This Row],[ID]],Pantomime!A:F,6,FALSE)","v":0},{"$f":"Pantomime!U46","v":0},{"$f":"Pantomime!S46","v":0},{"$f":"IF((Table710121314[[#This Row],[Rank]]+Table710121314[[#This Row],[Score]])>0,1,0)","v":0},null,null,null,null,null,null,{"$f":"SUM(F61,H61,J61)","v":0},{"$f":"SUM(G61,I61,K61)","v":0}]
[{"$f":"Pantomime!A47","v":"J-504"},{"$f":"VLOOKUP(Table710121314[[#This Row],[ID]],Pantomime!A:F,6,FALSE)","v":0},{"$f":"Pantomime!U47","v":0},{"$f":"Pantomime!S47","v":0},{"$f":"IF((Table710121314[[#This Row],[Rank]]+Table710121314[[#This Row],[Score]])>0,1,0)","v":0},null,null,null,null,null,null,{"$f":"SUM(F62,H62,J62)","v":0},{"$f":"SUM(G62,I62,K62)","v":0}]
[{"$f":"Pantomime!A49","v":"K-501"},{"$f":"VLOOKUP(Table710121314[[#This Row],[ID]],Pantomime!A:F,6,FALSE)","v":0},{"$f":"Pantomime!U49","v":0},{"$f":"Pantomime!S49","v":0},{"$f":"IF((Table710121314[[#This Row],[Rank]]+Table710121314[[#This Row],[Score]])>0,1,0)","v":0},null,null,null,null,null,null,{"$f":"SUM(F63,H63,J63)","v":0},{"$f":"SUM(G63,I63,K63)","v":0}]
[{"$f":"Pantomime!A50","v":"K-502"},{"$f":"VLOOKUP(Table710121314[[#This Row],[ID]],Pantomime!A:F,6,FALSE)","v":0},{"$f":"Pantomime!U50","v":0},{"$f":"Pantomime!S50","v":0},{"$f":"IF((Table710121314[[#This Row],[Rank]]+Table710121314[[#This Row],[Score]])>0,1,0)","v":0},null,null,null,null,null,null,{"$f":"SUM(F64,H64,J64)","v":0},{"$f":"SUM(G64,I64,K64)","v":0}]
[{"$f":"Pantomime!A51","v":"K-503"},{"$f":"VLOOKUP(Table710121314[[#This Row],[ID]],Pantomime!A:F,6,FALSE)","v":0},{"$f":"Pantomime!U51","v":0},{"$f":"Pantomime!S51","v":0},{"$f":"IF((Table710121314[[#This Row],[Rank]]+Table710121314[[#This Row],[Score]])>0,1,0)","v":0},null,null,null,null,null,null,{"$f":"SUM(F65,H65,J65)","v":0},{"$f":"SUM(G65,I65,K65)","v":0}]
[{"$f":"Pantomime!A52","v":"K-504"},{"$f":"VLOOKUP(Table710121314[[#This Row],[ID]],Pantomime!A:F,6,FALSE)","v":0},{"$f":"Pantomime!U52","v":0},{"$f":"Pantomime!S52","v":0},{"$f":"IF((Table710121314[[#This Row],[Rank]]+Table710121314[[#This Row],[Score]])>0,1,0)","v":0},null,null,null,null,null,null,{"$f":"SUM(F66,H66,J66)","v":0},{"$f":"SUM(G66,I66,K66)","v":0}]
[{"$f":"Pantomime!A54","v":"L-501"},{"$f":"VLOOKUP(Table710121314[[#This Row],[ID]],Pantomime!A:F,6,FALSE)","v":0},{"$f":"Pantomime!U54","v":0},{"$f":"Pantomime!S54","v":0},{"$f":"IF((Table710121314[[#This Row],[Rank]]+Table710121314[[#This Row],[Score]])>0,1,0)","v":0},null,null,null,null,null,null,{"$f":"SUM(F67,H67,J67)","v":0},{"$f":"SUM(G67,I67,K67)","v":0}]
[{"$f":"Pantomime!A55","v":"L-502"},{"$f":"VLOOKUP(Table710121314[[#This Row],[ID]],Pantomime!A:F,6,FALSE)","v":0},{"$f":"Pantomime!U55","v":0},{"$f":"Pantomime!S55","v":0},{"$f":"IF((Table710121314[[#This Row],[Rank]]+Table710121314[[#This Row],[Score]])>0,1,0)","v":0},null,null,null,null,null,null,{"$f":"SUM(F68,H68,J68)","v":0},{"$f":"SUM(G68,I68,K68)","v":0}]
[{"$f":"Pantomime!A56","v":"L-503"},{"$f":"VLOOKUP(Table710121314[[#This Row],[ID]],Pantomime!A:F,6,FALSE)","v":0},{"$f":"Pantomime!U56","v":0},{"$f":"Pantomime!S56","v":0},{"$f":"IF((Table710121314[[#This Row],[Rank]]+Table710121314[[#This Row],[Score]])>0,1,0)","v":0},null,null,null,null,null,null,{"$f":"SUM(F69,H69,J69)","v":0},{"$f":"SUM(G69,I69,K69)","v":0}]
[{"$f":"Pantomime!A57","v":"L-504"},{"$f":"VLOOKUP(Table710121314[[#This Row],[ID]],Pantomime!A:F,6,FALSE)","v":0},{"$f":"Pantomime!U57","v":0},{"$f":"Pantomime!S57","v":0},{"$f":"IF((Table710121314[[#This Row],[Rank]]+Table710121314[[#This Row],[Score]])>0,1,0)","v":0},null,null,null,null,null,null,{"$f":"SUM(F70,H70,J70)","v":0},{"$f":"SUM(G70,I70,K70)","v":0}]
[{"$f":"Pantomime!A59","v":"M-501"},{"$f":"VLOOKUP(Table710121314[[#This Row],[ID]],Pantomime!A:F,6,FALSE)","v":0},{"$f":"Pantomime!U59","v":0},{"$f":"Pantomime!S59","v":0},{"$f":"IF((Table710121314[[#This Row],[Rank]]+Table710121314[[#This Row],[Score]])>0,1,0)","v":0},null,null,null,null,null,null,{"$f":"SUM(F71,H71,J71)","v":0},{"$f":"SUM(G71,I71,K71)","v":0}]
[{"$f":"Pantomime!A60","v":"M-502"},{"$f":"VLOOKUP(Table710121314[[#This Row],[ID]],Pantomime!A:F,6,FALSE)","v":0},{"$f":"Pantomime!U60","v":0},{"$f":"Pantomime!S60","v":0},{"$f":"IF((Table710121314[[#This Row],[Rank]]+Table710121314[[#This Row],[Score]])>0,1,0)","v":0},null,null,null,null,null,null,{"$f":"SUM(F72,H72,J72)","v":0},{"$f":"SUM(G72,I72,K72)","v":0}]
[{"$f":"Pantomime!A61","v":"M-503"},{"$f":"VLOOKUP(Table710121314[[#This Row],[ID]],Pantomime!A:F,6,FALSE)","v":0},{"$f":"Pantomime!U61","v":0},{"$f":"Pantomime!S61","v":0},{"$f":"IF((Table710121314[[#This Row],[Rank]]+Table710121314[[#This Row],[Score]])>0,1,0)","v":0},null,null,null,null,null,null,{"$f":"SUM(F73,H73,J73)","v":0},{"$f":"SUM(G73,I73,K73)","v":0}]
[{"$f":"Pantomime!A62","v":"M-504"},{"$f":"VLOOKUP(Table710121314[[#This Row],[ID]],Pantomime!A:F,6,FALSE)","v":0},{"$f":"Pantomime!U62","v":0},{"$f":"Pantomime!S62","v":0},{"$f":"IF((Table710121314[[#This Row],[Rank]]+Table710121314[[#This Row],[Score]])>0,1,0)","v":0},null,null,null,null,null,null,{"$f":"SUM(F74,H74,J74)","v":0},{"$f":"SUM(G74,I74,K74)","v":0}]
[{"$f":"Pantomime!A64","v":"N-501"},{"$f":"VLOOKUP(Table710121314[[#This Row],[ID]],Pantomime!A:F,6,FALSE)","v":0},{"$f":"Pantomime!U64","v":0},{"$f":"Pantomime!S64","v":0},{"$f":"IF((Table710121314[[#This Row],[Rank]]+Table710121314[[#This Row],[Score]])>0,1,0)","v":0},null,null,null,null,null,null,{"$f":"SUM(F75,H75,J75)","v":0},{"$f":"SUM(G75,I75,K75)","v":0}]
[{"$f":"Pantomime!A65","v":"N-502"},{"$f":"VLOOKUP(Table710121314[[#This Row],[ID]],Pantomime!A:F,6,FALSE)","v":0},{"$f":"Pantomime!U65","v":0},{"$f":"Pantomime!S65","v":0},{"$f":"IF((Table710121314[[#This Row],[Rank]]+Table710121314[[#This Row],[Score]])>0,1,0)","v":0},null,null,null,null,null,null,{"$f":"SUM(F76,H76,J76)","v":0},{"$f":"SUM(G76,I76,K76)","v":0}]
[{"$f":"Pantomime!A66","v":"N-503"},{"$f":"VLOOKUP(Table710121314[[#This Row],[ID]],Pantomime!A:F,6,FALSE)","v":0},{"$f":"Pantomime!U66","v":0},{"$f":"Pantomime!S66","v":0},{"$f":"IF((Table710121314[[#This Row],[Rank]]+Table710121314[[#This Row],[Score]])>0,1,0)","v":0},null,null,null,null,null,null,{"$f":"SUM(F77,H77,J77)","v":0},{"$f":"SUM(G77,I77,K77)","v":0}]
[{"$f":"Pantomime!A67","v":"N-504"},{"$f":"VLOOKUP(Table710121314[[#This Row],[ID]],Pantomime!A:F,6,FALSE)","v":0},{"$f":"Pantomime!U67","v":0},{"$f":"Pantomime!S67","v":0},{"$f":"IF((Table710121314[[#This Row],[Rank]]+Table710121314[[#This Row],[Score]])>0,1,0)","v":0},null,null,null,null,null,null,{"$f":"SUM(F78,H78,J78)","v":0},{"$f":"SUM(G78,I78,K78)","v":0}]
[{"$f":"Pantomime!A69","v":"P-501"},{"$f":"VLOOKUP(Table710121314[[#This Row],[ID]],Pantomime!A:F,6,FALSE)","v":0},{"$f":"Pantomime!U69","v":0},{"$f":"Pantomime!S69","v":0},{"$f":"IF((Table710121314[[#This Row],[Rank]]+Table710121314[[#This Row],[Score]])>0,1,0)","v":0},null,null,null,null,null,null,{"$f":"SUM(F79,H79,J79)","v":0},{"$f":"SUM(G79,I79,K79)","v":0}]
[{"$f":"Pantomime!A70","v":"P-502"},{"$f":"VLOOKUP(Table710121314[[#This Row],[ID]],Pantomime!A:F,6,FALSE)","v":0},{"$f":"Pantomime!U70","v":0},{"$f":"Pantomime!S70","v":0},{"$f":"IF((Table710121314[[#This Row],[Rank]]+Table710121314[[#This Row],[Score]])>0,1,0)","v":0},null,null,null,null,null,null,{"$f":"SUM(F80,H80,J80)","v":0},{"$f":"SUM(G80,I80,K80)","v":0}]
[{"$f":"Pantomime!A71","v":"P-503"},{"$f":"VLOOKUP(Table710121314[[#This Row],[ID]],Pantomime!A:F,6,FALSE)","v":0},{"$f":"Pantomime!U71","v":0},{"$f":"Pantomime!S71","v":0},{"$f":"IF((Table710121314[[#This Row],[Rank]]+Table710121314[[#This Row],[Score]])>0,1,0)","v":0},null,null,null,null,null,null,{"$f":"SUM(F81,H81,J81)","v":0},{"$f":"SUM(G81,I81,K81)","v":0}]
[{"$f":"Pantomime!A72","v":"P-504"},{"$f":"VLOOKUP(Table710121314[[#This Row],[ID]],Pantomime!A:F,6,FALSE)","v":0},{"$f":"Pantomime!U72","v":0},{"$f":"Pantomime!S72","v":0},{"$f":"IF((Table710121314[[#This Row],[Rank]]+Table710121314[[#This Row],[Score]])>0,1,0)","v":0},null,null,null,null,null,null,{"$f":"SUM(F82,H82,J82)","v":0},{"$f":"SUM(G82,I82,K82)","v":0}]
[{"$f":"Pantomime!A74","v":"Q-501"},{"$f":"VLOOKUP(Table710121314[[#This Row],[ID]],Pantomime!A:F,6,FALSE)","v":0},{"$f":"Pantomime!U74","v":0},{"$f":"Pantomime!S74","v":0},{"$f":"IF((Table710121314[[#This Row],[Rank]]+Table710121314[[#This Row],[Score]])>0,1,0)","v":0},null,null,null,null,null,null,{"$f":"SUM(F83,H83,J83)","v":0},{"$f":"SUM(G83,I83,K83)","v":0}]
[{"$f":"Pantomime!A75","v":"Q-502"},{"$f":"VLOOKUP(Table710121314[[#This Row],[ID]],Pantomime!A:F,6,FALSE)","v":0},{"$f":"Pantomime!U75","v":0},{"$f":"Pantomime!S75","v":0},{"$f":"IF((Table710121314[[#This Row],[Rank]]+Table710121314[[#This Row],[Score]])>0,1,0)","v":0},null,null,null,null,null,null,{"$f":"SUM(F84,H84,J84)","v":0},{"$f":"SUM(G84,I84,K84)","v":0}]
[{"$f":"Pantomime!A76","v":"Q-502"},{"$f":"VLOOKUP(Table710121314[[#This Row],[ID]],Pantomime!A:F,6,FALSE)","v":0},{"$f":"Pantomime!U76","v":0},{"$f":"Pantomime!S76","v":0},{"$f":"IF((Table710121314[[#This Row],[Rank]]+Table710121314[[#This Row],[Score]])>0,1,0)","v":0},null,null,null,null,null,null,{"$f":"SUM(F85,H85,J85)","v":0},{"$f":"SUM(G85,I85,K85)","v":0}]
[{"$f":"Pantomime!A77","v":"Q-504"},{"$f":"VLOOKUP(Table710121314[[#This Row],[ID]],Pantomime!A:F,6,FALSE)","v":0},{"$f":"Pantomime!U77","v":0},{"$f":"Pantomime!S77","v":0},{"$f":"IF((Table710121314[[#This Row],[Rank]]+Table710121314[[#This Row],[Score]])>0,1,0)","v":0},null,null,null,null,null,null,{"$f":"SUM(F86,H86,J86)","v":0},{"$f":"SUM(G86,I86,K86)","v":0}]
[{"$f":"Pantomime!A79","v":"R-501"},{"$f":"VLOOKUP(Table710121314[[#This Row],[ID]],Pantomime!A:F,6,FALSE)","v":0},{"$f":"Pantomime!U79","v":0},{"$f":"Pantomime!S79","v":0},{"$f":"IF((Table710121314[[#This Row],[Rank]]+Table710121314[[#This Row],[Score]])>0,1,0)","v":0},null,null,null,null,null,null,{"$f":"SUM(F87,H87,J87)","v":0},{"$f":"SUM(G87,I87,K87)","v":0}]
[{"$f":"Pantomime!A80","v":"R-502"},{"$f":"VLOOKUP(Table710121314[[#This Row],[ID]],Pantomime!A:F,6,FALSE)","v":0},{"$f":"Pantomime!U80","v":0},{"$f":"Pantomime!S80","v":0},{"$f":"IF((Table710121314[[#This Row],[Rank]]+Table710121314[[#This Row],[Score]])>0,1,0)","v":0},null,null,null,null,null,null,{"$f":"SUM(F88,H88,J88)","v":0},{"$f":"SUM(G88,I88,K88)","v":0}]
[{"$f":"Pantomime!A81","v":"R-503"},{"$f":"VLOOKUP(Table710121314[[#This Row],[ID]],Pantomime!A:F,6,FALSE)","v":0},{"$f":"Pantomime!U81","v":0},{"$f":"Pantomime!S81","v":0},{"$f":"IF((Table710121314[[#This Row],[Rank]]+Table710121314[[#This Row],[Score]])>0,1,0)","v":0},null,null,null,null,null,null,{"$f":"SUM(F89,H89,J89)","v":0},{"$f":"SUM(G89,I89,K89)","v":0}]
[{"$f":"Pantomime!A82","v":"R-504"},{"$f":"VLOOKUP(Table710121314[[#This Row],[ID]],Pantomime!A:F,6,FALSE)","v":0},{"$f":"Pantomime!U82","v":0},{"$f":"Pantomime!S82","v":0},{"$f":"IF((Table710121314[[#This Row],[Rank]]+Table710121314[[#This Row],[Score]])>0,1,0)","v":0},null,null,null,null,null,null,{"$f":"SUM(F90,H90,J90)","v":0},{"$f":"SUM(G90,I90,K90)","v":0}]
[{"$f":"Pantomime!A84","v":"S-501"},{"$f":"VLOOKUP(Table710121314[[#This Row],[ID]],Pantomime!A:F,6,FALSE)","v":0},{"$f":"Pantomime!U84","v":0},{"$f":"Pantomime!S84","v":0},{"$f":"IF((Table710121314[[#This Row],[Rank]]+Table710121314[[#This Row],[Score]])>0,1,0)","v":0},null,null,null,null,null,null,{"$f":"SUM(F91,H91,J91)","v":0},{"$f":"SUM(G91,I91,K91)","v":0}]
[{"$f":"Pantomime!A85","v":"S-502"},{"$f":"VLOOKUP(Table710121314[[#This Row],[ID]],Pantomime!A:F,6,FALSE)","v":0},{"$f":"Pantomime!U85","v":0},{"$f":"Pantomime!S85","v":0},{"$f":"IF((Table710121314[[#This Row],[Rank]]+Table710121314[[#This Row],[Score]])>0,1,0)","v":0},null,null,null,null,null,null,{"$f":"SUM(F92,H92,J92)","v":0},{"$f":"SUM(G92,I92,K92)","v":0}]
[{"$f":"Pantomime!A86","v":"S-503"},{"$f":"VLOOKUP(Table710121314[[#This Row],[ID]],Pantomime!A:F,6,FALSE)","v":0},{"$f":"Pantomime!U86","v":0},{"$f":"Pantomime!S86","v":0},{"$f":"IF((Table710121314[[#This Row],[Rank]]+Table710121314[[#This Row],[Score]])>0,1,0)","v":0},null,null,null,null,null,null,{"$f":"SUM(F93,H93,J93)","v":0},{"$f":"SUM(G93,I93,K93)","v":0}]
[{"$f":"Pantomime!A87","v":"S-504"},{"$f":"VLOOKUP(Table710121314[[#This Row],[ID]],Pantomime!A:F,6,FALSE)","v":0},{"$f":"Pantomime!U87","v":0},{"$f":"Pantomime!S87","v":0},{"$f":"IF((Table710121314[[#This Row],[Rank]]+Table710121314[[#This Row],[Score]])>0,1,0)","v":0},null,null,null,null,null,null,{"$f":"SUM(F94,H94,J94)","v":0},{"$f":"SUM(G94,I94,K94)","v":0}]
[{"$f":"Pantomime!A89","v":"T-501"},{"$f":"VLOOKUP(Table710121314[[#This Row],[ID]],Pantomime!A:F,6,FALSE)","v":0},{"$f":"Pantomime!U89","v":0},{"$f":"Pantomime!S89","v":0},{"$f":"IF((Table710121314[[#This Row],[Rank]]+Table710121314[[#This Row],[Score]])>0,1,0)","v":0},null,null,null,null,null,null,{"$f":"SUM(F95,H95,J95)","v":0},{"$f":"SUM(G95,I95,K95)","v":0}]
[{"$f":"Pantomime!A90","v":"T-502"},{"$f":"VLOOKUP(Table710121314[[#This Row],[ID]],Pantomime!A:F,6,FALSE)","v":0},{"$f":"Pantomime!U90","v":0},{"$f":"Pantomime!S90","v":0},{"$f":"IF((Table710121314[[#This Row],[Rank]]+Table710121314[[#This Row],[Score]])>0,1,0)","v":0},null,null,null,null,null,null,{"$f":"SUM(F96,H96,J96)","v":0},{"$f":"SUM(G96,I96,K96)","v":0}]
[{"$f":"Pantomime!A91","v":"T-503"},{"$f":"VLOOKUP(Table710121314[[#This Row],[ID]],Pantomime!A:F,6,FALSE)","v":0},{"$f":"Pantomime!U91","v":0},{"$f":"Pantomime!S91","v":0},{"$f":"IF((Table710121314[[#This Row],[Rank]]+Table710121314[[#This Row],[Score]])>0,1,0)","v":0},null,null,null,null,null,null,{"$f":"SUM(F97,H97,J97)","v":0},{"$f":"SUM(G97,I97,K97)","v":0}]
[{"$f":"Pantomime!A92","v":"T-504"},{"$f":"VLOOKUP(Table710121314[[#This Row],[ID]],Pantomime!A:F,6,FALSE)","v":0},{"$f":"Pantomime!U92","v":0},{"$f":"Pantomime!S92","v":0},{"$f":"IF((Table710121314[[#This Row],[Rank]]+Table710121314[[#This Row],[Score]])>0,1,0)","v":0},null,null,null,null,null,null,{"$f":"SUM(F98,H98,J98)","v":0},{"$f":"SUM(G98,I98,K98)","v":0}]
[{"$f":"Pantomime!A94","v":"U-501"},{"$f":"VLOOKUP(Table710121314[[#This Row],[ID]],Pantomime!A:F,6,FALSE)","v":0},{"$f":"Pantomime!U94","v":0},{"$f":"Pantomime!S94","v":0},{"$f":"IF((Table710121314[[#This Row],[Rank]]+Table710121314[[#This Row],[Score]])>0,1,0)","v":0},null,null,null,null,null,null,{"$f":"SUM(F99,H99,J99)","v":0},{"$f":"SUM(G99,I99,K99)","v":0}]
[{"$f":"Pantomime!A95","v":"U-502"},{"$f":"VLOOKUP(Table710121314[[#This Row],[ID]],Pantomime!A:F,6,FALSE)","v":0},{"$f":"Pantomime!U95","v":0},{"$f":"Pantomime!S95","v":0},{"$f":"IF((Table710121314[[#This Row],[Rank]]+Table710121314[[#This Row],[Score]])>0,1,0)","v":0},null,null,null,null,null,null,{"$f":"SUM(F100,H100,J100)","v":0},{"$f":"SUM(G100,I100,K100)","v":0}]
[{"$f":"Pantomime!A96","v":"U-503"},{"$f":"VLOOKUP(Table710121314[[#This Row],[ID]],Pantomime!A:F,6,FALSE)","v":0},{"$f":"Pantomime!U96","v":0},{"$f":"Pantomime!S96","v":0},{"$f":"IF((Table710121314[[#This Row],[Rank]]+Table710121314[[#This Row],[Score]])>0,1,0)","v":0},null,null,null,null,null,null,{"$f":"SUM(F101,H101,J101)","v":0},{"$f":"SUM(G101,I101,K101)","v":0}]
[{"$f":"Pantomime!A97","v":"U-504"},{"$f":"VLOOKUP(Table710121314[[#This Row],[ID]],Pantomime!A:F,6,FALSE)","v":0},{"$f":"Pantomime!U97","v":0},{"$f":"Pantomime!S97","v":0},{"$f":"IF((Table710121314[[#This Row],[Rank]]+Table710121314[[#This Row],[Score]])>0,1,0)","v":0},null,null,null,null,null,null,{"$f":"SUM(F102,H102,J102)","v":0},{"$f":"SUM(G102,I102,K102)","v":0}]
[{"$f":"Pantomime!A99","v":"V-501"},{"$f":"VLOOKUP(Table710121314[[#This Row],[ID]],Pantomime!A:F,6,FALSE)","v":0},{"$f":"Pantomime!U99","v":0},{"$f":"Pantomime!S99","v":0},{"$f":"IF((Table710121314[[#This Row],[Rank]]+Table710121314[[#This Row],[Score]])>0,1,0)","v":0},null,null,null,null,null,null,{"$f":"SUM(F103,H103,J103)","v":0},{"$f":"SUM(G103,I103,K103)","v":0}]
[{"$f":"Pantomime!A100","v":"V-502"},{"$f":"VLOOKUP(Table710121314[[#This Row],[ID]],Pantomime!A:F,6,FALSE)","v":0},{"$f":"Pantomime!U100","v":0},{"$f":"Pantomime!S100","v":0},{"$f":"IF((Table710121314[[#This Row],[Rank]]+Table710121314[[#This Row],[Score]])>0,1,0)","v":0},null,null,null,null,null,null,{"$f":"SUM(F104,H104,J104)","v":0},{"$f":"SUM(G104,I104,K104)","v":0}]
[{"$f":"Pantomime!A101","v":"V-503"},{"$f":"VLOOKUP(Table710121314[[#This Row],[ID]],Pantomime!A:F,6,FALSE)","v":0},{"$f":"Pantomime!U101","v":0},{"$f":"Pantomime!S101","v":0},{"$f":"IF((Table710121314[[#This Row],[Rank]]+Table710121314[[#This Row],[Score]])>0,1,0)","v":0},null,null,null,null,null,null,{"$f":"SUM(F105,H105,J105)","v":0},{"$f":"SUM(G105,I105,K105)","v":0}]
[{"$f":"Pantomime!A102","v":"V-504"},{"$f":"VLOOKUP(Table710121314[[#This Row],[ID]],Pantomime!A:F,6,FALSE)","v":0},{"$f":"Pantomime!U102","v":0},{"$f":"Pantomime!S102","v":0},{"$f":"IF((Table710121314[[#This Row],[Rank]]+Table710121314[[#This Row],[Score]])>0,1,0)","v":0},null,null,null,null,null,null,{"$f":"SUM(F106,H106,J106)","v":0},{"$f":"SUM(G106,I106,K106)","v":0}]
[{"$f":"Pantomime!A104","v":"W-501"},{"$f":"VLOOKUP(Table710121314[[#This Row],[ID]],Pantomime!A:F,6,FALSE)","v":0},{"$f":"Pantomime!U104","v":0},{"$f":"Pantomime!S104","v":0},{"$f":"IF((Table710121314[[#This Row],[Rank]]+Table710121314[[#This Row],[Score]])>0,1,0)","v":0},null,null,null,null,null,null,{"$f":"SUM(F107,H107,J107)","v":0},{"$f":"SUM(G107,I107,K107)","v":0}]
[{"$f":"Pantomime!A105","v":"W-502"},{"$f":"VLOOKUP(Table710121314[[#This Row],[ID]],Pantomime!A:F,6,FALSE)","v":0},{"$f":"Pantomime!U105","v":0},{"$f":"Pantomime!S105","v":0},{"$f":"IF((Table710121314[[#This Row],[Rank]]+Table710121314[[#This Row],[Score]])>0,1,0)","v":0},null,null,null,null,null,null,{"$f":"SUM(F108,H108,J108)","v":0},{"$f":"SUM(G108,I108,K108)","v":0}]
[{"$f":"Pantomime!A106","v":"W-503"},{"$f":"VLOOKUP(Table710121314[[#This Row],[ID]],Pantomime!A:F,6,FALSE)","v":0},{"$f":"Pantomime!U106","v":0},{"$f":"Pantomime!S106","v":0},{"$f":"IF((Table710121314[[#This Row],[Rank]]+Table710121314[[#This Row],[Score]])>0,1,0)","v":0},null,null,null,null,null,null,{"$f":"SUM(F109,H109,J109)","v":0},{"$f":"SUM(G109,I109,K109)","v":0}]
[{"$f":"Pantomime!A107","v":"W-504"},{"$f":"VLOOKUP(Table710121314[[#This Row],[ID]],Pantomime!A:F,6,FALSE)","v":0},{"$f":"Pantomime!U107","v":0},{"$f":"Pantomime!S107","v":0},{"$f":"IF((Table710121314[[#This Row],[Rank]]+Table710121314[[#This Row],[Score]])>0,1,0)","v":0},null,null,null,null,null,null,{"$f":"SUM(F110,H110,J110)","v":0},{"$f":"SUM(G110,I110,K110)","v":0}]
[{"$f":"Pantomime!A109","v":"X-501"},{"$f":"VLOOKUP(Table710121314[[#This Row],[ID]],Pantomime!A:F,6,FALSE)","v":0},{"$f":"Pantomime!U109","v":0},{"$f":"Pantomime!S109","v":0},{"$f":"IF((Table710121314[[#This Row],[Rank]]+Table710121314[[#This Row],[Score]])>0,1,0)","v":0},null,null,null,null,null,null,{"$f":"SUM(F111,H111,J111)","v":0},{"$f":"SUM(G111,I111,K111)","v":0}]
[{"$f":"Pantomime!A110","v":"X-502"},{"$f":"VLOOKUP(Table710121314[[#This Row],[ID]],Pantomime!A:F,6,FALSE)","v":0},{"$f":"Pantomime!U110","v":0},{"$f":"Pantomime!S110","v":0},{"$f":"IF((Table710121314[[#This Row],[Rank]]+Table710121314[[#This Row],[Score]])>0,1,0)","v":0},null,null,null,null,null,null,{"$f":"SUM(F112,H112,J112)","v":0},{"$f":"SUM(G112,I112,K112)","v":0}]
[{"$f":"Pantomime!A111","v":"X-503"},{"$f":"VLOOKUP(Table710121314[[#This Row],[ID]],Pantomime!A:F,6,FALSE)","v":0},{"$f":"Pantomime!U111","v":0},{"$f":"Pantomime!S111","v":0},{"$f":"IF((Table710121314[[#This Row],[Rank]]+Table710121314[[#This Row],[Score]])>0,1,0)","v":0},null,null,null,null,null,null,{"$f":"SUM(F113,H113,J113)","v":0},{"$f":"SUM(G113,I113,K113)","v":0}]
[{"$f":"Pantomime!A112","v":"X-504"},{"$f":"VLOOKUP(Table710121314[[#This Row],[ID]],Pantomime!A:F,6,FALSE)","v":0},{"$f":"Pantomime!U112","v":0},{"$f":"Pantomime!S112","v":0},{"$f":"IF((Table710121314[[#This Row],[Rank]]+Table710121314[[#This Row],[Score]])>0,1,0)","v":0},null,null,null,null,null,null,{"$f":"SUM(F114,H114,J114)","v":0},{"$f":"SUM(G114,I114,K114)","v":0}]
[{"$f":"Pantomime!A114","v":"Y-501"},{"$f":"VLOOKUP(Table710121314[[#This Row],[ID]],Pantomime!A:F,6,FALSE)","v":0},{"$f":"Pantomime!U114","v":0},{"$f":"Pantomime!S114","v":0},{"$f":"IF((Table710121314[[#This Row],[Rank]]+Table710121314[[#This Row],[Score]])>0,1,0)","v":0},null,null,null,null,null,null,{"$f":"SUM(F115,H115,J115)","v":0},{"$f":"SUM(G115,I115,K115)","v":0}]
[{"$f":"Pantomime!A115","v":"Y-502"},{"$f":"VLOOKUP(Table710121314[[#This Row],[ID]],Pantomime!A:F,6,FALSE)","v":0},{"$f":"Pantomime!U115","v":0},{"$f":"Pantomime!S115","v":0},{"$f":"IF((Table710121314[[#This Row],[Rank]]+Table710121314[[#This Row],[Score]])>0,1,0)","v":0},null,null,null,null,null,null,{"$f":"SUM(F116,H116,J116)","v":0},{"$f":"SUM(G116,I116,K116)","v":0}]
[{"$f":"Pantomime!A116","v":"Y-503"},{"$f":"VLOOKUP(Table710121314[[#This Row],[ID]],Pantomime!A:F,6,FALSE)","v":0},{"$f":"Pantomime!U116","v":0},{"$f":"Pantomime!S116","v":0},{"$f":"IF((Table710121314[[#This Row],[Rank]]+Table710121314[[#This Row],[Score]])>0,1,0)","v":0},null,null,null,null,null,null,{"$f":"SUM(F117,H117,J117)","v":0},{"$f":"SUM(G117,I117,K117)","v":0}]
[{"$f":"Pantomime!A117","v":"Y-504"},{"$f":"VLOOKUP(Table710121314[[#This Row],[ID]],Pantomime!A:F,6,FALSE)","v":0},{"$f":"Pantomime!U117","v":0},{"$f":"Pantomime!S117","v":0},{"$f":"IF((Table710121314[[#This Row],[Rank]]+Table710121314[[#This Row],[Score]])>0,1,0)","v":0},null,null,null,null,null,null,{"$f":"SUM(F118,H118,J118)","v":0},{"$f":"SUM(G118,I118,K118)","v":0}]
[{"$f":"Pantomime!A119","v":"Z-501"},{"$f":"VLOOKUP(Table710121314[[#This Row],[ID]],Pantomime!A:F,6,FALSE)","v":0},{"$f":"Pantomime!U119","v":0},{"$f":"Pantomime!S119","v":0},{"$f":"IF((Table710121314[[#This Row],[Rank]]+Table710121314[[#This Row],[Score]])>0,1,0)","v":0},null,null,null,null,null,null,{"$f":"SUM(F119,H119,J119)","v":0},{"$f":"SUM(G119,I119,K119)","v":0}]
[{"$f":"Pantomime!A120","v":"Z-502"},{"$f":"VLOOKUP(Table710121314[[#This Row],[ID]],Pantomime!A:F,6,FALSE)","v":0},{"$f":"Pantomime!U120","v":0},{"$f":"Pantomime!S120","v":0},{"$f":"IF((Table710121314[[#This Row],[Rank]]+Table710121314[[#This Row],[Score]])>0,1,0)","v":0},null,null,null,null,null,null,{"$f":"SUM(F120,H120,J120)","v":0},{"$f":"SUM(G120,I120,K120)","v":0}]
[{"$f":"Pantomime!A121","v":"Z-503"},{"$f":"VLOOKUP(Table710121314[[#This Row],[ID]],Pantomime!A:F,6,FALSE)","v":0},{"$f":"Pantomime!U121","v":0},{"$f":"Pantomime!S121","v":0},{"$f":"IF((Table710121314[[#This Row],[Rank]]+Table710121314[[#This Row],[Score]])>0,1,0)","v":0},null,null,null,null,null,null,{"$f":"SUM(F121,H121,J121)","v":0},{"$f":"SUM(G121,I121,K121)","v":0}]
[{"$f":"Pantomime!A122","v":"Z-504"},{"$f":"VLOOKUP(Table710121314[[#This Row],[ID]],Pantomime!A:F,6,FALSE)","v":0},{"$f":"Pantomime!U122","v":0},{"$f":"Pantomime!S122","v":0},{"$f":"IF((Table710121314[[#This Row],[Rank]]+Table710121314[[#This Row],[Score]])>0,1,0)","v":0},null,null,null,null,null,null,{"$f":"SUM(F122,H122,J122)","v":0},{"$f":"SUM(G122,I122,K122)","v":0}]

{"sheet":"MusicalTheatre","index":11,"n_rows":152,"n_cols":31,"rows_kept":152,"cut":false,"hidden":false,"merged":[]}
["Musical Theatre",null,null,null,null,null,null,null,null,null,"Rank 1-4",null,null,null,null,null,null,null,null,null,null,null,null,"S","E","G","F",null,"1violation","2violations","3violations"]
[null,null,null,null,null,null,null,null,null,null,"Round 1:",null,"Round 2:",null,"Round 3:",null,"-2 for each",null,null,null,null,null,null,null,null,null,null,"Drops lowest from column q"]
[null,"Student Name",null,"Student Name",null,"Student Name",null,"Student Name",null,"Title of Piece","R1 rank","R1 score","R2 rank","R2 score","R3 rank","R3 score","Time Violations",null,"TOTAL SCORE",null,"TOTAL RANK",null,null,"TOTAL SCHOOL SWEEPS POINTS",null,null,null,"Drop Lowest"]
["A-601","(711) Mary C.",null,null,null,null,null,null,null,"\"When He Sees Me\"",2,25,2,25,3,20,null,{"$f":"IF(Q4=\"1violation\",-7*1,IF(Q4=\"2violations\",-7*2,IF(Q4=\"3violations\",-7*3,IF(Q4=\"\",\"\"))))","v":""},{"$f":"SUM(L4,N4,P4,R4)","v":70},null,{"$f":"SUM(K4,M4,O4)","v":7},null,null,null,{"$f":"SUM(S4,S6,S5,S7,-AB4)","v":200},null,null,{"$f":"MIN(S4:S7)","v":0}]
["A-602","(712) Marcus P.",null,null,null,null,null,null,null,"\"Where is Love\"",2,24,1,23,4,21,null,{"$f":"IF(Q5=\"1violation\",-7*1,IF(Q5=\"2violations\",-7*2,IF(Q5=\"3violations\",-7*3,IF(Q5=\"\",\"\"))))","v":""},{"$f":"SUM(L5,N5,P5,R5)","v":68},null,{"$f":"SUM(K5,M5,O5)","v":7}]
["A-603","(713) Sarah B.",null,null,null,null,null,null,null,"\"Always the Bridesmaid\"",3,22,4,17,4,23,null,"",{"$f":"SUM(L6,N6,P6,R6)","v":62},null,{"$f":"SUM(K6,M6,O6)","v":11}]
["A-604",null,null,null,null,null,null,null,null,null,null,null,null,null,null,null,null,"",{"$f":"SUM(L7,N7,P7,R7)","v":0},null,{"$f":"SUM(K7,M7,O7)","v":0}]
[]
["B-601","(700) Courtney Houston",null,null,null,null,null,null,null,"\"With You\"",1,25,3,18,1,25,null,"",{"$f":"SUM(L9,N9,P9,R9)","v":68},null,{"$f":"SUM(K9,M9,O9)","v":5},null,null,null,{"$f":"SUM(S9,S11,S10,S12,-AB9)","v":212},null,null,{"$f":"MIN(S9:S12)","v":66}]
["B-602","(701) Chynna Anderson",null,"Ella Hughes",null,null,null,null,null,"\"Watch What Happens\"",4,20,4,23,4,23,null,"",{"$f":"SUM(L10,N10,P10,R10)","v":66},null,{"$f":"SUM(K10,M10,O10)","v":12}]
["B-603","(702) Jaren Henrie",null,"Gabe Sarles",null,null,null,null,null,"\"Dear Theadosa\"",1,23,2,22,3,24,null,"",{"$f":"SUM(L11,N11,P11,R11)","v":69},null,{"$f":"SUM(K11,M11,O11)","v":6}]
["B-604","(703) Kam Petsche",null,null,null,null,null,null,null,"\"Confrontation\"",1,25,1,25,1,25,null,"",{"$f":"SUM(L12,N12,P12,R12)","v":75},null,{"$f":"SUM(K12,M12,O12)","v":3}]
[]
["C-601","(707) Brooklyn Clark",null,"Katie Wilson",null,null,null,null,null,"\"End of the Line\"",4,23,3,19,3,23,null,"",{"$f":"SUM(L14,N14,P14,R14)","v":65},null,{"$f":"SUM(K14,M14,O14)","v":10},null,null,null,{"$f":"SUM(S14,S16,S15,S17,-AB14)","v":196},null,null,{"$f":"MIN(S14:S17)","v":0}]
["C-602","(708) Jackie Leavitt",null,null,null,null,null,null,null,"\"Little Girls\"",2,23,3,24,4,20,null,"",{"$f":"SUM(L15,N15,P15,R15)","v":67},null,{"$f":"SUM(K15,M15,O15)","v":9}]
["C-603","(709) C.J. Torgerson",null,null,null,null,null,null,null,"\"Being Alive\"",null,null,null,null,null,null,null,"",{"$f":"SUM(L16,N16,P16,R16)","v":0},null,{"$f":"SUM(K16,M16,O16)","v":0}]
["C-604","(710) Kassen Pace",null,null,null,null,null,null,null,"\"Dead Mom\"",4,22,4,18,2,24,null,"",{"$f":"SUM(L17,N17,P17,R17)","v":64},null,{"$f":"SUM(K17,M17,O17)","v":10}]
[]
["D-601","(706) Melinda Grimstead",null,null,null,null,null,null,null,"\"When He Sees Me\"",4,22,4,18,2,21,null,"",{"$f":"SUM(L19,N19,P19,R19)","v":61},null,{"$f":"SUM(K19,M19,O19)","v":10},null,null,null,{"$f":"SUM(S19,S21,S20,S22,-AB19)","v":194},null,null,{"$f":"MIN(S19:S22)","v":0}]
["D-602","(714) Eloisa Thornock",null,null,null,null,null,null,null,"\"Worst Thing I Could Do\"",4,19,4,19,4,21,null,"",{"$f":"SUM(L20,N20,P20,R20)","v":59},null,{"$f":"SUM(K20,M20,O20)","v":12}]
["D-603","(716) Mary Anderson",null,null,null,null,null,null,null,"\"My Grand Plan\"",3,25,1,24,1,25,null,"",{"$f":"SUM(L21,N21,P21,R21)","v":74},null,{"$f":"SUM(K21,M21,O21)","v":5}]
["D-604",null,null,null,null,null,null,null,null,null,null,null,null,null,null,null,null,"",{"$f":"SUM(L22,N22,P22,R22)","v":0},null,{"$f":"SUM(K22,M22,O22)","v":0}]
[]
["E-601","(704) Alex Osterhout",null,null,null,null,null,null,null,"\"Farquaad\"",4,21,2,19,4,18,null,"",{"$f":"SUM(L24,N24,P24,R24)","v":58},null,{"$f":"SUM(K24,M24,O24)","v":10},null,null,null,{"$f":"SUM(S24,S26,S25,S27,-AB24)","v":125},null,null,{"$f":"MIN(S24:S27)","v":0}]
["E-602","(705) Hazel Harris",null,null,null,null,null,null,null,"\"Little Girls\"",3,23,4,19,2,25,null,"",{"$f":"SUM(L25,N25,P25,R25)","v":67},null,{"$f":"SUM(K25,M25,O25)","v":9}]
["E-603",null,null,null,null,null,null,null,null,null,null,null,null,null,null,null,null,"",{"$f":"SUM(L26,N26,P26,R26)","v":0},null,{"$f":"SUM(K26,M26,O26)","v":0}]
["E-604",null,null,null,null,null,null,null,null,null,null,null,null,null,null,null,null,"",{"$f":"SUM(L27,N27,P27,R27)","v":0},null,{"$f":"SUM(K27,M27,O27)","v":0}]
[]
["F-601",null,null,null,null,null,null,null,null,null,null,null,null,null,null,null,null,"",{"$f":"SUM(L29,N29,P29,R29)","v":0},null,{"$f":"SUM(K29,M29,O29)","v":0},null,null,null,{"$f":"SUM(S29,S31,S30,S32,-AB29)","v":0},null,null,{"$f":"MIN(S29:S32)","v":0}]
["F-602",null,null,null,null,null,null,null,null,null,null,null,null,null,null,null,null,"",{"$f":"SUM(L30,N30,P30,R30)","v":0},null,{"$f":"SUM(K30,M30,O30)","v":0}]
["F-603",null,null,null,null,null,null,null,null,null,null,null,null,null,null,null,null,"",{"$f":"SUM(L31,N31,P31,R31)","v":0},null,{"$f":"SUM(K31,M31,O31)","v":0}]
["F-604",null,null,null,null,null,null,null,null,null,null,null,null,null,null,null,null,"",{"$f":"SUM(L32,N32,P32,R32)","v":0},null,{"$f":"SUM(K32,M32,O32)","v":0}]
[]
["G-601",null,null,null,null,null,null,null,null,null,null,null,null,null,null,null,null,"",{"$f":"SUM(L34,N34,P34,R34)","v":0},null,{"$f":"SUM(K34,M34,O34)","v":0},null,null,null,{"$f":"SUM(S34,S36,S35,S37,-AB34)","v":0},null,null,{"$f":"MIN(S34:S37)","v":0}]
["G-602",null,null,null,null,null,null,null,null,null,null,null,null,null,null,null,null,"",{"$f":"SUM(L35,N35,P35,R35)","v":0},null,{"$f":"SUM(K35,M35,O35)","v":0}]
["G-603",null,null,null,null,null,null,null,null,null,null,null,null,null,null,null,null,"",{"$f":"SUM(L36,N36,P36,R36)","v":0},null,{"$f":"SUM(K36,M36,O36)","v":0}]
["G-604",null,null,null,null,null,null,null,null,null,null,null,null,null,null,null,null,"",{"$f":"SUM(L37,N37,P37,R37)","v":0},null,{"$f":"SUM(K37,M37,O37)","v":0}]
[]
["H-601","(715) Yudnely Avelar",null,null,null,null,null,null,null,"\"Someone Like You\"",4,22,4,18,4,24,null,"",{"$f":"SUM(L39,N39,P39,R39)","v":64},null,{"$f":"SUM(K39,M39,O39)","v":12},null,null,null,{"$f":"SUM(S39,S41,S40,S42,-AB39)","v":64},null,null,{"$f":"MIN(S39:S42)","v":0}]
["H-602",null,null,null,null,null,null,null,null,null,null,null,null,null,null,null,null,"",{"$f":"SUM(L40,N40,P40,R40)","v":0},null,{"$f":"SUM(K40,M40,O40)","v":0}]
["H-603",null,null,null,null,null,null,null,null,null,null,null,null,null,null,null,null,"",{"$f":"SUM(L41,N41,P41,R41)","v":0},null,{"$f":"SUM(K41,M41,O41)","v":0}]
["H-604",null,null,null,null,null,null,null,null,null,null,null,null,null,null,null,null,"",{"$f":"SUM(L42,N42,P42,R42)","v":0},null,{"$f":"SUM(K42,M42,O42)","v":0}]
[]
["J-601",null,null,null,null,null,null,null,null,null,null,null,null,null,null,null,null,"",{"$f":"SUM(L44,N44,P44,R44)","v":0},null,{"$f":"SUM(K44,M44,O44)","v":0},null,null,null,{"$f":"SUM(S44,S46,S45,S47,-AB44)","v":0},null,null,{"$f":"MIN(S44:S47)","v":0}]
["J-602",null,null,null,null,null,null,null,null,null,null,null,null,null,null,null,null,"",{"$f":"SUM(L45,N45,P45,R45)","v":0},null,{"$f":"SUM(K45,M45,O45)","v":0}]
["J-603",null,null,null,null,null,null,null,null,null,null,null,null,null,null,null,null,"",{"$f":"SUM(L46,N46,P46,R46)","v":0},null,{"$f":"SUM(K46,M46,O46)","v":0}]
["J-604",null,null,null,null,null,null,null,null,null,null,null,null,null,null,null,null,"",{"$f":"SUM(L47,N47,P47,R47)","v":0},null,{"$f":"SUM(K47,M47,O47)","v":0}]
[]
["K-601",null,null,null,null,null,null,null,null,null,null,null,null,null,null,null,null,"",{"$f":"SUM(L49,N49,P49,R49)","v":0},null,{"$f":"SUM(K49,M49,O49)","v":0},null,null,null,{"$f":"SUM(S49,S51,S50,S52,-AB49)","v":0},null,null,{"$f":"MIN(S49:S52)","v":0}]
["K-602",null,null,null,null,null,null,null,null,null,null,null,null,null,null,null,null,"",{"$f":"SUM(L50,N50,P50,R50)","v":0},null,{"$f":"SUM(K50,M50,O50)","v":0}]
["K-603",null,null,null,null,null,null,null,null,null,null,null,null,null,null,null,null,"",{"$f":"SUM(L51,N51,P51,R51)","v":0},null,{"$f":"SUM(K51,M51,O51)","v":0}]
["K-604",null,null,null,null,null,null,null,null,null,null,null,null,null,null,null,null,"",{"$f":"SUM(L52,N52,P52,R52)","v":0},null,{"$f":"SUM(K52,M52,O52)","v":0}]
[]
["L-601",null,null,null,null,null,null,null,null,null,null,null,null,null,null,null,null,"",{"$f":"SUM(L54,N54,P54,R54)","v":0},null,{"$f":"SUM(K54,M54,O54)","v":0},null,null,null,{"$f":"SUM(S54,S56,S55,S57,-AB54)","v":0},null,null,{"$f":"MIN(S54:S57)","v":0}]
["L-602",null,null,null,null,null,null,null,null,null,null,null,null,null,null,null,null,"",{"$f":"SUM(L55,N55,P55,R55)","v":0},null,{"$f":"SUM(K55,M55,O55)","v":0}]
["L-603",null,null,null,null,null,null,null,null,null,null,null,null,null,null,null,null,"",{"$f":"SUM(L56,N56,P56,R56)","v":0},null,{"$f":"SUM(K56,M56,O56)","v":0}]
["L-604",null,null,null,null,null,null,null,null,null,null,null,null,null,null,null,null,"",{"$f":"SUM(L57,N57,P57,R57)","v":0},null,{"$f":"SUM(K57,M57,O57)","v":0}]
[]
["M-601",null,null,null,null,null,null,null,null,null,null,null,null,null,null,null,null,"",{"$f":"SUM(L59,N59,P59,R59)","v":0},null,{"$f":"SUM(K59,M59,O59)","v":0},null,null,null,{"$f":"SUM(S59,S61,S60,S62,-AB59)","v":0},null,null,{"$f":"MIN(S59:S62)","v":0}]
["M-602",null,null,null,null,null,null,null,null,null,null,null,null,null,null,null,null,"",{"$f":"SUM(L60,N60,P60,R60)","v":0},null,{"$f":"SUM(K60,M60,O60)","v":0}]
["M-603",null,null,null,null,null,null,null,null,null,null,null,null,null,null,null,null,"",{"$f":"SUM(L61,N61,P61,R61)","v":0},null,{"$f":"SUM(K61,M61,O61)","v":0}]
["M-604",null,null,null,null,null,null,null,null,null,null,null,null,null,null,null,null,"",{"$f":"SUM(L62,N62,P62,R62)","v":0},null,{"$f":"SUM(K62,M62,O62)","v":0}]
[]
["N-601",null,null,null,null,null,null,null,null,null,null,null,null,null,null,null,null,"",{"$f":"SUM(L64,N64,P64,R64)","v":0},null,{"$f":"SUM(K64,M64,O64)","v":0},null,null,null,{"$f":"SUM(S64,S66,S65,S67,-AB64)","v":0},null,null,{"$f":"MIN(S64:S67)","v":0}]
["N-602",null,null,null,null,null,null,null,null,null,null,null,null,null,null,null,null,"",{"$f":"SUM(L65,N65,P65,R65)","v":0},null,{"$f":"SUM(K65,M65,O65)","v":0}]
["N-603",null,null,null,null,null,null,null,null,null,null,null,null,null,null,null,null,"",{"$f":"SUM(L66,N66,P66,R66)","v":0},null,{"$f":"SUM(K66,M66,O66)","v":0}]
["N-604",null,null,null,null,null,null,null,null,null,null,null,null,null,null,null,null,"",{"$f":"SUM(L67,N67,P67,R67)","v":0},null,{"$f":"SUM(K67,M67,O67)","v":0}]
[]
["P-601",null,null,null,null,null,null,null,null,null,null,null,null,null,null,null,null,{"$f":"IF(Q69=\"1violation\",-7*1,IF(Q69=\"2violations\",-7*2,IF(Q69=\"3violations\",-7*3,IF(Q69=\"\",\"\"))))","v":""},{"$f":"SUM(L69,N69,P69,R69)","v":0},null,{"$f":"SUM(K69,M69,O69)","v":0},null,null,null,{"$f":"SUM(S69,S71,S70,S72,-AB69)","v":0},null,null,{"$f":"MIN(S69:S72)","v":0}]
["P-602",null,null,null,null,null,null,null,null,null,null,null,null,null,null,null,null,"",{"$f":"SUM(L70,N70,P70,R70)","v":0},null,{"$f":"SUM(K70,M70,O70)","v":0}]
["P-603",null,null,null,null,null,null,null,null,null,null,null,null,null,null,null,null,"",{"$f":"SUM(L71,N71,P71,R71)","v":0},null,{"$f":"SUM(K71,M71,O71)","v":0}]
["P-604",null,null,null,null,null,null,null,null,null,null,null,null,null,null,null,null,"",{"$f":"SUM(L72,N72,P72,R72)","v":0},null,{"$f":"SUM(K72,M72,O72)","v":0}]
[]
["Q-601",null,null,null,null,null,null,null,null,null,null,null,null,null,null,null,null,"",{"$f":"SUM(L74,N74,P74,R74)","v":0},null,{"$f":"SUM(K74,M74,O74)","v":0},null,null,null,{"$f":"SUM(S74,S76,S75,S77,-AB74)","v":0},null,null,{"$f":"MIN(S74:S77)","v":0}]
["Q-602",null,null,null,null,null,null,null,null,null,null,null,null,null,null,null,null,"",{"$f":"SUM(L75,N75,P75,R75)","v":0},null,{"$f":"SUM(K75,M75,O75)","v":0}]
["Q-603",null,null,null,null,null,null,null,null,null,null,null,null,null,null,null,null,"",{"$f":"SUM(L76,N76,P76,R76)","v":0},null,{"$f":"SUM(K76,M76,O76)","v":0}]
["Q-604",null,null,null,null,null,null,null,null,null,null,null,null,null,null,null,null,"",{"$f":"SUM(L77,N77,P77,R77)","v":0},null,{"$f":"SUM(K77,M77,O77)","v":0}]
[]
["R-601",null,null,null,null,null,null,null,null,null,null,null,null,null,null,null,null,"",{"$f":"SUM(L79,N79,P79,R79)","v":0},null,{"$f":"SUM(K79,M79,O79)","v":0},null,null,null,{"$f":"SUM(S79,S81,S80,S82,-AB79)","v":0},null,null,{"$f":"MIN(S79:S82)","v":0}]
["R-602",null,null,null,null,null,null,null,null,null,null,null,null,null,null,null,null,"",{"$f":"SUM(L80,N80,P80,R80)","v":0},null,{"$f":"SUM(K80,M80,O80)","v":0}]
["R-603",null,null,null,null,null,null,null,null,null,null,null,null,null,null,null,null,"",{"$f":"SUM(L81,N81,P81,R81)","v":0},null,{"$f":"SUM(K81,M81,O81)","v":0}]
["R-604",null,null,null,null,null,null,null,null,null,null,null,null,null,null,null,null,"",{"$f":"SUM(L82,N82,P82,R82)","v":0},null,{"$f":"SUM(K82,M82,O82)","v":0}]
[]
["S-601",null,null,null,null,null,null,null,null,null,null,null,null,null,null,null,null,"",{"$f":"SUM(L84,N84,P84,R84)","v":0},null,{"$f":"SUM(K84,M84,O84)","v":0},null,null,null,{"$f":"SUM(S84,S86,S85,S87,-AB84)","v":0},null,null,{"$f":"MIN(S84:S87)","v":0}]
["S-602",null,null,null,null,null,null,null,null,null,null,null,null,null,null,null,null,"",{"$f":"SUM(L85,N85,P85,R85)","v":0},null,{"$f":"SUM(K85,M85,O85)","v":0}]
["S-603",null,null,null,null,null,null,null,null,null,null,null,null,null,null,null,null,"",{"$f":"SUM(L86,N86,P86,R86)","v":0},null,{"$f":"SUM(K86,M86,O86)","v":0}]
["S-604",null,null,null,null,null,null,null,null,null,null,null,null,null,null,null,null,"",{"$f":"SUM(L87,N87,P87,R87)","v":0},null,{"$f":"SUM(K87,M87,O87)","v":0}]
[]
["T-601",null,null,null,null,null,null,null,null,null,null,null,null,null,null,null,null,"",{"$f":"SUM(L89,N89,P89,R89)","v":0},null,{"$f":"SUM(K89,M89,O89)","v":0},null,null,null,{"$f":"SUM(S89,S91,S90,S92,-AB89)","v":0},null,null,{"$f":"MIN(S89:S92)","v":0}]
["T-602",null,null,null,null,null,null,null,null,null,null,null,null,null,null,null,null,"",{"$f":"SUM(L90,N90,P90,R90)","v":0},null,{"$f":"SUM(K90,M90,O90)","v":0}]
["T-603",null,null,null,null,null,null,null,null,null,null,null,null,null,null,null,null,"",{"$f":"SUM(L91,N91,P91,R91)","v":0},null,{"$f":"SUM(K91,M91,O91)","v":0}]
["T-604",null,null,null,null,null,null,null,null,null,null,null,null,null,null,null,null,"",{"$f":"SUM(L92,N92,P92,R92)","v":0},null,{"$f":"SUM(K92,M92,O92)","v":0}]
[]
["U-601",null,null,null,null,null,null,null,null,null,null,null,null,null,null,null,null,"",{"$f":"SUM(L94,N94,P94,R94)","v":0},null,{"$f":"SUM(K94,M94,O94)","v":0},null,null,null,{"$f":"SUM(S94,S96,S95,S97,-AB94)","v":0},null,null,{"$f":"MIN(S94:S97)","v":0}]
["U-602",null,null,null,null,null,null,null,null,null,null,null,null,null,null,null,null,"",{"$f":"SUM(L95,N95,P95,R95)","v":0},null,{"$f":"SUM(K95,M95,O95)","v":0}]
["U-603",null,null,null,null,null,null,null,null,null,null,null,null,null,null,null,null,"",{"$f":"SUM(L96,N96,P96,R96)","v":0},null,{"$f":"SUM(K96,M96,O96)","v":0}]
["U-604",null,null,null,null,null,null,null,null,null,null,null,null,null,null,null,null,"",{"$f":"SUM(L97,N97,P97,R97)","v":0},null,{"$f":"SUM(K97,M97,O97)","v":0}]
[]
["V-601",null,null,null,null,null,null,null,null,null,null,null,null,null,null,null,null,"",{"$f":"SUM(L99,N99,P99,R99)","v":0},null,{"$f":"SUM(K99,M99,O99)","v":0},null,null,null,{"$f":"SUM(S99,S101,S100,S102,-AB99)","v":0},null,null,{"$f":"MIN(S99:S102)","v":0}]
["V-602",null,null,null,null,null,null,null,null,null,null,null,null,null,null,null,null,"",{"$f":"SUM(L100,N100,P100,R100)","v":0},null,{"$f":"SUM(K100,M100,O100)","v":0}]
["V-603",null,null,null,null,null,null,null,null,null,null,null,null,null,null,null,null,"",{"$f":"SUM(L101,N101,P101,R101)","v":0},null,{"$f":"SUM(K101,M101,O101)","v":0}]
["V-604",null,null,null,null,null,null,null,null,null,null,null,null,null,null,null,null,"",{"$f":"SUM(L102,N102,P102,R102)","v":0},null,{"$f":"SUM(K102,M102,O102)","v":0}]
[]
["W-601",null,null,null,null,null,null,null,null,null,null,null,null,null,null,null,null,"",{"$f":"SUM(L104,N104,P104,R104)","v":0},null,{"$f":"SUM(K104,M104,O104)","v":0},null,null,null,{"$f":"SUM(S104,S106,S105,S107,-AB104)","v":0},null,null,{"$f":"MIN(S104:S107)","v":0}]
["W-602",null,null,null,null,null,null,null,null,null,null,null,null,null,null,null,null,"",{"$f":"SUM(L105,N105,P105,R105)","v":0},null,{"$f":"SUM(K105,M105,O105)","v":0}]
["W-603",null,null,null,null,null,null,null,null,null,null,null,null,null,null,null,null,"",{"$f":"SUM(L106,N106,P106,R106)","v":0},null,{"$f":"SUM(K106,M106,O106)","v":0}]
["W-604",null,null,null,null,null,null,null,null,null,null,null,null,null,null,null,null,"",{"$f":"SUM(L107,N107,P107,R107)","v":0},null,{"$f":"SUM(K107,M107,O107)","v":0}]
[]
["X-601",null,null,null,null,null,null,null,null,null,null,null,null,null,null,null,null,"",{"$f":"SUM(L109,N109,P109,R109)","v":0},null,{"$f":"SUM(K109,M109,O109)","v":0},null,null,null,{"$f":"SUM(S109,S111,S110,S112,-AB109)","v":0},null,null,{"$f":"MIN(S109:S112)","v":0}]
["X-602",null,null,null,null,null,null,null,null,null,null,null,null,null,null,null,null,"",{"$f":"SUM(L110,N110,P110,R110)","v":0},null,{"$f":"SUM(K110,M110,O110)","v":0}]
["X-603",null,null,null,null,null,null,null,null,null,null,null,null,null,null,null,null,"",{"$f":"SUM(L111,N111,P111,R111)","v":0},null,{"$f":"SUM(K111,M111,O111)","v":0}]
["X-604",null,null,null,null,null,null,null,null,null,null,null,null,null,null,null,null,"",{"$f":"SUM(L112,N112,P112,R112)","v":0},null,{"$f":"SUM(K112,M112,O112)","v":0}]
[]
["Y-601",null,null,null,null,null,null,null,null,null,null,null,null,null,null,null,null,"",{"$f":"SUM(L114,N114,P114,R114)","v":0},null,{"$f":"SUM(K114,M114,O114)","v":0},null,null,null,{"$f":"SUM(S114,S116,S115,S117,-AB114)","v":0},null,null,{"$f":"MIN(S114:S117)","v":0}]
["Y-602",null,null,null,null,null,null,null,null,null,null,null,null,null,null,null,null,"",{"$f":"SUM(L115,N115,P115,R115)","v":0},null,{"$f":"SUM(K115,M115,O115)","v":0}]
["Y-603",null,null,null,null,null,null,null,null,null,null,null,null,null,null,null,null,"",{"$f":"SUM(L116,N116,P116,R116)","v":0},null,{"$f":"SUM(K116,M116,O116)","v":0}]
["Y-604",null,null,null,null,null,null,null,null,null,null,null,null,null,null,null,null,"",{"$f":"SUM(L117,N117,P117,R117)","v":0},null,{"$f":"SUM(K117,M117,O117)","v":0}]
[]
["Z-601",null,null,null,null,null,null,null,null,null,null,null,null,null,null,null,null,"",{"$f":"SUM(L119,N119,P119,R119)","v":0},null,{"$f":"SUM(K119,M119,O119)","v":0},null,null,null,{"$f":"SUM(S119,S121,S120,S122,-AB119)","v":0},null,null,{"$f":"MIN(S119:S122)","v":0}]
["Z-602",null,null,null,null,null,null,null,null,null,null,null,null,null,null,null,null,"",{"$f":"SUM(L120,N120,P120,R120)","v":0},null,{"$f":"SUM(K120,M120,O120)","v":0}]
["Z-603",null,null,null,null,null,null,null,null,null,null,null,null,null,null,null,null,"",{"$f":"SUM(L121,N121,P121,R121)","v":0},null,{"$f":"SUM(K121,M121,O121)","v":0}]
["Z-604",null,null,null,null,null,null,null,null,null,null,null,null,null,null,null,null,"",{"$f":"SUM(L122,N122,P122,R122)","v":0},null,{"$f":"SUM(K122,M122,O122)","v":0}]
[]
["AA-601",null,null,null,null,null,null,null,null,null,null,null,null,null,null,null,null,"",{"$f":"SUM(L124,N124,P124,R124)","v":0},null,{"$f":"SUM(K124,M124,O124)","v":0},null,null,null,{"$f":"SUM(S124,S126,S125,S127,-AB124)","v":0},null,null,{"$f":"MIN(S124:S127)","v":0}]
["AA-602",null,null,null,null,null,null,null,null,null,null,null,null,null,null,null,null,"",{"$f":"SUM(L125,N125,P125,R125)","v":0},null,{"$f":"SUM(K125,M125,O125)","v":0}]
["AA-603",null,null,null,null,null,null,null,null,null,null,null,null,null,null,null,null,"",{"$f":"SUM(L126,N126,P126,R126)","v":0},null,{"$f":"SUM(K126,M126,O126)","v":0}]
["AA-604",null,null,null,null,null,null,null,null,null,null,null,null,null,null,null,null,"",{"$f":"SUM(L127,N127,P127,R127)","v":0},null,{"$f":"SUM(K127,M127,O127)","v":0}]
[]
["BB-601",null,null,null,null,null,null,null,null,null,null,null,null,null,null,null,null,"",{"$f":"SUM(L129,N129,P129,R129)","v":0},null,{"$f":"SUM(K129,M129,O129)","v":0},null,null,null,{"$f":"SUM(S129,S131,S130,S132,-AB129)","v":0},null,null,{"$f":"MIN(S129:S132)","v":0}]
["BB-602",null,null,null,null,null,null,null,null,null,null,null,null,null,null,null,null,"",{"$f":"SUM(L130,N130,P130,R130)","v":0},null,{"$f":"SUM(K130,M130,O130)","v":0}]
["BB-603",null,null,null,null,null,null,null,null,null,null,null,null,null,null,null,null,"",{"$f":"SUM(L131,N131,P131,R131)","v":0},null,{"$f":"SUM(K131,M131,O131)","v":0}]
["BB-604",null,null,null,null,null,null,null,null,null,null,null,null,null,null,null,null,"",{"$f":"SUM(L132,N132,P132,R132)","v":0},null,{"$f":"SUM(K132,M132,O132)","v":0}]
[]
["CC-601",null,null,null,null,null,null,null,null,null,null,null,null,null,null,null,null,{"$f":"IF(Q134=\"1violation\",-7*1,IF(Q134=\"2violations\",-7*2,IF(Q134=\"3violations\",-7*3,IF(Q134=\"\",\"\"))))","v":""},{"$f":"SUM(L134,N134,P134,R134)","v":0},null,{"$f":"SUM(K134,M134,O134)","v":0},null,null,null,{"$f":"SUM(S134,S136,S135,S137,-AB134)","v":0},null,null,{"$f":"MIN(S134:S137)","v":0}]
["CC-602",null,null,null,null,null,null,null,null,null,null,null,null,null,null,null,null,"",{"$f":"SUM(L135,N135,P135,R135)","v":0},null,{"$f":"SUM(K135,M135,O135)","v":0}]
["CC-603",null,null,null,null,null,null,null,null,null,null,null,null,null,null,null,null,"",{"$f":"SUM(L136,N136,P136,R136)","v":0},null,{"$f":"SUM(K136,M136,O136)","v":0}]
["CC-604",null,null,null,null,null,null,null,null,null,null,null,null,null,null,null,null,"",{"$f":"SUM(L137,N137,P137,R137)","v":0},null,{"$f":"SUM(K137,M137,O137)","v":0}]
[]
["DD-601",null,null,null,null,null,null,null,null,null,null,null,null,null,null,null,null,"",{"$f":"SUM(L139,N139,P139,R139)","v":0},null,{"$f":"SUM(K139,M139,O139)","v":0},null,null,null,{"$f":"SUM(S139,S141,S140,S142,-AB139)","v":0},null,null,{"$f":"MIN(S139:S142)","v":0}]
["DD-602",null,null,null,null,null,null,null,null,null,null,null,null,null,null,null,null,"",{"$f":"SUM(L140,N140,P140,R140)","v":0},null,{"$f":"SUM(K140,M140,O140)","v":0}]
["DD-603",null,null,null,null,null,null,null,null,null,null,null,null,null,null,null,null,"",{"$f":"SUM(L141,N141,P141,R141)","v":0},null,{"$f":"SUM(K141,M141,O141)","v":0}]
["DD-604",null,null,null,null,null,null,null,null,null,null,null,null,null,null,null,null,"",{"$f":"SUM(L142,N142,P142,R142)","v":0},null,{"$f":"SUM(K142,M142,O142)","v":0}]
[]
["EE-601",null,null,null,null,null,null,null,null,null,null,null,null,null,null,null,null,"",{"$f":"SUM(L144,N144,P144,R144)","v":0},null,{"$f":"SUM(K144,M144,O144)","v":0},null,null,null,{"$f":"SUM(S144,S146,S145,S147,-AB144)","v":0},null,null,{"$f":"MIN(S144:S147)","v":0}]
["EE-602",null,null,null,null,null,null,null,null,null,null,null,null,null,null,null,null,"",{"$f":"SUM(L145,N145,P145,R145)","v":0},null,{"$f":"SUM(K145,M145,O145)","v":0}]
["EE-603",null,null,null,null,null,null,null,null,null,null,null,null,null,null,null,null,"",{"$f":"SUM(L146,N146,P146,R146)","v":0},null,{"$f":"SUM(K146,M146,O146)","v":0}]
["EE-604",null,null,null,null,null,null,null,null,null,null,null,null,null,null,null,null,"",{"$f":"SUM(L147,N147,P147,R147)","v":0},null,{"$f":"SUM(K147,M147,O147)","v":0}]
[]
["FF-601",null,null,null,null,null,null,null,null,null,null,null,null,null,null,null,null,"",{"$f":"SUM(L149,N149,P149,R149)","v":0},null,{"$f":"SUM(K149,M149,O149)","v":0},null,null,null,{"$f":"SUM(S149,S151,S150,S152,-AB149)","v":0},null,null,{"$f":"MIN(S149:S152)","v":0}]
["FF-602",null,null,null,null,null,null,null,null,null,null,null,null,null,null,null,null,"",{"$f":"SUM(L150,N150,P150,R150)","v":0},null,{"$f":"SUM(K150,M150,O150)","v":0}]
["FF-603",null,null,null,null,null,null,null,null,null,null,null,null,null,null,null,null,"",{"$f":"SUM(L151,N151,P151,R151)","v":0},null,{"$f":"SUM(K151,M151,O151)","v":0}]
["FF-604",null,null,null,null,null,null,null,null,null,null,null,null,null,null,null,null,"",{"$f":"SUM(L152,N152,P152,R152)","v":0},null,{"$f":"SUM(K152,M152,O152)","v":0}]

{"sheet":"MusicalTheatreMR","index":12,"n_rows":122,"n_cols":14,"rows_kept":122,"cut":false,"hidden":false,"merged":[]}
["Musical Theatre",null,null,null,null,"Finals Medals Round Scores"]
["ID","Column1","Rank","Score","LeaveBlank","MR 1 Rank","MR 1 Score","MR2 Rank","MR 2 Score","MR3 Rank","MR 3 Score","Total MR Rank","Total MR Score","Column2"]
[{"$f":"MusicalTheatre!A12","v":"B-604"},{"$f":"VLOOKUP(Table71012131415[[#This Row],[ID]],MusicalTheatre!A:B,2, FALSE)","v":"(703) Kam Petsche"},{"$f":"MusicalTheatre!U12","v":3},{"$f":"MusicalTheatre!S12","v":75},{"$f":"IF((Table71012131415[[#This Row],[Rank]]+Table71012131415[[#This Row],[Score]])>0,1,0)","v":1},1,24,3,25,4,23,{"$f":"SUM(F3,H3,J3)","v":8},{"$f":"SUM(G3,I3,K3)","v":72},"2nd"]
[{"$f":"MusicalTheatre!A21","v":"D-603"},{"$f":"VLOOKUP(Table71012131415[[#This Row],[ID]],MusicalTheatre!A:B,2, FALSE)","v":"(716) Mary Anderson"},{"$f":"MusicalTheatre!U21","v":5},{"$f":"MusicalTheatre!S21","v":74},{"$f":"IF((Table71012131415[[#This Row],[Rank]]+Table71012131415[[#This Row],[Score]])>0,1,0)","v":1},4,22,1,25,1,25,{"$f":"SUM(F4,H4,J4)","v":6},{"$f":"SUM(G4,I4,K4)","v":72},"1st"]
[{"$f":"MusicalTheatre!A9","v":"B-601"},{"$f":"VLOOKUP(Table71012131415[[#This Row],[ID]],MusicalTheatre!A:B,2, FALSE)","v":"(700) Courtney Houston"},{"$f":"MusicalTheatre!U9","v":5},{"$f":"MusicalTheatre!S9","v":68},{"$f":"IF((Table71012131415[[#This Row],[Rank]]+Table71012131415[[#This Row],[Score]])>0,1,0)","v":1},6,20,6,24,5,21,{"$f":"SUM(F5,H5,J5)","v":17},{"$f":"SUM(G5,I5,K5)","v":65}]
[{"$f":"MusicalTheatre!A11","v":"B-603"},{"$f":"VLOOKUP(Table71012131415[[#This Row],[ID]],MusicalTheatre!A:B,2, FALSE)","v":"(702) Jaren Henrie"},{"$f":"MusicalTheatre!U11","v":6},{"$f":"MusicalTheatre!S11","v":69},{"$f":"IF((Table71012131415[[#This Row],[Rank]]+Table71012131415[[#This Row],[Score]])>0,1,0)","v":1},3,23,4,24,3,23,{"$f":"SUM(F6,H6,J6)","v":10},{"$f":"SUM(G6,I6,K6)","v":70}]
[{"$f":"MusicalTheatre!A4","v":"A-601"},{"$f":"VLOOKUP(Table71012131415[[#This Row],[ID]],MusicalTheatre!A:B,2, FALSE)","v":"(711) Mary C."},{"$f":"MusicalTheatre!U4","v":7},{"$f":"MusicalTheatre!S4","v":70},{"$f":"IF((Table71012131415[[#This Row],[Rank]]+Table71012131415[[#This Row],[Score]])>0,1,0)","v":1},5,22,2,25,2,25,{"$f":"SUM(F7,H7,J7)","v":9},{"$f":"SUM(G7,I7,K7)","v":72},"3rd"]
[{"$f":"MusicalTheatre!A5","v":"A-602"},{"$f":"VLOOKUP(Table71012131415[[#This Row],[ID]],MusicalTheatre!A:B,2, FALSE)","v":"(712) Marcus P."},{"$f":"MusicalTheatre!U5","v":7},{"$f":"MusicalTheatre!S5","v":68},{"$f":"IF((Table71012131415[[#This Row],[Rank]]+Table71012131415[[#This Row],[Score]])>0,1,0)","v":1},2,24,5,24,6,19,{"$f":"SUM(F8,H8,J8)","v":13},{"$f":"SUM(G8,I8,K8)","v":67}]
[{"$f":"MusicalTheatre!A15","v":"C-602"},{"$f":"VLOOKUP(Table71012131415[[#This Row],[ID]],MusicalTheatre!A:B,2, FALSE)","v":"(708) Jackie Leavitt"},{"$f":"MusicalTheatre!U15","v":9},{"$f":"MusicalTheatre!S15","v":67},{"$f":"IF((Table71012131415[[#This Row],[Rank]]+Table71012131415[[#This Row],[Score]])>0,1,0)","v":1},null,null,null,null,null,null,{"$f":"SUM(F9,H9,J9)","v":0},{"$f":"SUM(G9,I9,K9)","v":0}]
[{"$f":"MusicalTheatre!A25","v":"E-602"},{"$f":"VLOOKUP(Table71012131415[[#This Row],[ID]],MusicalTheatre!A:B,2, FALSE)","v":"(705) Hazel Harris"},{"$f":"MusicalTheatre!U25","v":9},{"$f":"MusicalTheatre!S25","v":67},{"$f":"IF((Table71012131415[[#This Row],[Rank]]+Table71012131415[[#This Row],[Score]])>0,1,0)","v":1},null,null,null,null,null,null,{"$f":"SUM(F10,H10,J10)","v":0},{"$f":"SUM(G10,I10,K10)","v":0}]
[{"$f":"MusicalTheatre!A14","v":"C-601"},{"$f":"VLOOKUP(Table71012131415[[#This Row],[ID]],MusicalTheatre!A:B,2, FALSE)","v":"(707) Brooklyn Clark"},{"$f":"MusicalTheatre!U14","v":10},{"$f":"MusicalTheatre!S14","v":65},{"$f":"IF((Table71012131415[[#This Row],[Rank]]+Table71012131415[[#This Row],[Score]])>0,1,0)","v":1},null,null,null,null,null,null,{"$f":"SUM(F11,H11,J11)","v":0},{"$f":"SUM(G11,I11,K11)","v":0}]
[{"$f":"MusicalTheatre!A17","v":"C-604"},{"$f":"VLOOKUP(Table71012131415[[#This Row],[ID]],MusicalTheatre!A:B,2, FALSE)","v":"(710) Kassen Pace"},{"$f":"MusicalTheatre!U17","v":10},{"$f":"MusicalTheatre!S17","v":64},{"$f":"IF((Table71012131415[[#This Row],[Rank]]+Table71012131415[[#This Row],[Score]])>0,1,0)","v":1},null,null,null,null,null,null,{"$f":"SUM(F12,H12,J12)","v":0},{"$f":"SUM(G12,I12,K12)","v":0}]
[{"$f":"MusicalTheatre!A19","v":"D-601"},{"$f":"VLOOKUP(Table71012131415[[#This Row],[ID]],MusicalTheatre!A:B,2, FALSE)","v":"(706) Melinda Grimstead"},{"$f":"MusicalTheatre!U19","v":10},{"$f":"MusicalTheatre!S19","v":61},{"$f":"IF((Table71012131415[[#This Row],[Rank]]+Table71012131415[[#This Row],[Score]])>0,1,0)","v":1},null,null,null,null,null,null,{"$f":"SUM(F13,H13,J13)","v":0},{"$f":"SUM(G13,I13,K13)","v":0}]
[{"$f":"MusicalTheatre!A24","v":"E-601"},{"$f":"VLOOKUP(Table71012131415[[#This Row],[ID]],MusicalTheatre!A:B,2, FALSE)","v":"(704) Alex Osterhout"},{"$f":"MusicalTheatre!U24","v":10},{"$f":"MusicalTheatre!S24","v":58},{"$f":"IF((Table71012131415[[#This Row],[Rank]]+Table71012131415[[#This Row],[Score]])>0,1,0)","v":1},null,null,null,null,null,null,{"$f":"SUM(F14,H14,J14)","v":0},{"$f":"SUM(G14,I14,K14)","v":0}]
[{"$f":"MusicalTheatre!A6","v":"A-603"},{"$f":"VLOOKUP(Table71012131415[[#This Row],[ID]],MusicalTheatre!A:B,2, FALSE)","v":"(713) Sarah B."},{"$f":"MusicalTheatre!U6","v":11},{"$f":"MusicalTheatre!S6","v":62},{"$f":"IF((Table71012131415[[#This Row],[Rank]]+Table71012131415[[#This Row],[Score]])>0,1,0)","v":1},null,null,null,null,null,null,{"$f":"SUM(F15,H15,J15)","v":0},{"$f":"SUM(G15,I15,K15)","v":0}]
[{"$f":"MusicalTheatre!A10","v":"B-602"},{"$f":"VLOOKUP(Table71012131415[[#This Row],[ID]],MusicalTheatre!A:B,2, FALSE)","v":"(701) Chynna Anderson"},{"$f":"MusicalTheatre!U10","v":12},{"$f":"MusicalTheatre!S10","v":66},{"$f":"IF((Table71012131415[[#This Row],[Rank]]+Table71012131415[[#This Row],[Score]])>0,1,0)","v":1},null,null,null,null,null,null,{"$f":"SUM(F16,H16,J16)","v":0},{"$f":"SUM(G16,I16,K16)","v":0}]
[{"$f":"MusicalTheatre!A39","v":"H-601"},{"$f":"VLOOKUP(Table71012131415[[#This Row],[ID]],MusicalTheatre!A:B,2, FALSE)","v":"(715) Yudnely Avelar"},{"$f":"MusicalTheatre!U39","v":12},{"$f":"MusicalTheatre!S39","v":64},{"$f":"IF((Table71012131415[[#This Row],[Rank]]+Table71012131415[[#This Row],[Score]])>0,1,0)","v":1},null,null,null,null,null,null,{"$f":"SUM(F17,H17,J17)","v":0},{"$f":"SUM(G17,I17,K17)","v":0}]
[{"$f":"MusicalTheatre!A20","v":"D-602"},{"$f":"VLOOKUP(Table71012131415[[#This Row],[ID]],MusicalTheatre!A:B,2, FALSE)","v":"(714) Eloisa Thornock"},{"$f":"MusicalTheatre!U20","v":12},{"$f":"MusicalTheatre!S20","v":59},{"$f":"IF((Table71012131415[[#This Row],[Rank]]+Table71012131415[[#This Row],[Score]])>0,1,0)","v":1},null,null,null,null,null,null,{"$f":"SUM(F18,H18,J18)","v":0},{"$f":"SUM(G18,I18,K18)","v":0}]
[{"$f":"MusicalTheatre!A16","v":"C-603"},{"$f":"VLOOKUP(Table71012131415[[#This Row],[ID]],MusicalTheatre!A:B,2, FALSE)","v":"(709) C.J. Torgerson"},{"$f":"MusicalTheatre!U16","v":0},{"$f":"MusicalTheatre!S16","v":0},{"$f":"IF((Table71012131415[[#This Row],[Rank]]+Table71012131415[[#This Row],[Score]])>0,1,0)","v":0},null,null,null,null,null,null,{"$f":"SUM(F19,H19,J19)","v":0},{"$f":"SUM(G19,I19,K19)","v":0}]
[{"$f":"MusicalTheatre!A7","v":"A-604"},{"$f":"VLOOKUP(Table71012131415[[#This Row],[ID]],MusicalTheatre!A:B,2, FALSE)","v":0},{"$f":"MusicalTheatre!U7","v":0},{"$f":"MusicalTheatre!S7","v":0},{"$f":"IF((Table71012131415[[#This Row],[Rank]]+Table71012131415[[#This Row],[Score]])>0,1,0)","v":0},null,null,null,null,null,null,{"$f":"SUM(F20,H20,J20)","v":0},{"$f":"SUM(G20,I20,K20)","v":0}]
[{"$f":"MusicalTheatre!A124","v":"AA-601"},{"$f":"VLOOKUP(Table71012131415[[#This Row],[ID]],MusicalTheatre!A:B,2, FALSE)","v":0},{"$f":"MusicalTheatre!U124","v":0},{"$f":"MusicalTheatre!S124","v":0},{"$f":"IF((Table71012131415[[#This Row],[Rank]]+Table71012131415[[#This Row],[Score]])>0,1,0)","v":0},null,null,null,null,null,null,{"$f":"SUM(F21,H21,J21)","v":0},{"$f":"SUM(G21,I21,K21)","v":0}]
[{"$f":"MusicalTheatre!A125","v":"AA-602"},{"$f":"VLOOKUP(Table71012131415[[#This Row],[ID]],MusicalTheatre!A:B,2, FALSE)","v":0},{"$f":"MusicalTheatre!U125","v":0},{"$f":"MusicalTheatre!S125","v":0},{"$f":"IF((Table71012131415[[#This Row],[Rank]]+Table71012131415[[#This Row],[Score]])>0,1,0)","v":0},null,null,null,null,null,null,{"$f":"SUM(F22,H22,J22)","v":0},{"$f":"SUM(G22,I22,K22)","v":0}]
[{"$f":"MusicalTheatre!A126","v":"AA-603"},{"$f":"VLOOKUP(Table71012131415[[#This Row],[ID]],MusicalTheatre!A:B,2, FALSE)","v":0},{"$f":"MusicalTheatre!U126","v":0},{"$f":"MusicalTheatre!S126","v":0},{"$f":"IF((Table71012131415[[#This Row],[Rank]]+Table71012131415[[#This Row],[Score]])>0,1,0)","v":0},null,null,null,null,null,null,{"$f":"SUM(F23,H23,J23)","v":0},{"$f":"SUM(G23,I23,K23)","v":0}]
[{"$f":"MusicalTheatre!A127","v":"AA-604"},{"$f":"VLOOKUP(Table71012131415[[#This Row],[ID]],MusicalTheatre!A:B,2, FALSE)","v":0},{"$f":"MusicalTheatre!U127","v":0},{"$f":"MusicalTheatre!S127","v":0},{"$f":"IF((Table71012131415[[#This Row],[Rank]]+Table71012131415[[#This Row],[Score]])>0,1,0)","v":0},null,null,null,null,null,null,{"$f":"SUM(F24,H24,J24)","v":0},{"$f":"SUM(G24,I24,K24)","v":0}]
[{"$f":"MusicalTheatre!A129","v":"BB-601"},{"$f":"VLOOKUP(Table71012131415[[#This Row],[ID]],MusicalTheatre!A:B,2, FALSE)","v":0},{"$f":"MusicalTheatre!U129","v":0},{"$f":"MusicalTheatre!S129","v":0},{"$f":"IF((Table71012131415[[#This Row],[Rank]]+Table71012131415[[#This Row],[Score]])>0,1,0)","v":0},null,null,null,null,null,null,{"$f":"SUM(F25,H25,J25)","v":0},{"$f":"SUM(G25,I25,K25)","v":0}]
[{"$f":"MusicalTheatre!A130","v":"BB-602"},{"$f":"VLOOKUP(Table71012131415[[#This Row],[ID]],MusicalTheatre!A:B,2, FALSE)","v":0},{"$f":"MusicalTheatre!U130","v":0},{"$f":"MusicalTheatre!S130","v":0},{"$f":"IF((Table71012131415[[#This Row],[Rank]]+Table71012131415[[#This Row],[Score]])>0,1,0)","v":0},null,null,null,null,null,null,{"$f":"SUM(F26,H26,J26)","v":0},{"$f":"SUM(G26,I26,K26)","v":0}]
[{"$f":"MusicalTheatre!A131","v":"BB-603"},{"$f":"VLOOKUP(Table71012131415[[#This Row],[ID]],MusicalTheatre!A:B,2, FALSE)","v":0},{"$f":"MusicalTheatre!U131","v":0},{"$f":"MusicalTheatre!S131","v":0},{"$f":"IF((Table71012131415[[#This Row],[Rank]]+Table71012131415[[#This Row],[Score]])>0,1,0)","v":0},null,null,null,null,null,null,{"$f":"SUM(F27,H27,J27)","v":0},{"$f":"SUM(G27,I27,K27)","v":0}]
[{"$f":"MusicalTheatre!A132","v":"BB-604"},{"$f":"VLOOKUP(Table71012131415[[#This Row],[ID]],MusicalTheatre!A:B,2, FALSE)","v":0},{"$f":"MusicalTheatre!U132","v":0},{"$f":"MusicalTheatre!S132","v":0},{"$f":"IF((Table71012131415[[#This Row],[Rank]]+Table71012131415[[#This Row],[Score]])>0,1,0)","v":0},null,null,null,null,null,null,{"$f":"SUM(F28,H28,J28)","v":0},{"$f":"SUM(G28,I28,K28)","v":0}]
[{"$f":"MusicalTheatre!A134","v":"CC-601"},{"$f":"VLOOKUP(Table71012131415[[#This Row],[ID]],MusicalTheatre!A:B,2, FALSE)","v":0},{"$f":"MusicalTheatre!U134","v":0},{"$f":"MusicalTheatre!S134","v":0},{"$f":"IF((Table71012131415[[#This Row],[Rank]]+Table71012131415[[#This Row],[Score]])>0,1,0)","v":0},null,null,null,null,null,null,{"$f":"SUM(F29,H29,J29)","v":0},{"$f":"SUM(G29,I29,K29)","v":0}]
[{"$f":"MusicalTheatre!A135","v":"CC-602"},{"$f":"VLOOKUP(Table71012131415[[#This Row],[ID]],MusicalTheatre!A:B,2, FALSE)","v":0},{"$f":"MusicalTheatre!U135","v":0},{"$f":"MusicalTheatre!S135","v":0},{"$f":"IF((Table71012131415[[#This Row],[Rank]]+Table71012131415[[#This Row],[Score]])>0,1,0)","v":0},null,null,null,null,null,null,{"$f":"SUM(F30,H30,J30)","v":0},{"$f":"SUM(G30,I30,K30)","v":0}]
[{"$f":"MusicalTheatre!A136","v":"CC-603"},{"$f":"VLOOKUP(Table71012131415[[#This Row],[ID]],MusicalTheatre!A:B,2, FALSE)","v":0},{"$f":"MusicalTheatre!U136","v":0},{"$f":"MusicalTheatre!S136","v":0},{"$f":"IF((Table71012131415[[#This Row],[Rank]]+Table71012131415[[#This Row],[Score]])>0,1,0)","v":0},null,null,null,null,null,null,{"$f":"SUM(F31,H31,J31)","v":0},{"$f":"SUM(G31,I31,K31)","v":0}]
[{"$f":"MusicalTheatre!A137","v":"CC-604"},{"$f":"VLOOKUP(Table71012131415[[#This Row],[ID]],MusicalTheatre!A:B,2, FALSE)","v":0},{"$f":"MusicalTheatre!U137","v":0},{"$f":"MusicalTheatre!S137","v":0},{"$f":"IF((Table71012131415[[#This Row],[Rank]]+Table71012131415[[#This Row],[Score]])>0,1,0)","v":0},null,null,null,null,null,null,{"$f":"SUM(F32,H32,J32)","v":0},{"$f":"SUM(G32,I32,K32)","v":0}]
[{"$f":"MusicalTheatre!A22","v":"D-604"},{"$f":"VLOOKUP(Table71012131415[[#This Row],[ID]],MusicalTheatre!A:B,2, FALSE)","v":0},{"$f":"MusicalTheatre!U22","v":0},{"$f":"MusicalTheatre!S22","v":0},{"$f":"IF((Table71012131415[[#This Row],[Rank]]+Table71012131415[[#This Row],[Score]])>0,1,0)","v":0},null,null,null,null,null,null,{"$f":"SUM(F33,H33,J33)","v":0},{"$f":"SUM(G33,I33,K33)","v":0}]
[{"$f":"MusicalTheatre!A139","v":"DD-601"},{"$f":"VLOOKUP(Table71012131415[[#This Row],[ID]],MusicalTheatre!A:B,2, FALSE)","v":0},{"$f":"MusicalTheatre!U139","v":0},{"$f":"MusicalTheatre!S139","v":0},{"$f":"IF((Table71012131415[[#This Row],[Rank]]+Table71012131415[[#This Row],[Score]])>0,1,0)","v":0},null,null,null,null,null,null,{"$f":"SUM(F34,H34,J34)","v":0},{"$f":"SUM(G34,I34,K34)","v":0}]
[{"$f":"MusicalTheatre!A140","v":"DD-602"},{"$f":"VLOOKUP(Table71012131415[[#This Row],[ID]],MusicalTheatre!A:B,2, FALSE)","v":0},{"$f":"MusicalTheatre!U140","v":0},{"$f":"MusicalTheatre!S140","v":0},{"$f":"IF((Table71012131415[[#This Row],[Rank]]+Table71012131415[[#This Row],[Score]])>0,1,0)","v":0},null,null,null,null,null,null,{"$f":"SUM(F35,H35,J35)","v":0},{"$f":"SUM(G35,I35,K35)","v":0}]
[{"$f":"MusicalTheatre!A141","v":"DD-603"},{"$f":"VLOOKUP(Table71012131415[[#This Row],[ID]],MusicalTheatre!A:B,2, FALSE)","v":0},{"$f":"MusicalTheatre!U141","v":0},{"$f":"MusicalTheatre!S141","v":0},{"$f":"IF((Table71012131415[[#This Row],[Rank]]+Table71012131415[[#This Row],[Score]])>0,1,0)","v":0},null,null,null,null,null,null,{"$f":"SUM(F36,H36,J36)","v":0},{"$f":"SUM(G36,I36,K36)","v":0}]
[{"$f":"MusicalTheatre!A142","v":"DD-604"},{"$f":"VLOOKUP(Table71012131415[[#This Row],[ID]],MusicalTheatre!A:B,2, FALSE)","v":0},{"$f":"MusicalTheatre!U142","v":0},{"$f":"MusicalTheatre!S142","v":0},{"$f":"IF((Table71012131415[[#This Row],[Rank]]+Table71012131415[[#This Row],[Score]])>0,1,0)","v":0},null,null,null,null,null,null,{"$f":"SUM(F37,H37,J37)","v":0},{"$f":"SUM(G37,I37,K37)","v":0}]
[{"$f":"MusicalTheatre!A26","v":"E-603"},{"$f":"VLOOKUP(Table71012131415[[#This Row],[ID]],MusicalTheatre!A:B,2, FALSE)","v":0},{"$f":"MusicalTheatre!U26","v":0},{"$f":"MusicalTheatre!S26","v":0},{"$f":"IF((Table71012131415[[#This Row],[Rank]]+Table71012131415[[#This Row],[Score]])>0,1,0)","v":0},null,null,null,null,null,null,{"$f":"SUM(F38,H38,J38)","v":0},{"$f":"SUM(G38,I38,K38)","v":0}]
[{"$f":"MusicalTheatre!A27","v":"E-604"},{"$f":"VLOOKUP(Table71012131415[[#This Row],[ID]],MusicalTheatre!A:B,2, FALSE)","v":0},{"$f":"MusicalTheatre!U27","v":0},{"$f":"MusicalTheatre!S27","v":0},{"$f":"IF((Table71012131415[[#This Row],[Rank]]+Table71012131415[[#This Row],[Score]])>0,1,0)","v":0},null,null,null,null,null,null,{"$f":"SUM(F39,H39,J39)","v":0},{"$f":"SUM(G39,I39,K39)","v":0}]
[{"$f":"MusicalTheatre!A144","v":"EE-601"},{"$f":"VLOOKUP(Table71012131415[[#This Row],[ID]],MusicalTheatre!A:B,2, FALSE)","v":0},{"$f":"MusicalTheatre!U144","v":0},{"$f":"MusicalTheatre!S144","v":0},{"$f":"IF((Table71012131415[[#This Row],[Rank]]+Table71012131415[[#This Row],[Score]])>0,1,0)","v":0},null,null,null,null,null,null,{"$f":"SUM(F40,H40,J40)","v":0},{"$f":"SUM(G40,I40,K40)","v":0}]
[{"$f":"MusicalTheatre!A145","v":"EE-602"},{"$f":"VLOOKUP(Table71012131415[[#This Row],[ID]],MusicalTheatre!A:B,2, FALSE)","v":0},{"$f":"MusicalTheatre!U145","v":0},{"$f":"MusicalTheatre!S145","v":0},{"$f":"IF((Table71012131415[[#This Row],[Rank]]+Table71012131415[[#This Row],[Score]])>0,1,0)","v":0},null,null,null,null,null,null,{"$f":"SUM(F41,H41,J41)","v":0},{"$f":"SUM(G41,I41,K41)","v":0}]
[{"$f":"MusicalTheatre!A146","v":"EE-603"},{"$f":"VLOOKUP(Table71012131415[[#This Row],[ID]],MusicalTheatre!A:B,2, FALSE)","v":0},{"$f":"MusicalTheatre!U146","v":0},{"$f":"MusicalTheatre!S146","v":0},{"$f":"IF((Table71012131415[[#This Row],[Rank]]+Table71012131415[[#This Row],[Score]])>0,1,0)","v":0},null,null,null,null,null,null,{"$f":"SUM(F42,H42,J42)","v":0},{"$f":"SUM(G42,I42,K42)","v":0}]
[{"$f":"MusicalTheatre!A147","v":"EE-604"},{"$f":"VLOOKUP(Table71012131415[[#This Row],[ID]],MusicalTheatre!A:B,2, FALSE)","v":0},{"$f":"MusicalTheatre!U147","v":0},{"$f":"MusicalTheatre!S147","v":0},{"$f":"IF((Table71012131415[[#This Row],[Rank]]+Table71012131415[[#This Row],[Score]])>0,1,0)","v":0},null,null,null,null,null,null,{"$f":"SUM(F43,H43,J43)","v":0},{"$f":"SUM(G43,I43,K43)","v":0}]
[{"$f":"MusicalTheatre!A29","v":"F-601"},{"$f":"VLOOKUP(Table71012131415[[#This Row],[ID]],MusicalTheatre!A:B,2, FALSE)","v":0},{"$f":"MusicalTheatre!U29","v":0},{"$f":"MusicalTheatre!S29","v":0},{"$f":"IF((Table71012131415[[#This Row],[Rank]]+Table71012131415[[#This Row],[Score]])>0,1,0)","v":0},null,null,null,null,null,null,{"$f":"SUM(F44,H44,J44)","v":0},{"$f":"SUM(G44,I44,K44)","v":0}]
[{"$f":"MusicalTheatre!A30","v":"F-602"},{"$f":"VLOOKUP(Table71012131415[[#This Row],[ID]],MusicalTheatre!A:B,2, FALSE)","v":0},{"$f":"MusicalTheatre!U30","v":0},{"$f":"MusicalTheatre!S30","v":0},{"$f":"IF((Table71012131415[[#This Row],[Rank]]+Table71012131415[[#This Row],[Score]])>0,1,0)","v":0},null,null,null,null,null,null,{"$f":"SUM(F45,H45,J45)","v":0},{"$f":"SUM(G45,I45,K45)","v":0}]
[{"$f":"MusicalTheatre!A31","v":"F-603"},{"$f":"VLOOKUP(Table71012131415[[#This Row],[ID]],MusicalTheatre!A:B,2, FALSE)","v":0},{"$f":"MusicalTheatre!U31","v":0},{"$f":"MusicalTheatre!S31","v":0},{"$f":"IF((Table71012131415[[#This Row],[Rank]]+Table71012131415[[#This Row],[Score]])>0,1,0)","v":0},null,null,null,null,null,null,{"$f":"SUM(F46,H46,J46)","v":0},{"$f":"SUM(G46,I46,K46)","v":0}]
[{"$f":"MusicalTheatre!A32","v":"F-604"},{"$f":"VLOOKUP(Table71012131415[[#This Row],[ID]],MusicalTheatre!A:B,2, FALSE)","v":0},{"$f":"MusicalTheatre!U32","v":0},{"$f":"MusicalTheatre!S32","v":0},{"$f":"IF((Table71012131415[[#This Row],[Rank]]+Table71012131415[[#This Row],[Score]])>0,1,0)","v":0},null,null,null,null,null,null,{"$f":"SUM(F47,H47,J47)","v":0},{"$f":"SUM(G47,I47,K47)","v":0}]
[{"$f":"MusicalTheatre!A149","v":"FF-601"},{"$f":"VLOOKUP(Table71012131415[[#This Row],[ID]],MusicalTheatre!A:B,2, FALSE)","v":0},{"$f":"MusicalTheatre!U149","v":0},{"$f":"MusicalTheatre!S149","v":0},{"$f":"IF((Table71012131415[[#This Row],[Rank]]+Table71012131415[[#This Row],[Score]])>0,1,0)","v":0},null,null,null,null,null,null,{"$f":"SUM(F48,H48,J48)","v":0},{"$f":"SUM(G48,I48,K48)","v":0}]
[{"$f":"MusicalTheatre!A150","v":"FF-602"},{"$f":"VLOOKUP(Table71012131415[[#This Row],[ID]],MusicalTheatre!A:B,2, FALSE)","v":0},{"$f":"MusicalTheatre!U150","v":0},{"$f":"MusicalTheatre!S150","v":0},{"$f":"IF((Table71012131415[[#This Row],[Rank]]+Table71012131415[[#This Row],[Score]])>0,1,0)","v":0},null,null,null,null,null,null,{"$f":"SUM(F49,H49,J49)","v":0},{"$f":"SUM(G49,I49,K49)","v":0}]
[{"$f":"MusicalTheatre!A151","v":"FF-603"},{"$f":"VLOOKUP(Table71012131415[[#This Row],[ID]],MusicalTheatre!A:B,2, FALSE)","v":0},{"$f":"MusicalTheatre!U151","v":0},{"$f":"MusicalTheatre!S151","v":0},{"$f":"IF((Table71012131415[[#This Row],[Rank]]+Table71012131415[[#This Row],[Score]])>0,1,0)","v":0},null,null,null,null,null,null,{"$f":"SUM(F50,H50,J50)","v":0},{"$f":"SUM(G50,I50,K50)","v":0}]
[{"$f":"MusicalTheatre!A152","v":"FF-604"},{"$f":"VLOOKUP(Table71012131415[[#This Row],[ID]],MusicalTheatre!A:B,2, FALSE)","v":0},{"$f":"MusicalTheatre!U152","v":0},{"$f":"MusicalTheatre!S152","v":0},{"$f":"IF((Table71012131415[[#This Row],[Rank]]+Table71012131415[[#This Row],[Score]])>0,1,0)","v":0},null,null,null,null,null,null,{"$f":"SUM(F51,H51,J51)","v":0},{"$f":"SUM(G51,I51,K51)","v":0}]
[{"$f":"MusicalTheatre!A34","v":"G-601"},{"$f":"VLOOKUP(Table71012131415[[#This Row],[ID]],MusicalTheatre!A:B,2, FALSE)","v":0},{"$f":"MusicalTheatre!U34","v":0},{"$f":"MusicalTheatre!S34","v":0},{"$f":"IF((Table71012131415[[#This Row],[Rank]]+Table71012131415[[#This Row],[Score]])>0,1,0)","v":0},null,null,null,null,null,null,{"$f":"SUM(F52,H52,J52)","v":0},{"$f":"SUM(G52,I52,K52)","v":0}]
[{"$f":"MusicalTheatre!A35","v":"G-602"},{"$f":"VLOOKUP(Table71012131415[[#This Row],[ID]],MusicalTheatre!A:B,2, FALSE)","v":0},{"$f":"MusicalTheatre!U35","v":0},{"$f":"MusicalTheatre!S35","v":0},{"$f":"IF((Table71012131415[[#This Row],[Rank]]+Table71012131415[[#This Row],[Score]])>0,1,0)","v":0},null,null,null,null,null,null,{"$f":"SUM(F53,H53,J53)","v":0},{"$f":"SUM(G53,I53,K53)","v":0}]
[{"$f":"MusicalTheatre!A36","v":"G-603"},{"$f":"VLOOKUP(Table71012131415[[#This Row],[ID]],MusicalTheatre!A:B,2, FALSE)","v":0},{"$f":"MusicalTheatre!U36","v":0},{"$f":"MusicalTheatre!S36","v":0},{"$f":"IF((Table71012131415[[#This Row],[Rank]]+Table71012131415[[#This Row],[Score]])>0,1,0)","v":0},null,null,null,null,null,null,{"$f":"SUM(F54,H54,J54)","v":0},{"$f":"SUM(G54,I54,K54)","v":0}]
[{"$f":"MusicalTheatre!A37","v":"G-604"},{"$f":"VLOOKUP(Table71012131415[[#This Row],[ID]],MusicalTheatre!A:B,2, FALSE)","v":0},{"$f":"MusicalTheatre!U37","v":0},{"$f":"MusicalTheatre!S37","v":0},{"$f":"IF((Table71012131415[[#This Row],[Rank]]+Table71012131415[[#This Row],[Score]])>0,1,0)","v":0},null,null,null,null,null,null,{"$f":"SUM(F55,H55,J55)","v":0},{"$f":"SUM(G55,I55,K55)","v":0}]
[{"$f":"MusicalTheatre!A40","v":"H-602"},{"$f":"VLOOKUP(Table71012131415[[#This Row],[ID]],MusicalTheatre!A:B,2, FALSE)","v":0},{"$f":"MusicalTheatre!U40","v":0},{"$f":"MusicalTheatre!S40","v":0},{"$f":"IF((Table71012131415[[#This Row],[Rank]]+Table71012131415[[#This Row],[Score]])>0,1,0)","v":0},null,null,null,null,null,null,{"$f":"SUM(F56,H56,J56)","v":0},{"$f":"SUM(G56,I56,K56)","v":0}]
[{"$f":"MusicalTheatre!A41","v":"H-603"},{"$f":"VLOOKUP(Table71012131415[[#This Row],[ID]],MusicalTheatre!A:B,2, FALSE)","v":0},{"$f":"MusicalTheatre!U41","v":0},{"$f":"MusicalTheatre!S41","v":0},{"$f":"IF((Table71012131415[[#This Row],[Rank]]+Table71012131415[[#This Row],[Score]])>0,1,0)","v":0},null,null,null,null,null,null,{"$f":"SUM(F57,H57,J57)","v":0},{"$f":"SUM(G57,I57,K57)","v":0}]
[{"$f":"MusicalTheatre!A42","v":"H-604"},{"$f":"VLOOKUP(Table71012131415[[#This Row],[ID]],MusicalTheatre!A:B,2, FALSE)","v":0},{"$f":"MusicalTheatre!U42","v":0},{"$f":"MusicalTheatre!S42","v":0},{"$f":"IF((Table71012131415[[#This Row],[Rank]]+Table71012131415[[#This Row],[Score]])>0,1,0)","v":0},null,null,null,null,null,null,{"$f":"SUM(F58,H58,J58)","v":0},{"$f":"SUM(G58,I58,K58)","v":0}]
[{"$f":"MusicalTheatre!A44","v":"J-601"},{"$f":"VLOOKUP(Table71012131415[[#This Row],[ID]],MusicalTheatre!A:B,2, FALSE)","v":0},{"$f":"MusicalTheatre!U44","v":0},{"$f":"MusicalTheatre!S44","v":0},{"$f":"IF((Table71012131415[[#This Row],[Rank]]+Table71012131415[[#This Row],[Score]])>0,1,0)","v":0},null,null,null,null,null,null,{"$f":"SUM(F59,H59,J59)","v":0},{"$f":"SUM(G59,I59,K59)","v":0}]
[{"$f":"MusicalTheatre!A45","v":"J-602"},{"$f":"VLOOKUP(Table71012131415[[#This Row],[ID]],MusicalTheatre!A:B,2, FALSE)","v":0},{"$f":"MusicalTheatre!U45","v":0},{"$f":"MusicalTheatre!S45","v":0},{"$f":"IF((Table71012131415[[#This Row],[Rank]]+Table71012131415[[#This Row],[Score]])>0,1,0)","v":0},null,null,null,null,null,null,{"$f":"SUM(F60,H60,J60)","v":0},{"$f":"SUM(G60,I60,K60)","v":0}]
[{"$f":"MusicalTheatre!A46","v":"J-603"},{"$f":"VLOOKUP(Table71012131415[[#This Row],[ID]],MusicalTheatre!A:B,2, FALSE)","v":0},{"$f":"MusicalTheatre!U46","v":0},{"$f":"MusicalTheatre!S46","v":0},{"$f":"IF((Table71012131415[[#This Row],[Rank]]+Table71012131415[[#This Row],[Score]])>0,1,0)","v":0},null,null,null,null,null,null,{"$f":"SUM(F61,H61,J61)","v":0},{"$f":"SUM(G61,I61,K61)","v":0}]
[{"$f":"MusicalTheatre!A47","v":"J-604"},{"$f":"VLOOKUP(Table71012131415[[#This Row],[ID]],MusicalTheatre!A:B,2, FALSE)","v":0},{"$f":"MusicalTheatre!U47","v":0},{"$f":"MusicalTheatre!S47","v":0},{"$f":"IF((Table71012131415[[#This Row],[Rank]]+Table71012131415[[#This Row],[Score]])>0,1,0)","v":0},null,null,null,null,null,null,{"$f":"SUM(F62,H62,J62)","v":0},{"$f":"SUM(G62,I62,K62)","v":0}]
[{"$f":"MusicalTheatre!A49","v":"K-601"},{"$f":"VLOOKUP(Table71012131415[[#This Row],[ID]],MusicalTheatre!A:B,2, FALSE)","v":0},{"$f":"MusicalTheatre!U49","v":0},{"$f":"MusicalTheatre!S49","v":0},{"$f":"IF((Table71012131415[[#This Row],[Rank]]+Table71012131415[[#This Row],[Score]])>0,1,0)","v":0},null,null,null,null,null,null,{"$f":"SUM(F63,H63,J63)","v":0},{"$f":"SUM(G63,I63,K63)","v":0}]
[{"$f":"MusicalTheatre!A50","v":"K-602"},{"$f":"VLOOKUP(Table71012131415[[#This Row],[ID]],MusicalTheatre!A:B,2, FALSE)","v":0},{"$f":"MusicalTheatre!U50","v":0},{"$f":"MusicalTheatre!S50","v":0},{"$f":"IF((Table71012131415[[#This Row],[Rank]]+Table71012131415[[#This Row],[Score]])>0,1,0)","v":0},null,null,null,null,null,null,{"$f":"SUM(F64,H64,J64)","v":0},{"$f":"SUM(G64,I64,K64)","v":0}]
[{"$f":"MusicalTheatre!A51","v":"K-603"},{"$f":"VLOOKUP(Table71012131415[[#This Row],[ID]],MusicalTheatre!A:B,2, FALSE)","v":0},{"$f":"MusicalTheatre!U51","v":0},{"$f":"MusicalTheatre!S51","v":0},{"$f":"IF((Table71012131415[[#This Row],[Rank]]+Table71012131415[[#This Row],[Score]])>0,1,0)","v":0},null,null,null,null,null,null,{"$f":"SUM(F65,H65,J65)","v":0},{"$f":"SUM(G65,I65,K65)","v":0}]
[{"$f":"MusicalTheatre!A52","v":"K-604"},{"$f":"VLOOKUP(Table71012131415[[#This Row],[ID]],MusicalTheatre!A:B,2, FALSE)","v":0},{"$f":"MusicalTheatre!U52","v":0},{"$f":"MusicalTheatre!S52","v":0},{"$f":"IF((Table71012131415[[#This Row],[Rank]]+Table71012131415[[#This Row],[Score]])>0,1,0)","v":0},null,null,null,null,null,null,{"$f":"SUM(F66,H66,J66)","v":0},{"$f":"SUM(G66,I66,K66)","v":0}]
[{"$f":"MusicalTheatre!A54","v":"L-601"},{"$f":"VLOOKUP(Table71012131415[[#This Row],[ID]],MusicalTheatre!A:B,2, FALSE)","v":0},{"$f":"MusicalTheatre!U54","v":0},{"$f":"MusicalTheatre!S54","v":0},{"$f":"IF((Table71012131415[[#This Row],[Rank]]+Table71012131415[[#This Row],[Score]])>0,1,0)","v":0},null,null,null,null,null,null,{"$f":"SUM(F67,H67,J67)","v":0},{"$f":"SUM(G67,I67,K67)","v":0}]
[{"$f":"MusicalTheatre!A55","v":"L-602"},{"$f":"VLOOKUP(Table71012131415[[#This Row],[ID]],MusicalTheatre!A:B,2, FALSE)","v":0},{"$f":"MusicalTheatre!U55","v":0},{"$f":"MusicalTheatre!S55","v":0},{"$f":"IF((Table71012131415[[#This Row],[Rank]]+Table71012131415[[#This Row],[Score]])>0,1,0)","v":0},null,null,null,null,null,null,{"$f":"SUM(F68,H68,J68)","v":0},{"$f":"SUM(G68,I68,K68)","v":0}]
[{"$f":"MusicalTheatre!A56","v":"L-603"},{"$f":"VLOOKUP(Table71012131415[[#This Row],[ID]],MusicalTheatre!A:B,2, FALSE)","v":0},{"$f":"MusicalTheatre!U56","v":0},{"$f":"MusicalTheatre!S56","v":0},{"$f":"IF((Table71012131415[[#This Row],[Rank]]+Table71012131415[[#This Row],[Score]])>0,1,0)","v":0},null,null,null,null,null,null,{"$f":"SUM(F69,H69,J69)","v":0},{"$f":"SUM(G69,I69,K69)","v":0}]
[{"$f":"MusicalTheatre!A57","v":"L-604"},{"$f":"VLOOKUP(Table71012131415[[#This Row],[ID]],MusicalTheatre!A:B,2, FALSE)","v":0},{"$f":"MusicalTheatre!U57","v":0},{"$f":"MusicalTheatre!S57","v":0},{"$f":"IF((Table71012131415[[#This Row],[Rank]]+Table71012131415[[#This Row],[Score]])>0,1,0)","v":0},null,null,null,null,null,null,{"$f":"SUM(F70,H70,J70)","v":0},{"$f":"SUM(G70,I70,K70)","v":0}]
[{"$f":"MusicalTheatre!A59","v":"M-601"},{"$f":"VLOOKUP(Table71012131415[[#This Row],[ID]],MusicalTheatre!A:B,2, FALSE)","v":0},{"$f":"MusicalTheatre!U59","v":0},{"$f":"MusicalTheatre!S59","v":0},{"$f":"IF((Table71012131415[[#This Row],[Rank]]+Table71012131415[[#This Row],[Score]])>0,1,0)","v":0},null,null,null,null,null,null,{"$f":"SUM(F71,H71,J71)","v":0},{"$f":"SUM(G71,I71,K71)","v":0}]
[{"$f":"MusicalTheatre!A60","v":"M-602"},{"$f":"VLOOKUP(Table71012131415[[#This Row],[ID]],MusicalTheatre!A:B,2, FALSE)","v":0},{"$f":"MusicalTheatre!U60","v":0},{"$f":"MusicalTheatre!S60","v":0},{"$f":"IF((Table71012131415[[#This Row],[Rank]]+Table71012131415[[#This Row],[Score]])>0,1,0)","v":0},null,null,null,null,null,null,{"$f":"SUM(F72,H72,J72)","v":0},{"$f":"SUM(G72,I72,K72)","v":0}]
[{"$f":"MusicalTheatre!A61","v":"M-603"},{"$f":"VLOOKUP(Table71012131415[[#This Row],[ID]],MusicalTheatre!A:B,2, FALSE)","v":0},{"$f":"MusicalTheatre!U61","v":0},{"$f":"MusicalTheatre!S61","v":0},{"$f":"IF((Table71012131415[[#This Row],[Rank]]+Table71012131415[[#This Row],[Score]])>0,1,0)","v":0},null,null,null,null,null,null,{"$f":"SUM(F73,H73,J73)","v":0},{"$f":"SUM(G73,I73,K73)","v":0}]
[{"$f":"MusicalTheatre!A62","v":"M-604"},{"$f":"VLOOKUP(Table71012131415[[#This Row],[ID]],MusicalTheatre!A:B,2, FALSE)","v":0},{"$f":"MusicalTheatre!U62","v":0},{"$f":"MusicalTheatre!S62","v":0},{"$f":"IF((Table71012131415[[#This Row],[Rank]]+Table71012131415[[#This Row],[Score]])>0,1,0)","v":0},null,null,null,null,null,null,{"$f":"SUM(F74,H74,J74)","v":0},{"$f":"SUM(G74,I74,K74)","v":0}]
[{"$f":"MusicalTheatre!A64","v":"N-601"},{"$f":"VLOOKUP(Table71012131415[[#This Row],[ID]],MusicalTheatre!A:B,2, FALSE)","v":0},{"$f":"MusicalTheatre!U64","v":0},{"$f":"MusicalTheatre!S64","v":0},{"$f":"IF((Table71012131415[[#This Row],[Rank]]+Table71012131415[[#This Row],[Score]])>0,1,0)","v":0},null,null,null,null,null,null,{"$f":"SUM(F75,H75,J75)","v":0},{"$f":"SUM(G75,I75,K75)","v":0}]
[{"$f":"MusicalTheatre!A65","v":"N-602"},{"$f":"VLOOKUP(Table71012131415[[#This Row],[ID]],MusicalTheatre!A:B,2, FALSE)","v":0},{"$f":"MusicalTheatre!U65","v":0},{"$f":"MusicalTheatre!S65","v":0},{"$f":"IF((Table71012131415[[#This Row],[Rank]]+Table71012131415[[#This Row],[Score]])>0,1,0)","v":0},null,null,null,null,null,null,{"$f":"SUM(F76,H76,J76)","v":0},{"$f":"SUM(G76,I76,K76)","v":0}]
[{"$f":"MusicalTheatre!A66","v":"N-603"},{"$f":"VLOOKUP(Table71012131415[[#This Row],[ID]],MusicalTheatre!A:B,2, FALSE)","v":0},{"$f":"MusicalTheatre!U66","v":0},{"$f":"MusicalTheatre!S66","v":0},{"$f":"IF((Table71012131415[[#This Row],[Rank]]+Table71012131415[[#This Row],[Score]])>0,1,0)","v":0},null,null,null,null,null,null,{"$f":"SUM(F77,H77,J77)","v":0},{"$f":"SUM(G77,I77,K77)","v":0}]
[{"$f":"MusicalTheatre!A67","v":"N-604"},{"$f":"VLOOKUP(Table71012131415[[#This Row],[ID]],MusicalTheatre!A:B,2, FALSE)","v":0},{"$f":"MusicalTheatre!U67","v":0},{"$f":"MusicalTheatre!S67","v":0},{"$f":"IF((Table71012131415[[#This Row],[Rank]]+Table71012131415[[#This Row],[Score]])>0,1,0)","v":0},null,null,null,null,null,null,{"$f":"SUM(F78,H78,J78)","v":0},{"$f":"SUM(G78,I78,K78)","v":0}]
[{"$f":"MusicalTheatre!A69","v":"P-601"},{"$f":"VLOOKUP(Table71012131415[[#This Row],[ID]],MusicalTheatre!A:B,2, FALSE)","v":0},{"$f":"MusicalTheatre!U69","v":0},{"$f":"MusicalTheatre!S69","v":0},{"$f":"IF((Table71012131415[[#This Row],[Rank]]+Table71012131415[[#This Row],[Score]])>0,1,0)","v":0},null,null,null,null,null,null,{"$f":"SUM(F79,H79,J79)","v":0},{"$f":"SUM(G79,I79,K79)","v":0}]
[{"$f":"MusicalTheatre!A70","v":"P-602"},{"$f":"VLOOKUP(Table71012131415[[#This Row],[ID]],MusicalTheatre!A:B,2, FALSE)","v":0},{"$f":"MusicalTheatre!U70","v":0},{"$f":"MusicalTheatre!S70","v":0},{"$f":"IF((Table71012131415[[#This Row],[Rank]]+Table71012131415[[#This Row],[Score]])>0,1,0)","v":0},null,null,null,null,null,null,{"$f":"SUM(F80,H80,J80)","v":0},{"$f":"SUM(G80,I80,K80)","v":0}]
[{"$f":"MusicalTheatre!A71","v":"P-603"},{"$f":"VLOOKUP(Table71012131415[[#This Row],[ID]],MusicalTheatre!A:B,2, FALSE)","v":0},{"$f":"MusicalTheatre!U71","v":0},{"$f":"MusicalTheatre!S71","v":0},{"$f":"IF((Table71012131415[[#This Row],[Rank]]+Table71012131415[[#This Row],[Score]])>0,1,0)","v":0},null,null,null,null,null,null,{"$f":"SUM(F81,H81,J81)","v":0},{"$f":"SUM(G81,I81,K81)","v":0}]
[{"$f":"MusicalTheatre!A72","v":"P-604"},{"$f":"VLOOKUP(Table71012131415[[#This Row],[ID]],MusicalTheatre!A:B,2, FALSE)","v":0},{"$f":"MusicalTheatre!U72","v":0},{"$f":"MusicalTheatre!S72","v":0},{"$f":"IF((Table71012131415[[#This Row],[Rank]]+Table71012131415[[#This Row],[Score]])>0,1,0)","v":0},null,null,null,null,null,null,{"$f":"SUM(F82,H82,J82)","v":0},{"$f":"SUM(G82,I82,K82)","v":0}]
[{"$f":"MusicalTheatre!A74","v":"Q-601"},{"$f":"VLOOKUP(Table71012131415[[#This Row],[ID]],MusicalTheatre!A:B,2, FALSE)","v":0},{"$f":"MusicalTheatre!U74","v":0},{"$f":"MusicalTheatre!S74","v":0},{"$f":"IF((Table71012131415[[#This Row],[Rank]]+Table71012131415[[#This Row],[Score]])>0,1,0)","v":0},null,null,null,null,null,null,{"$f":"SUM(F83,H83,J83)","v":0},{"$f":"SUM(G83,I83,K83)","v":0}]
[{"$f":"MusicalTheatre!A75","v":"Q-602"},{"$f":"VLOOKUP(Table71012131415[[#This Row],[ID]],MusicalTheatre!A:B,2, FALSE)","v":0},{"$f":"MusicalTheatre!U75","v":0},{"$f":"MusicalTheatre!S75","v":0},{"$f":"IF((Table71012131415[[#This Row],[Rank]]+Table71012131415[[#This Row],[Score]])>0,1,0)","v":0},null,null,null,null,null,null,{"$f":"SUM(F84,H84,J84)","v":0},{"$f":"SUM(G84,I84,K84)","v":0}]
[{"$f":"MusicalTheatre!A76","v":"Q-603"},{"$f":"VLOOKUP(Table71012131415[[#This Row],[ID]],MusicalTheatre!A:B,2, FALSE)","v":0},{"$f":"MusicalTheatre!U76","v":0},{"$f":"MusicalTheatre!S76","v":0},{"$f":"IF((Table71012131415[[#This Row],[Rank]]+Table71012131415[[#This Row],[Score]])>0,1,0)","v":0},null,null,null,null,null,null,{"$f":"SUM(F85,H85,J85)","v":0},{"$f":"SUM(G85,I85,K85)","v":0}]
[{"$f":"MusicalTheatre!A77","v":"Q-604"},{"$f":"VLOOKUP(Table71012131415[[#This Row],[ID]],MusicalTheatre!A:B,2, FALSE)","v":0},{"$f":"MusicalTheatre!U77","v":0},{"$f":"MusicalTheatre!S77","v":0},{"$f":"IF((Table71012131415[[#This Row],[Rank]]+Table71012131415[[#This Row],[Score]])>0,1,0)","v":0},null,null,null,null,null,null,{"$f":"SUM(F86,H86,J86)","v":0},{"$f":"SUM(G86,I86,K86)","v":0}]
[{"$f":"MusicalTheatre!A79","v":"R-601"},{"$f":"VLOOKUP(Table71012131415[[#This Row],[ID]],MusicalTheatre!A:B,2, FALSE)","v":0},{"$f":"MusicalTheatre!U79","v":0},{"$f":"MusicalTheatre!S79","v":0},{"$f":"IF((Table71012131415[[#This Row],[Rank]]+Table71012131415[[#This Row],[Score]])>0,1,0)","v":0},null,null,null,null,null,null,{"$f":"SUM(F87,H87,J87)","v":0},{"$f":"SUM(G87,I87,K87)","v":0}]
[{"$f":"MusicalTheatre!A80","v":"R-602"},{"$f":"VLOOKUP(Table71012131415[[#This Row],[ID]],MusicalTheatre!A:B,2, FALSE)","v":0},{"$f":"MusicalTheatre!U80","v":0},{"$f":"MusicalTheatre!S80","v":0},{"$f":"IF((Table71012131415[[#This Row],[Rank]]+Table71012131415[[#This Row],[Score]])>0,1,0)","v":0},null,null,null,null,null,null,{"$f":"SUM(F88,H88,J88)","v":0},{"$f":"SUM(G88,I88,K88)","v":0}]
[{"$f":"MusicalTheatre!A81","v":"R-603"},{"$f":"VLOOKUP(Table71012131415[[#This Row],[ID]],MusicalTheatre!A:B,2, FALSE)","v":0},{"$f":"MusicalTheatre!U81","v":0},{"$f":"MusicalTheatre!S81","v":0},{"$f":"IF((Table71012131415[[#This Row],[Rank]]+Table71012131415[[#This Row],[Score]])>0,1,0)","v":0},null,null,null,null,null,null,{"$f":"SUM(F89,H89,J89)","v":0},{"$f":"SUM(G89,I89,K89)","v":0}]
[{"$f":"MusicalTheatre!A82","v":"R-604"},{"$f":"VLOOKUP(Table71012131415[[#This Row],[ID]],MusicalTheatre!A:B,2, FALSE)","v":0},{"$f":"MusicalTheatre!U82","v":0},{"$f":"MusicalTheatre!S82","v":0},{"$f":"IF((Table71012131415[[#This Row],[Rank]]+Table71012131415[[#This Row],[Score]])>0,1,0)","v":0},null,null,null,null,null,null,{"$f":"SUM(F90,H90,J90)","v":0},{"$f":"SUM(G90,I90,K90)","v":0}]
[{"$f":"MusicalTheatre!A84","v":"S-601"},{"$f":"VLOOKUP(Table71012131415[[#This Row],[ID]],MusicalTheatre!A:B,2, FALSE)","v":0},{"$f":"MusicalTheatre!U84","v":0},{"$f":"MusicalTheatre!S84","v":0},{"$f":"IF((Table71012131415[[#This Row],[Rank]]+Table71012131415[[#This Row],[Score]])>0,1,0)","v":0},null,null,null,null,null,null,{"$f":"SUM(F91,H91,J91)","v":0},{"$f":"SUM(G91,I91,K91)","v":0}]
[{"$f":"MusicalTheatre!A85","v":"S-602"},{"$f":"VLOOKUP(Table71012131415[[#This Row],[ID]],MusicalTheatre!A:B,2, FALSE)","v":0},{"$f":"MusicalTheatre!U85","v":0},{"$f":"MusicalTheatre!S85","v":0},{"$f":"IF((Table71012131415[[#This Row],[Rank]]+Table71012131415[[#This Row],[Score]])>0,1,0)","v":0},null,null,null,null,null,null,{"$f":"SUM(F92,H92,J92)","v":0},{"$f":"SUM(G92,I92,K92)","v":0}]
[{"$f":"MusicalTheatre!A86","v":"S-603"},{"$f":"VLOOKUP(Table71012131415[[#This Row],[ID]],MusicalTheatre!A:B,2, FALSE)","v":0},{"$f":"MusicalTheatre!U86","v":0},{"$f":"MusicalTheatre!S86","v":0},{"$f":"IF((Table71012131415[[#This Row],[Rank]]+Table71012131415[[#This Row],[Score]])>0,1,0)","v":0},null,null,null,null,null,null,{"$f":"SUM(F93,H93,J93)","v":0},{"$f":"SUM(G93,I93,K93)","v":0}]
[{"$f":"MusicalTheatre!A87","v":"S-604"},{"$f":"VLOOKUP(Table71012131415[[#This Row],[ID]],MusicalTheatre!A:B,2, FALSE)","v":0},{"$f":"MusicalTheatre!U87","v":0},{"$f":"MusicalTheatre!S87","v":0},{"$f":"IF((Table71012131415[[#This Row],[Rank]]+Table71012131415[[#This Row],[Score]])>0,1,0)","v":0},null,null,null,null,null,null,{"$f":"SUM(F94,H94,J94)","v":0},{"$f":"SUM(G94,I94,K94)","v":0}]
[{"$f":"MusicalTheatre!A89","v":"T-601"},{"$f":"VLOOKUP(Table71012131415[[#This Row],[ID]],MusicalTheatre!A:B,2, FALSE)","v":0},{"$f":"MusicalTheatre!U89","v":0},{"$f":"MusicalTheatre!S89","v":0},{"$f":"IF((Table71012131415[[#This Row],[Rank]]+Table71012131415[[#This Row],[Score]])>0,1,0)","v":0},null,null,null,null,null,null,{"$f":"SUM(F95,H95,J95)","v":0},{"$f":"SUM(G95,I95,K95)","v":0}]
[{"$f":"MusicalTheatre!A90","v":"T-602"},{"$f":"VLOOKUP(Table71012131415[[#This Row],[ID]],MusicalTheatre!A:B,2, FALSE)","v":0},{"$f":"MusicalTheatre!U90","v":0},{"$f":"MusicalTheatre!S90","v":0},{"$f":"IF((Table71012131415[[#This Row],[Rank]]+Table71012131415[[#This Row],[Score]])>0,1,0)","v":0},null,null,null,null,null,null,{"$f":"SUM(F96,H96,J96)","v":0},{"$f":"SUM(G96,I96,K96)","v":0}]
[{"$f":"MusicalTheatre!A91","v":"T-603"},{"$f":"VLOOKUP(Table71012131415[[#This Row],[ID]],MusicalTheatre!A:B,2, FALSE)","v":0},{"$f":"MusicalTheatre!U91","v":0},{"$f":"MusicalTheatre!S91","v":0},{"$f":"IF((Table71012131415[[#This Row],[Rank]]+Table71012131415[[#This Row],[Score]])>0,1,0)","v":0},null,null,null,null,null,null,{"$f":"SUM(F97,H97,J97)","v":0},{"$f":"SUM(G97,I97,K97)","v":0}]
[{"$f":"MusicalTheatre!A92","v":"T-604"},{"$f":"VLOOKUP(Table71012131415[[#This Row],[ID]],MusicalTheatre!A:B,2, FALSE)","v":0},{"$f":"MusicalTheatre!U92","v":0},{"$f":"MusicalTheatre!S92","v":0},{"$f":"IF((Table71012131415[[#This Row],[Rank]]+Table71012131415[[#This Row],[Score]])>0,1,0)","v":0},null,null,null,null,null,null,{"$f":"SUM(F98,H98,J98)","v":0},{"$f":"SUM(G98,I98,K98)","v":0}]
[{"$f":"MusicalTheatre!A94","v":"U-601"},{"$f":"VLOOKUP(Table71012131415[[#This Row],[ID]],MusicalTheatre!A:B,2, FALSE)","v":0},{"$f":"MusicalTheatre!U94","v":0},{"$f":"MusicalTheatre!S94","v":0},{"$f":"IF((Table71012131415[[#This Row],[Rank]]+Table71012131415[[#This Row],[Score]])>0,1,0)","v":0},null,null,null,null,null,null,{"$f":"SUM(F99,H99,J99)","v":0},{"$f":"SUM(G99,I99,K99)","v":0}]
[{"$f":"MusicalTheatre!A95","v":"U-602"},{"$f":"VLOOKUP(Table71012131415[[#This Row],[ID]],MusicalTheatre!A:B,2, FALSE)","v":0},{"$f":"MusicalTheatre!U95","v":0},{"$f":"MusicalTheatre!S95","v":0},{"$f":"IF((Table71012131415[[#This Row],[Rank]]+Table71012131415[[#This Row],[Score]])>0,1,0)","v":0},null,null,null,null,null,null,{"$f":"SUM(F100,H100,J100)","v":0},{"$f":"SUM(G100,I100,K100)","v":0}]
[{"$f":"MusicalTheatre!A96","v":"U-603"},{"$f":"VLOOKUP(Table71012131415[[#This Row],[ID]],MusicalTheatre!A:B,2, FALSE)","v":0},{"$f":"MusicalTheatre!U96","v":0},{"$f":"MusicalTheatre!S96","v":0},{"$f":"IF((Table71012131415[[#This Row],[Rank]]+Table71012131415[[#This Row],[Score]])>0,1,0)","v":0},null,null,null,null,null,null,{"$f":"SUM(F101,H101,J101)","v":0},{"$f":"SUM(G101,I101,K101)","v":0}]
[{"$f":"MusicalTheatre!A97","v":"U-604"},{"$f":"VLOOKUP(Table71012131415[[#This Row],[ID]],MusicalTheatre!A:B,2, FALSE)","v":0},{"$f":"MusicalTheatre!U97","v":0},{"$f":"MusicalTheatre!S97","v":0},{"$f":"IF((Table71012131415[[#This Row],[Rank]]+Table71012131415[[#This Row],[Score]])>0,1,0)","v":0},null,null,null,null,null,null,{"$f":"SUM(F102,H102,J102)","v":0},{"$f":"SUM(G102,I102,K102)","v":0}]
[{"$f":"MusicalTheatre!A99","v":"V-601"},{"$f":"VLOOKUP(Table71012131415[[#This Row],[ID]],MusicalTheatre!A:B,2, FALSE)","v":0},{"$f":"MusicalTheatre!U99","v":0},{"$f":"MusicalTheatre!S99","v":0},{"$f":"IF((Table71012131415[[#This Row],[Rank]]+Table71012131415[[#This Row],[Score]])>0,1,0)","v":0},null,null,null,null,null,null,{"$f":"SUM(F103,H103,J103)","v":0},{"$f":"SUM(G103,I103,K103)","v":0}]
[{"$f":"MusicalTheatre!A100","v":"V-602"},{"$f":"VLOOKUP(Table71012131415[[#This Row],[ID]],MusicalTheatre!A:B,2, FALSE)","v":0},{"$f":"MusicalTheatre!U100","v":0},{"$f":"MusicalTheatre!S100","v":0},{"$f":"IF((Table71012131415[[#This Row],[Rank]]+Table71012131415[[#This Row],[Score]])>0,1,0)","v":0},null,null,null,null,null,null,{"$f":"SUM(F104,H104,J104)","v":0},{"$f":"SUM(G104,I104,K104)","v":0}]
[{"$f":"MusicalTheatre!A101","v":"V-603"},{"$f":"VLOOKUP(Table71012131415[[#This Row],[ID]],MusicalTheatre!A:B,2, FALSE)","v":0},{"$f":"MusicalTheatre!U101","v":0},{"$f":"MusicalTheatre!S101","v":0},{"$f":"IF((Table71012131415[[#This Row],[Rank]]+Table71012131415[[#This Row],[Score]])>0,1,0)","v":0},null,null,null,null,null,null,{"$f":"SUM(F105,H105,J105)","v":0},{"$f":"SUM(G105,I105,K105)","v":0}]
[{"$f":"MusicalTheatre!A102","v":"V-604"},{"$f":"VLOOKUP(Table71012131415[[#This Row],[ID]],MusicalTheatre!A:B,2, FALSE)","v":0},{"$f":"MusicalTheatre!U102","v":0},{"$f":"MusicalTheatre!S102","v":0},{"$f":"IF((Table71012131415[[#This Row],[Rank]]+Table71012131415[[#This Row],[Score]])>0,1,0)","v":0},null,null,null,null,null,null,{"$f":"SUM(F106,H106,J106)","v":0},{"$f":"SUM(G106,I106,K106)","v":0}]
[{"$f":"MusicalTheatre!A104","v":"W-601"},{"$f":"VLOOKUP(Table71012131415[[#This Row],[ID]],MusicalTheatre!A:B,2, FALSE)","v":0},{"$f":"MusicalTheatre!U104","v":0},{"$f":"MusicalTheatre!S104","v":0},{"$f":"IF((Table71012131415[[#This Row],[Rank]]+Table71012131415[[#This Row],[Score]])>0,1,0)","v":0},null,null,null,null,null,null,{"$f":"SUM(F107,H107,J107)","v":0},{"$f":"SUM(G107,I107,K107)","v":0}]
[{"$f":"MusicalTheatre!A105","v":"W-602"},{"$f":"VLOOKUP(Table71012131415[[#This Row],[ID]],MusicalTheatre!A:B,2, FALSE)","v":0},{"$f":"MusicalTheatre!U105","v":0},{"$f":"MusicalTheatre!S105","v":0},{"$f":"IF((Table71012131415[[#This Row],[Rank]]+Table71012131415[[#This Row],[Score]])>0,1,0)","v":0},null,null,null,null,null,null,{"$f":"SUM(F108,H108,J108)","v":0},{"$f":"SUM(G108,I108,K108)","v":0}]
[{"$f":"MusicalTheatre!A106","v":"W-603"},{"$f":"VLOOKUP(Table71012131415[[#This Row],[ID]],MusicalTheatre!A:B,2, FALSE)","v":0},{"$f":"MusicalTheatre!U106","v":0},{"$f":"MusicalTheatre!S106","v":0},{"$f":"IF((Table71012131415[[#This Row],[Rank]]+Table71012131415[[#This Row],[Score]])>0,1,0)","v":0},null,null,null,null,null,null,{"$f":"SUM(F109,H109,J109)","v":0},{"$f":"SUM(G109,I109,K109)","v":0}]
[{"$f":"MusicalTheatre!A107","v":"W-604"},{"$f":"VLOOKUP(Table71012131415[[#This Row],[ID]],MusicalTheatre!A:B,2, FALSE)","v":0},{"$f":"MusicalTheatre!U107","v":0},{"$f":"MusicalTheatre!S107","v":0},{"$f":"IF((Table71012131415[[#This Row],[Rank]]+Table71012131415[[#This Row],[Score]])>0,1,0)","v":0},null,null,null,null,null,null,{"$f":"SUM(F110,H110,J110)","v":0},{"$f":"SUM(G110,I110,K110)","v":0}]
[{"$f":"MusicalTheatre!A109","v":"X-601"},{"$f":"VLOOKUP(Table71012131415[[#This Row],[ID]],MusicalTheatre!A:B,2, FALSE)","v":0},{"$f":"MusicalTheatre!U109","v":0},{"$f":"MusicalTheatre!S109","v":0},{"$f":"IF((Table71012131415[[#This Row],[Rank]]+Table71012131415[[#This Row],[Score]])>0,1,0)","v":0},null,null,null,null,null,null,{"$f":"SUM(F111,H111,J111)","v":0},{"$f":"SUM(G111,I111,K111)","v":0}]
[{"$f":"MusicalTheatre!A110","v":"X-602"},{"$f":"VLOOKUP(Table71012131415[[#This Row],[ID]],MusicalTheatre!A:B,2, FALSE)","v":0},{"$f":"MusicalTheatre!U110","v":0},{"$f":"MusicalTheatre!S110","v":0},{"$f":"IF((Table71012131415[[#This Row],[Rank]]+Table71012131415[[#This Row],[Score]])>0,1,0)","v":0},null,null,null,null,null,null,{"$f":"SUM(F112,H112,J112)","v":0},{"$f":"SUM(G112,I112,K112)","v":0}]
[{"$f":"MusicalTheatre!A111","v":"X-603"},{"$f":"VLOOKUP(Table71012131415[[#This Row],[ID]],MusicalTheatre!A:B,2, FALSE)","v":0},{"$f":"MusicalTheatre!U111","v":0},{"$f":"MusicalTheatre!S111","v":0},{"$f":"IF((Table71012131415[[#This Row],[Rank]]+Table71012131415[[#This Row],[Score]])>0,1,0)","v":0},null,null,null,null,null,null,{"$f":"SUM(F113,H113,J113)","v":0},{"$f":"SUM(G113,I113,K113)","v":0}]
[{"$f":"MusicalTheatre!A112","v":"X-604"},{"$f":"VLOOKUP(Table71012131415[[#This Row],[ID]],MusicalTheatre!A:B,2, FALSE)","v":0},{"$f":"MusicalTheatre!U112","v":0},{"$f":"MusicalTheatre!S112","v":0},{"$f":"IF((Table71012131415[[#This Row],[Rank]]+Table71012131415[[#This Row],[Score]])>0,1,0)","v":0},null,null,null,null,null,null,{"$f":"SUM(F114,H114,J114)","v":0},{"$f":"SUM(G114,I114,K114)","v":0}]
[{"$f":"MusicalTheatre!A114","v":"Y-601"},{"$f":"VLOOKUP(Table71012131415[[#This Row],[ID]],MusicalTheatre!A:B,2, FALSE)","v":0},{"$f":"MusicalTheatre!U114","v":0},{"$f":"MusicalTheatre!S114","v":0},{"$f":"IF((Table71012131415[[#This Row],[Rank]]+Table71012131415[[#This Row],[Score]])>0,1,0)","v":0},null,null,null,null,null,null,{"$f":"SUM(F115,H115,J115)","v":0},{"$f":"SUM(G115,I115,K115)","v":0}]
[{"$f":"MusicalTheatre!A115","v":"Y-602"},{"$f":"VLOOKUP(Table71012131415[[#This Row],[ID]],MusicalTheatre!A:B,2, FALSE)","v":0},{"$f":"MusicalTheatre!U115","v":0},{"$f":"MusicalTheatre!S115","v":0},{"$f":"IF((Table71012131415[[#This Row],[Rank]]+Table71012131415[[#This Row],[Score]])>0,1,0)","v":0},null,null,null,null,null,null,{"$f":"SUM(F116,H116,J116)","v":0},{"$f":"SUM(G116,I116,K116)","v":0}]
[{"$f":"MusicalTheatre!A116","v":"Y-603"},{"$f":"VLOOKUP(Table71012131415[[#This Row],[ID]],MusicalTheatre!A:B,2, FALSE)","v":0},{"$f":"MusicalTheatre!U116","v":0},{"$f":"MusicalTheatre!S116","v":0},{"$f":"IF((Table71012131415[[#This Row],[Rank]]+Table71012131415[[#This Row],[Score]])>0,1,0)","v":0},null,null,null,null,null,null,{"$f":"SUM(F117,H117,J117)","v":0},{"$f":"SUM(G117,I117,K117)","v":0}]
[{"$f":"MusicalTheatre!A117","v":"Y-604"},{"$f":"VLOOKUP(Table71012131415[[#This Row],[ID]],MusicalTheatre!A:B,2, FALSE)","v":0},{"$f":"MusicalTheatre!U117","v":0},{"$f":"MusicalTheatre!S117","v":0},{"$f":"IF((Table71012131415[[#This Row],[Rank]]+Table71012131415[[#This Row],[Score]])>0,1,0)","v":0},null,null,null,null,null,null,{"$f":"SUM(F118,H118,J118)","v":0},{"$f":"SUM(G118,I118,K118)","v":0}]
[{"$f":"MusicalTheatre!A119","v":"Z-601"},{"$f":"VLOOKUP(Table71012131415[[#This Row],[ID]],MusicalTheatre!A:B,2, FALSE)","v":0},{"$f":"MusicalTheatre!U119","v":0},{"$f":"MusicalTheatre!S119","v":0},{"$f":"IF((Table71012131415[[#This Row],[Rank]]+Table71012131415[[#This Row],[Score]])>0,1,0)","v":0},null,null,null,null,null,null,{"$f":"SUM(F119,H119,J119)","v":0},{"$f":"SUM(G119,I119,K119)","v":0}]
[{"$f":"MusicalTheatre!A120","v":"Z-602"},{"$f":"VLOOKUP(Table71012131415[[#This Row],[ID]],MusicalTheatre!A:B,2, FALSE)","v":0},{"$f":"MusicalTheatre!U120","v":0},{"$f":"MusicalTheatre!S120","v":0},{"$f":"IF((Table71012131415[[#This Row],[Rank]]+Table71012131415[[#This Row],[Score]])>0,1,0)","v":0},null,null,null,null,null,null,{"$f":"SUM(F120,H120,J120)","v":0},{"$f":"SUM(G120,I120,K120)","v":0}]
[{"$f":"MusicalTheatre!A121","v":"Z-603"},{"$f":"VLOOKUP(Table71012131415[[#This Row],[ID]],MusicalTheatre!A:B,2, FALSE)","v":0},{"$f":"MusicalTheatre!U121","v":0},{"$f":"MusicalTheatre!S121","v":0},{"$f":"IF((Table71012131415[[#This Row],[Rank]]+Table71012131415[[#This Row],[Score]])>0,1,0)","v":0},null,null,null,null,null,null,{"$f":"SUM(F121,H121,J121)","v":0},{"$f":"SUM(G121,I121,K121)","v":0}]
[{"$f":"MusicalTheatre!A122","v":"Z-604"},{"$f":"VLOOKUP(Table71012131415[[#This Row],[ID]],MusicalTheatre!A:B,2, FALSE)","v":0},{"$f":"MusicalTheatre!U122","v":0},{"$f":"MusicalTheatre!S122","v":0},{"$f":"IF((Table71012131415[[#This Row],[Rank]]+Table71012131415[[#This Row],[Score]])>0,1,0)","v":0},null,null,null,null,null,null,{"$f":"SUM(F122,H122,J122)","v":0},{"$f":"SUM(G122,I122,K122)","v":0}]

{"sheet":"One-Acts","index":13,"n_rows":33,"n_cols":35,"rows_kept":33,"cut":false,"hidden":false,"merged":[[0,0,0,8]]}
["ONE-ACTS",null,null,null,null,null,null,null,null,null,"Rank 1-4",null,null,null,null,null,null,null,null,null,null,null,null,null,null,null,null,null,null,"S","E","G","F",null,"1violation"]
[null,null,null,null,null,null,null,null,null,null,"Judge 1",null,"Judge 2",null,"Judge 3"]
[null,"Title of Piece",null,null,null,null,null,null,null,null,"J1 rank","J1 score","J2 rank","J2 score","J3 rank","J3 score",null,null,"TOTAL RANK",null,"TOTAL SCORE",null,"TOTAL SCHOOL SWEEPS POINTS",null,null,"Time Violations"]
["A-701",null,null,null,null,null,null,"\"Bad Auditions by Bad Actors\" DRA",null,null,4,42,2,38,1,48,null,null,{"$f":"SUM(K4,M4,O4)","v":7},null,{"$f":"SUM(L4,N4,P4)","v":128},null,{"$f":"SUM(U4,AA4)","v":128},null,null,null,{"$f":"IF(Z4=\"1violation\",-35*1,IF(Z4=\"2violations\",-35*2,IF(Z4=\"3violations\",-35*3,IF(Z4=\"\",\"\"))))","v":""},"2nd"]
["B-701",null,null,null,null,null,null,"\"Help Desk\" Panquitch",null,null,2,43,1,44,2,45,null,null,5,null,132,null,132,null,null,null,{"$f":"IF(Z5=\"1violation\",-10*1,IF(Z5=\"2violations\",-10*2,IF(Z5=\"3violations\",-10*3,IF(Z5=\"\",\"\"))))","v":""},"1st"]
["C-701",null,null,null,null,null,null,null,null,null,null,null,null,null,null,null,null,null,0,null,0,null,0,null,null,null,""]
["D-701",null,null,null,null,null,null,"\"10 Ways to Survive…\" Tintic",null,null,6,35,5,33,6,40,null,null,17,null,108,null,108,null,null,null,""]
["E-701",null,null,null,null,null,null,"\"Not So Grimm Tales\"  Valley",null,null,1,48,3,35,3,42,null,null,7,null,125,null,125,null,null,null,"","3rd"]
["F-701",null,null,null,null,null,null,"\"How to Suceed H.S. …\" West Desert",null,null,3,44,4,33,4,42,null,null,11,null,119,null,119,null,null,null,""]
["G-701",null,null,null,null,null,null,"\"Death of the Doorstep Kiss\" Tabiona",null,null,5,38,6,31,5,41,null,null,16,null,110,null,110,null,null,null,""]
["H-701",null,null,null,null,null,null,null,null,null,null,null,null,null,null,null,null,null,0,null,0,null,0,null,null,null,""]
["J-701",null,null,null,null,null,null,null,null,null,null,null,null,null,null,null,null,null,0,null,0,null,0,null,null,null,""]
["K-701",null,null,null,null,null,null,null,null,null,null,null,null,null,null,null,null,null,0,null,0,null,0,null,null,null,""]
["L-701",null,null,null,null,null,null,null,null,null,null,null,null,null,null,null,null,null,0,null,0,null,0,null,null,null,""]
["M-701",null,null,null,null,null,null,null,null,null,null,null,null,null,null,null,null,null,0,null,0,null,0,null,null,null,""]
["N-701",null,null,null,null,null,null,null,null,null,null,null,null,null,null,null,null,null,0,null,0,null,0,null,null,null,""]
["P-701",null,null,null,null,null,null,null,null,null,null,null,null,null,null,null,null,null,0,null,0,null,0,null,null,null,""]
["Q-701",null,null,null,null,null,null,null,null,null,null,null,null,null,null,null,null,null,0,null,0,null,0,null,null,null,""]
["R-701",null,null,null,null,null,null,null,null,null,null,null,null,null,null,null,null,null,0,null,0,null,0,null,null,null,""]
["S-701",null,null,null,null,null,null,null,null,null,null,null,null,null,null,null,null,null,0,null,0,null,0,null,null,null,""]
["T-701",null,null,null,null,null,null,null,null,null,null,null,null,null,null,null,null,null,0,null,0,null,0,null,null,null,""]
["U-701",null,null,null,null,null,null,null,null,null,null,null,null,null,null,null,null,null,0,null,0,null,0,null,null,null,""]
["V-701",null,null,null,null,null,null,null,null,null,null,null,null,null,null,null,null,null,0,null,0,null,0,null,null,null,""]
["W-701",null,null,null,null,null,null,null,null,null,null,null,null,null,null,null,null,null,0,null,0,null,0,null,null,null,""]
["X-701",null,null,null,null,null,null,null,null,null,null,null,null,null,null,null,null,null,0,null,0,null,0,null,null,null,""]
["Y-701",null,null,null,null,null,null,null,null,null,null,null,null,null,null,null,null,null,0,null,0,null,0,null,null,null,""]
["Z-701",null,null,null,null,null,null,null,null,null,null,null,null,null,null,null,null,null,0,null,0,null,0,null,null,null,""]
["AA-701",null,null,null,null,null,null,null,null,null,null,null,null,null,null,null,null,null,0,null,0,null,0,null,null,null,""]
["BB-701",null,null,null,null,null,null,null,null,null,null,null,null,null,null,null,null,null,0,null,0,null,0,null,null,null,""]
["CC-701",null,null,null,null,null,null,null,null,null,null,null,null,null,null,null,null,null,0,null,0,null,0,null,null,null,""]
["DD-701",null,null,null,null,null,null,null,null,null,null,null,null,null,null,null,null,null,0,null,0,null,0,null,null,null,""]
["EE-701",null,null,null,null,null,null,null,null,null,null,null,null,null,null,null,null,null,0,null,0,null,0,null,null,null,""]
["FF-701",null,null,null,null,null,null,null,null,null,null,null,null,null,null,null,null,null,0,null,0,null,0,null,null,null,""]

{"sheet":"Sweepstakes","index":14,"n_rows":33,"n_cols":23,"rows_kept":33,"cut":false,"hidden":false,"merged":[]}
["FINAL SWEEPSTAKES SCORES"]
[]
[null,"School Name",null,"HUMOROUS MONOLOGUES",null,null,"DRAMATIC MONOLOGUES",null,null,"CLASSICAL SCENES",null,null,"CONTEMPORARY SCENES",null,null,"PANTOMIMES",null,"MUSICAL THEATRE",null,null,"ONE-ACT",null,"TOTAL"]
["A","Diamond Ranch",null,null,{"$f":"SUM('Humorous Monologues'!Y4)","v":199},null,null,{"$f":"SUM(Dramatic!Y4)","v":204},null,null,{"$f":"SUM(Classical!Y4)","v":185},null,null,{"$f":"SUM(Contemporary!Y4)","v":186},null,{"$f":"SUM(Pantomime!Y4)","v":203},null,{"$f":"SUM(MusicalTheatre!Y4)","v":200},null,null,{"$f":"'One-Acts'!W4","v":128},null,{"$f":"SUM(E4:U4)","v":1305}]
["B","Panguitch",null,null,{"$f":"SUM('Humorous Monologues'!Y9)","v":140},null,null,{"$f":"SUM(Dramatic!Y9)","v":212},null,null,{"$f":"SUM(Classical!Y9)","v":73},null,null,{"$f":"SUM(Contemporary!Y9)","v":121},null,{"$f":"SUM(Pantomime!Y9)","v":58},null,{"$f":"SUM(MusicalTheatre!Y9)","v":212},null,null,{"$f":"'One-Acts'!W5","v":132},null,948]
["C","Wayne",null,null,{"$f":"SUM('Humorous Monologues'!Y14)","v":164},null,null,{"$f":"SUM(Dramatic!Y14)","v":0},null,null,{"$f":"SUM(Classical!Y14)","v":0},null,null,{"$f":"SUM(Contemporary!Y14)","v":0},null,{"$f":"SUM(Pantomime!Y14)","v":70},null,{"$f":"SUM(MusicalTheatre!Y14)","v":196},null,null,{"$f":"'One-Acts'!W6","v":0},null,430]
["D","Tintic",null,null,{"$f":"SUM('Humorous Monologues'!Y19)","v":54},null,null,{"$f":"SUM(Dramatic!Y19)","v":134},null,null,{"$f":"SUM(Classical!Y19)","v":0},null,null,{"$f":"SUM(Contemporary!Y19)","v":126},null,{"$f":"SUM(Pantomime!Y19)","v":0},null,{"$f":"SUM(MusicalTheatre!Y19)","v":194},null,null,{"$f":"'One-Acts'!W7","v":108},null,616]
["E","Valley",null,null,{"$f":"SUM('Humorous Monologues'!Y24)","v":179},null,null,{"$f":"SUM(Dramatic!Y24)","v":0},null,null,{"$f":"SUM(Classical!Y24)","v":0},null,null,{"$f":"SUM(Contemporary!Y24)","v":0},null,{"$f":"SUM(Pantomime!Y24)","v":62},null,{"$f":"SUM(MusicalTheatre!Y24)","v":125},null,null,{"$f":"'One-Acts'!W8","v":125},null,491]
["F","West Desert",null,null,{"$f":"SUM('Humorous Monologues'!Y29)","v":56},null,null,{"$f":"SUM(Dramatic!Y29)","v":70},null,null,{"$f":"SUM(Classical!Y29)","v":0},null,null,{"$f":"SUM(Contemporary!Y29)","v":125},null,{"$f":"SUM(Pantomime!Y29)","v":68},null,{"$f":"SUM(MusicalTheatre!Y29)","v":0},null,null,{"$f":"'One-Acts'!W9","v":119},null,438]
["G","Tabiona",null,null,{"$f":"SUM('Humorous Monologues'!Y34)","v":0},null,null,{"$f":"SUM(Dramatic!Y34)","v":0},null,null,{"$f":"SUM(Classical!Y34)","v":0},null,null,{"$f":"SUM(Contemporary!Y34)","v":60},null,{"$f":"SUM(Pantomime!Y34)","v":60},null,{"$f":"SUM(MusicalTheatre!Y34)","v":0},null,null,{"$f":"'One-Acts'!W10","v":110},null,230]
["H","Eskdale",null,null,{"$f":"SUM('Humorous Monologues'!Y39)","v":0},null,null,{"$f":"SUM(Dramatic!Y39)","v":0},null,null,{"$f":"SUM(Classical!Y39)","v":0},null,null,{"$f":"SUM(Contemporary!Y39)","v":70},null,{"$f":"SUM(Pantomime!Y39)","v":0},null,{"$f":"SUM(MusicalTheatre!Y39)","v":64},null,null,{"$f":"'One-Acts'!W11","v":0},null,134]
["J","Piute",null,null,{"$f":"SUM('Humorous Monologues'!Y44)","v":0},null,null,{"$f":"SUM(Dramatic!Y44)","v":0},null,null,{"$f":"SUM(Classical!Y44)","v":0},null,null,{"$f":"SUM(Contemporary!Y44)","v":72},null,{"$f":"SUM(Pantomime!Y44)","v":0},null,{"$f":"SUM(MusicalTheatre!Y44)","v":0},null,null,{"$f":"'One-Acts'!W12","v":0},null,72]
["K",null,null,null,{"$f":"SUM('Humorous Monologues'!Y49)","v":0},null,null,{"$f":"SUM(Dramatic!Y49)","v":0},null,null,{"$f":"SUM(Classical!Y49)","v":0},null,null,{"$f":"SUM(Contemporary!Y49)","v":0},null,{"$f":"SUM(Pantomime!Y49)","v":0},null,{"$f":"SUM(MusicalTheatre!Y49)","v":0},null,null,{"$f":"'One-Acts'!W13","v":0},null,0]
["L",null,null,null,{"$f":"SUM('Humorous Monologues'!Y54)","v":0},null,null,{"$f":"SUM(Dramatic!Y54)","v":0},null,null,{"$f":"SUM(Classical!Y54)","v":0},null,null,{"$f":"SUM(Contemporary!Y54)","v":0},null,{"$f":"SUM(Pantomime!Y54)","v":0},null,{"$f":"SUM(MusicalTheatre!Y54)","v":0},null,null,{"$f":"'One-Acts'!W14","v":0},null,0]
["M",null,null,null,{"$f":"SUM('Humorous Monologues'!Y59)","v":0},null,null,{"$f":"SUM(Dramatic!Y59)","v":0},null,null,{"$f":"SUM(Classical!Y59)","v":0},null,null,{"$f":"SUM(Contemporary!Y59)","v":0},null,{"$f":"SUM(Pantomime!Y59)","v":0},null,{"$f":"SUM(MusicalTheatre!Y59)","v":0},null,null,{"$f":"'One-Acts'!W15","v":0},null,0]
["N",null,null,null,{"$f":"SUM('Humorous Monologues'!Y64)","v":0},null,null,{"$f":"SUM(Dramatic!Y64)","v":0},null,null,{"$f":"SUM(Classical!Y64)","v":0},null,null,{"$f":"SUM(Contemporary!Y64)","v":0},null,{"$f":"SUM(Pantomime!Y64)","v":0},null,{"$f":"SUM(MusicalTheatre!Y64)","v":0},null,null,{"$f":"'One-Acts'!W16","v":0},null,0]
["P",null,null,null,{"$f":"SUM('Humorous Monologues'!Y69)","v":0},null,null,{"$f":"SUM(Dramatic!Y69)","v":0},null,null,{"$f":"SUM(Classical!Y69)","v":0},null,null,{"$f":"SUM(Contemporary!Y69)","v":0},null,{"$f":"SUM(Pantomime!Y69)","v":0},null,{"$f":"SUM(MusicalTheatre!Y69)","v":0},null,null,{"$f":"'One-Acts'!W17","v":0},null,0]
["Q",null,null,null,{"$f":"SUM('Humorous Monologues'!Y74)","v":0},null,null,{"$f":"SUM(Dramatic!Y74)","v":0},null,null,{"$f":"SUM(Classical!Y74)","v":0},null,null,{"$f":"SUM(Contemporary!Y74)","v":0},null,{"$f":"SUM(Pantomime!Y74)","v":0},null,{"$f":"SUM(MusicalTheatre!Y74)","v":0},null,null,{"$f":"'One-Acts'!W18","v":0},null,0]
["R",null,null,null,{"$f":"SUM('Humorous Monologues'!Y79)","v":0},null,null,{"$f":"SUM(Dramatic!Y79)","v":0},null,null,{"$f":"SUM(Classical!Y79)","v":0},null,null,{"$f":"SUM(Contemporary!Y79)","v":0},null,{"$f":"SUM(Pantomime!Y79)","v":0},null,{"$f":"SUM(MusicalTheatre!Y79)","v":0},null,null,{"$f":"'One-Acts'!W19","v":0},null,0]
["S",null,null,null,{"$f":"SUM('Humorous Monologues'!Y84)","v":0},null,null,{"$f":"SUM(Dramatic!Y84)","v":0},null,null,{"$f":"SUM(Classical!Y84)","v":0},null,null,{"$f":"SUM(Contemporary!Y84)","v":0},null,{"$f":"SUM(Pantomime!Y84)","v":0},null,{"$f":"SUM(MusicalTheatre!Y84)","v":0},null,null,{"$f":"'One-Acts'!W20","v":0},null,0]
["T",null,null,null,{"$f":"SUM('Humorous Monologues'!Y89)","v":0},null,null,{"$f":"SUM(Dramatic!Y89)","v":0},null,null,{"$f":"SUM(Classical!Y89)","v":0},null,null,{"$f":"SUM(Contemporary!Y89)","v":0},null,{"$f":"SUM(Pantomime!Y89)","v":0},null,{"$f":"SUM(MusicalTheatre!Y89)","v":0},null,null,{"$f":"'One-Acts'!W21","v":0},null,0]
["U",null,null,null,{"$f":"SUM('Humorous Monologues'!Y94)","v":0},null,null,{"$f":"SUM(Dramatic!Y94)","v":0},null,null,{"$f":"SUM(Classical!Y94)","v":0},null,null,{"$f":"SUM(Contemporary!Y94)","v":0},null,{"$f":"SUM(Pantomime!Y94)","v":0},null,{"$f":"SUM(MusicalTheatre!Y94)","v":0},null,null,{"$f":"'One-Acts'!W22","v":0},null,0]
["V",null,null,null,{"$f":"SUM('Humorous Monologues'!Y99)","v":0},null,null,{"$f":"SUM(Dramatic!Y99)","v":0},null,null,{"$f":"SUM(Classical!Y99)","v":0},null,null,{"$f":"SUM(Contemporary!Y99)","v":0},null,{"$f":"SUM(Pantomime!Y99)","v":0},null,{"$f":"SUM(MusicalTheatre!Y99)","v":0},null,null,{"$f":"'One-Acts'!W23","v":0},null,0]
["W",null,null,null,{"$f":"SUM('Humorous Monologues'!Y104)","v":0},null,null,{"$f":"SUM(Dramatic!Y104)","v":0},null,null,{"$f":"SUM(Classical!Y104)","v":0},null,null,{"$f":"SUM(Contemporary!Y104)","v":0},null,{"$f":"SUM(Pantomime!Y104)","v":0},null,{"$f":"SUM(MusicalTheatre!Y104)","v":0},null,null,{"$f":"'One-Acts'!W24","v":0},null,0]
["X",null,null,null,{"$f":"SUM('Humorous Monologues'!Y109)","v":0},null,null,{"$f":"SUM(Dramatic!Y109)","v":0},null,null,{"$f":"SUM(Classical!Y109)","v":0},null,null,{"$f":"SUM(Contemporary!Y109)","v":0},null,{"$f":"SUM(Pantomime!Y109)","v":0},null,{"$f":"SUM(MusicalTheatre!Y109)","v":0},null,null,{"$f":"'One-Acts'!W25","v":0},null,0]
["Y",null,null,null,{"$f":"SUM('Humorous Monologues'!Y114)","v":0},null,null,{"$f":"SUM(Dramatic!Y114)","v":0},null,null,{"$f":"SUM(Classical!Y114)","v":0},null,null,{"$f":"SUM(Contemporary!Y114)","v":0},null,{"$f":"SUM(Pantomime!Y114)","v":0},null,{"$f":"SUM(MusicalTheatre!Y114)","v":0},null,null,{"$f":"'One-Acts'!W26","v":0},null,0]
["Z",null,null,null,{"$f":"SUM('Humorous Monologues'!Y119)","v":0},null,null,{"$f":"SUM(Dramatic!Y119)","v":0},null,null,{"$f":"SUM(Classical!Y119)","v":0},null,null,{"$f":"SUM(Contemporary!Y119)","v":0},null,{"$f":"SUM(Pantomime!Y119)","v":0},null,{"$f":"SUM(MusicalTheatre!Y119)","v":0},null,null,{"$f":"'One-Acts'!W27","v":0},null,0]
["AA",null,null,null,{"$f":"SUM('Humorous Monologues'!Y124)","v":0},null,null,{"$f":"SUM(Dramatic!Y124)","v":0},null,null,{"$f":"SUM(Classical!Y124)","v":0},null,null,{"$f":"SUM(Contemporary!Y124)","v":0},null,{"$f":"SUM(Pantomime!Y124)","v":0},null,{"$f":"SUM(MusicalTheatre!Y124)","v":0},null,null,{"$f":"'One-Acts'!W28","v":0},null,0]
["BB",null,null,null,{"$f":"SUM('Humorous Monologues'!Y129)","v":0},null,null,{"$f":"SUM(Dramatic!Y129)","v":0},null,null,{"$f":"SUM(Classical!Y129)","v":0},null,null,{"$f":"SUM(Contemporary!Y129)","v":0},null,{"$f":"SUM(Pantomime!Y129)","v":0},null,{"$f":"SUM(MusicalTheatre!Y129)","v":0},null,null,{"$f":"'One-Acts'!W29","v":0},null,0]
["CC",null,null,null,{"$f":"SUM('Humorous Monologues'!Y134)","v":0},null,null,{"$f":"SUM(Dramatic!Y134)","v":0},null,null,{"$f":"SUM(Classical!Y134)","v":0},null,null,{"$f":"SUM(Contemporary!Y134)","v":0},null,{"$f":"SUM(Pantomime!Y134)","v":0},null,{"$f":"SUM(MusicalTheatre!Y134)","v":0},null,null,{"$f":"'One-Acts'!W30","v":0},null,0]
["DD",null,null,null,{"$f":"SUM('Humorous Monologues'!Y139)","v":0},null,null,{"$f":"SUM(Dramatic!Y139)","v":0},null,null,{"$f":"SUM(Classical!Y139)","v":0},null,null,{"$f":"SUM(Contemporary!Y139)","v":0},null,{"$f":"SUM(Pantomime!Y139)","v":0},null,{"$f":"SUM(MusicalTheatre!Y139)","v":0},null,null,{"$f":"'One-Acts'!W31","v":0},null,0]
["EE",null,null,null,{"$f":"SUM('Humorous Monologues'!Y144)","v":0},null,null,{"$f":"SUM(Dramatic!Y144)","v":0},null,null,{"$f":"SUM(Classical!Y144)","v":0},null,null,{"$f":"SUM(Contemporary!Y144)","v":0},null,{"$f":"SUM(Pantomime!Y144)","v":0},null,{"$f":"SUM(MusicalTheatre!Y144)","v":0},null,null,{"$f":"'One-Acts'!W32","v":0},null,0]
["FF",null,null,null,{"$f":"SUM('Humorous Monologues'!Y149)","v":0},null,null,{"$f":"SUM(Dramatic!Y149)","v":0},null,null,{"$f":"SUM(Classical!Y149)","v":0},null,null,{"$f":"SUM(Contemporary!Y149)","v":0},null,{"$f":"SUM(Pantomime!Y149)","v":0},null,{"$f":"SUM(MusicalTheatre!Y149)","v":0},null,null,{"$f":"'One-Acts'!W33","v":0},null,0]